Felt | Verdi |
AlreadyApplied | True |
Aperture | 8.0 |
ApertureValue | 8.0 |
ApproximateFocusDistance | 29.9 |
Artist | Kenneth Sporsheim |
AutoLateralCA | 0 |
BitsPerSample | 8 |
Blacks2012 | +27 |
BlueHue | 0 |
BlueSaturation | 0 |
Brightness | +50 |
By-line | Kenneth Sporsheim |
CameraProfile | Adobe Standard |
CFAPattern | [Red,Green][Green,Blue] |
CircleOfConfusion | 0.020 mm |
Clarity | 0 |
Clarity2012 | +47 |
ColorComponents | 3 |
ColorMode | RGB |
ColorNoiseReduction | 25 |
ColorNoiseReductionDetail | 50 |
ColorSpace | Uncalibrated |
ColorTemperature | 5750 |
ColorTransform | YCbCr |
Contrast (1) | +25 |
Contrast | Normal |
Contrast2012 | +17 |
ConvertToGrayscale | False |
Copyright | Knut Dreiås |
CopyrightNotice | Knut Dreiås |
CreateDate (1) | 2014:08:03 14:14:10.40 |
CreateDate | 2014:08:03 14:14:10 |
Creator | Kenneth Sporsheim |
CreatorTool | Adobe Photoshop Lightroom 5.3 (Macintosh) |
CropAngle | 0 |
CropBottom | 1 |
CropConstrainToWarp | 0 |
CropLeft | 0.131831 |
CropRight | 0.753755 |
CropTop | 0.388187 |
CustomRendered | Normal |
DateCreated (1) | 2014:08:03 |
DateCreated | 2014:08:03 14:14:10.004 |
DateTimeOriginal | 2014:08:03 14:14:10 |
Defringe | 0 |
DigitalZoomRatio | 1 |
DOF | 1.60 m (29.12 - 30.72 m) |
ExifImageHeight | 2447 |
ExifImageWidth | 3732 |
Exposure | 0.00 |
Exposure2012 | +0.55 |
ExposureCompensation | +1/3 |
ExposureMode | Auto |
ExposureProgram | Aperture-priority AE |
ExposureTime | 1/800 |
FillLight | 0 |
Flash | Off, Did not fire |
FNumber | 8.0 |
FocalLength | 420.0 mm |
FocalLength35efl | 420.0 mm (35 mm equivalent: 630.0 mm) |
FocalLengthIn35mmFormat | 630 mm |
Format | image/jpeg |
FOV | 3.3 deg |
GainControl | None |
GrainAmount | 0 |
GreenHue | 0 |
GreenSaturation | 0 |
HasCrop | True |
HasSettings | True |
HighlightRecovery | 0 |
Highlights2012 | 0 |
HueAdjustmentAqua | 0 |
HueAdjustmentBlue | 0 |
HueAdjustmentGreen | 0 |
HueAdjustmentMagenta | 0 |
HueAdjustmentOrange | 0 |
HueAdjustmentPurple | 0 |
HueAdjustmentRed | 0 |
HueAdjustmentYellow | 0 |
HyperfocalDistance | 1100.80 m |
ICCProfileName | Adobe RGB (1998) |
ImageHeight | 2447 |
ImageNumber | 5982 |
ImageSize | 3732x2447 |
ImageWidth | 3732 |
ISO | 200 |
Keywords | Makrellterne |
Lens | 300.0 mm f/4.0 |
LensID (1) | 106 |
LensID | AF-S Nikkor 300mm f/4D IF-ED |
LensInfo | 300mm f/4 |
LensManualDistortionAmount | 0 |
LensModel | 300.0 mm f/4.0 |
LensProfileEnable | 0 |
LensProfileSetup | LensDefaults |
LightSource | Unknown |
LightValue | 14.6 |
LuminanceAdjustmentAqua | 0 |
LuminanceAdjustmentBlue | 0 |
LuminanceAdjustmentGreen | 0 |
LuminanceAdjustmentMagenta | 0 |
LuminanceAdjustmentOrange | 0 |
LuminanceAdjustmentPurple | 0 |
LuminanceAdjustmentRed | 0 |
LuminanceAdjustmentYellow | 0 |
LuminanceNoiseReductionContrast | 0 |
LuminanceNoiseReductionDetail | 50 |
LuminanceSmoothing | 7 |
Make | NIKON CORPORATION |
MaxApertureValue | 5.7 |
Megapixels | 9.1 |
MeteringMode | Center-weighted average |
Model | NIKON D7100 |
ModifyDate (1) | 2014:08:12 23:27:48+02:00 |
ModifyDate | 2014:08:12 23:27:48 |
Orientation | Horizontal (normal) |
ParametricDarks | 0 |
ParametricHighlights | 0 |
ParametricHighlightSplit | 75 |
ParametricLights | 0 |
ParametricMidtoneSplit | 50 |
ParametricShadows | 0 |
ParametricShadowSplit | 25 |
PerspectiveHorizontal | 0 |
PerspectiveRotate | 0.0 |
PerspectiveScale | 100 |
PerspectiveVertical | 0 |
PostCropVignetteAmount | 0 |
ProcessVersion | 6.7 |
ProfileDescription | Adobe RGB (1998) |
Rating | 0 |
RawFileName | makrellterne-2.dng |
RedHue | 0 |
RedSaturation | 0 |
Rights | Knut Dreiås |
Saturation (1) | 0 |
Saturation | Normal |
SaturationAdjustmentAqua | 0 |
SaturationAdjustmentBlue | 0 |
SaturationAdjustmentGreen | 0 |
SaturationAdjustmentMagenta | 0 |
SaturationAdjustmentOrange | 0 |
SaturationAdjustmentPurple | 0 |
SaturationAdjustmentRed | 0 |
SaturationAdjustmentYellow | 0 |
ScaleFactor35efl | 1.5 |
SceneCaptureType | Standard |
SceneType | Directly photographed |
SensingMethod | One-chip color area |
SensitivityType | Recommended Exposure Index |
SerialNumber | 4386352 |
Shadows | 5 |
Shadows2012 | 0 |
ShadowTint | 0 |
SharpenDetail | 25 |
SharpenEdgeMasking | 0 |
SharpenRadius | +1.0 |
Sharpness (1) | 25 |
Sharpness | Normal |
ShutterSpeed | 1/800 |
ShutterSpeedValue | 1/800 |
Software | Adobe Photoshop CS5 Macintosh |
SplitToningBalance | 0 |
SplitToningHighlightHue | 0 |
SplitToningHighlightSaturation | 0 |
SplitToningShadowHue | 0 |
SplitToningShadowSaturation | 0 |
Subject | Makrellterne |
SubjectDistanceRange | Unknown |
Tint | +7 |
ToneCurve | 0, 0, 32, 22, 64, 56, 128, 128, 192, 196, 255, 255 |
ToneCurveBlue | 0, 0, 255, 255 |
ToneCurveGreen | 0, 0, 255, 255 |
ToneCurveName | Medium Contrast |
ToneCurveName2012 | Linear |
ToneCurvePV2012 | 0, 0, 255, 255 |
ToneCurvePV2012Blue | 0, 0, 255, 255 |
ToneCurvePV2012Green | 0, 0, 255, 255 |
ToneCurvePV2012Red | 0, 0, 255, 255 |
ToneCurveRed | 0, 0, 255, 255 |
URL_List | |
Version | 6.7 |
Vibrance | +38 |
VignetteAmount | 0 |
WhiteBalance (1) | As Shot |
WhiteBalance | Auto |
Whites2012 | +18 |