Felt | Verdi |
AlreadyApplied | True |
Aperture | 10.0 |
ApertureValue | 10.0 |
ApproximateFocusDistance | 4.29 |
AutoLateralCA | 0 |
AutoWhiteVersion | 134348800 |
BitsPerSample | 8 |
Blacks2012 | -17 |
BlueHue | 0 |
BlueSaturation | 0 |
CameraProfile | Adobe Standard |
CircleOfConfusion | 0.019 mm |
Clarity2012 | +25 |
ColorComponents | 3 |
ColorNoiseReduction | 25 |
ColorNoiseReductionDetail | 50 |
ColorNoiseReductionSmoothness | 50 |
ColorSpace | sRGB |
ColorTemperature | 4198 |
ColorTransform | YCbCr |
Contrast2012 | +47 |
ConvertToGrayscale | True |
CreateDate (1) | 2013:02:06 02:38:06.00 |
CreateDate | 2013:02:06 02:38:06 |
CreatorTool | Adobe Photoshop Lightroom 5.7.1 (Macintosh) |
CustomRendered | Normal |
DateCreated (1) | 2013:02:06 |
DateCreated | 2013:02:06 02:38:06.00 |
DateTimeOriginal | 2013:02:06 02:38:06 |
DOF | inf (1.23 m - inf) |
Exposure2012 | +0.80 |
ExposureCompensation | 0 |
ExposureMode | Manual |
ExposureProgram | Manual |
ExposureTime | 1/13 |
Firmware | 1.1.3 |
Flash | Off, Did not fire |
FlashCompensation | 0 |
FNumber | 10.0 |
FocalLength | 18.0 mm |
FocalLength35efl | 18.0 mm (35 mm equivalent: 28.5 mm) |
Format | image/jpeg |
FOV | 64.5 deg |
GrainAmount | 0 |
GrayMixerAqua | +38 |
GrayMixerBlue | 0 |
GrayMixerGreen | +30 |
GrayMixerMagenta | 0 |
GrayMixerOrange | +38 |
GrayMixerPurple | 0 |
GrayMixerRed | +25 |
GrayMixerYellow | +40 |
GreenHue | 0 |
GreenSaturation | 0 |
HasCrop | False |
HasSettings | True |
Highlights2012 | -51 |
HyperfocalDistance | 1.71 m |
ImageHeight | 3456 |
ImageNumber | 0 |
ImageSize | 5184x3456 |
ImageWidth | 5184 |
ISO | 400 |
Lens | EF-S18-55mm f/3.5-5.6 IS STM |
LensID (1) | 4146 |
LensID | Canon EF-S 18-55mm f/3.5-5.6 IS STM |
LensInfo | 18-55mm f/? |
LensManualDistortionAmount | 0 |
LensModel | EF-S18-55mm f/3.5-5.6 IS STM |
LensProfileEnable | 0 |
LensProfileSetup | LensDefaults |
LensSerialNumber | 0000362b75 |
LightValue | 8.3 |
LuminanceSmoothing | 0 |
Make | Canon |
MaxApertureValue | 3.5 |
Megapixels | 17.9 |
MeteringMode | Multi-segment |
Model | Canon EOS 700D |
ModifyDate (1) | 2015:04:21 00:43:14+02:00 |
ModifyDate | 2015:04:21 00:43:14 |
ParametricDarks | -4 |
ParametricHighlights | -47 |
ParametricHighlightSplit | 75 |
ParametricLights | -68 |
ParametricMidtoneSplit | 50 |
ParametricShadows | +7 |
ParametricShadowSplit | 25 |
PerspectiveAspect | 0 |
PerspectiveHorizontal | 0 |
PerspectiveRotate | 0.0 |
PerspectiveScale | 100 |
PerspectiveUpright | 0 |
PerspectiveVertical | 0 |
PostCropVignetteAmount | 0 |
ProcessVersion | 6.7 |
ProfileDescription | sRGB IEC61966-2.1 |
RecommendedExposureIndex | 400 |
RedHue | 0 |
RedSaturation | 0 |
ScaleFactor35efl | 1.6 |
SceneCaptureType | Standard |
SensitivityType | Recommended Exposure Index |
SerialNumber | 173032032153 |
Shadows2012 | +59 |
ShadowTint | 0 |
SharpenDetail | 34 |
SharpenEdgeMasking | 0 |
SharpenRadius | +0.9 |
Sharpness | 42 |
ShutterSpeed | 1/13 |
ShutterSpeedValue | 1/13 |
Software | Adobe Photoshop Lightroom 5.7.1 (Macintosh) |
SplitToningBalance | 0 |
SplitToningHighlightHue | 0 |
SplitToningHighlightSaturation | 0 |
SplitToningShadowHue | 0 |
SplitToningShadowSaturation | 0 |
Tint | -28 |
ToneCurve | 0, 0, 255, 255 |
ToneCurveBlue | 0, 0, 255, 255 |
ToneCurveGreen | 0, 0, 255, 255 |
ToneCurveName | Linear |
ToneCurveName2012 | Linear |
ToneCurvePV2012 | 0, 0, 255, 255 |
ToneCurvePV2012Blue | 0, 0, 255, 255 |
ToneCurvePV2012Green | 0, 0, 255, 255 |
ToneCurvePV2012Red | 0, 0, 255, 255 |
ToneCurveRed | 0, 0, 255, 255 |
Version | 8.7.1 |
VignetteAmount | 0 |
WhiteBalance (1) | Custom |
WhiteBalance | Manual |
Whites2012 | -23 |