Felt | Verdi |
AlreadyApplied | True |
Aperture | 9.0 |
ApertureValue | 9.0 |
ApproximateFocusDistance | 4294967295 |
AutoLateralCA | 1 |
AutoWhiteVersion | 134348800 |
BitsPerSample | 8 |
Blacks2012 | -100 |
BlueHue | 0 |
BlueSaturation | 0 |
CameraProfile | Adobe Standard |
CFAPattern | [Red,Green][Green,Blue] |
CircleOfConfusion | 0.030 mm |
Clarity2012 | +26 |
ColorComponents | 3 |
ColorNoiseReduction | 25 |
ColorNoiseReductionDetail | 50 |
ColorNoiseReductionSmoothness | 50 |
ColorTemperature | 5750 |
ColorTransform | YCbCr |
Contrast | Normal |
Contrast2012 | 0 |
ConvertToGrayscale | True |
CreateDate (1) | 2015:05:25 12:06:25.20 |
CreateDate | 2015:05:25 12:06:25 |
CreatorTool | Adobe Photoshop Lightroom 6.0 (Macintosh) |
CustomRendered | Normal |
DateCreated (1) | 2015:05:25 12:06:25.20 |
DateCreated | 2015:05:25 |
DateTimeOriginal | 2015:05:25 12:06:25 |
DigitalZoomRatio | 1 |
DOF | inf (0.72 m - inf) |
Exposure2012 | -1.30 |
ExposureCompensation | 0 |
ExposureMode | Manual |
ExposureProgram | Manual |
ExposureTime | 10 |
Flash | Off, Did not fire |
FNumber | 9.0 |
FocalLength | 14.0 mm |
FocalLength35efl | 14.0 mm (35 mm equivalent: 14.0 mm) |
FocalLengthIn35mmFormat | 14 mm |
Format | image/jpeg |
FOV | 104.3 deg |
GainControl | None |
GradientBasedCorrActive | true |
GradientBasedCorrAmount | 1.000000 |
GradientBasedCorrBrightness | 0.000000 |
GradientBasedCorrClarity2012 (1) | -0.187881 |
GradientBasedCorrClarity2012 | 0.344989 |
GradientBasedCorrContrast2012 (1) | -0.567168 |
GradientBasedCorrContrast2012 | 0.000000 |
GradientBasedCorrDefringe | 0.000000 |
GradientBasedCorrExposure2012 (1) | 0.062500 |
GradientBasedCorrExposure2012 | 0.000000 |
GradientBasedCorrHighlights2012 (1) | -0.421684 |
GradientBasedCorrHighlights2012 | 0.058213 |
GradientBasedCorrHue | 240.000000 |
GradientBasedCorrLuminanceNoise | 0.000000 |
GradientBasedCorrMaskFullX (1) | 0.495021 |
GradientBasedCorrMaskFullX | 0.525780 |
GradientBasedCorrMaskFullY (1) | 1.002030 |
GradientBasedCorrMaskFullY | 0.077905 |
GradientBasedCorrMaskValue | 1.000000 |
GradientBasedCorrMaskWhat | Mask/Gradient |
GradientBasedCorrMaskZeroX (1) | 0.492423 |
GradientBasedCorrMaskZeroX | 0.523866 |
GradientBasedCorrMaskZeroY (1) | 0.436998 |
GradientBasedCorrMaskZeroY | 1.352270 |
GradientBasedCorrMoire | 0.000000 |
GradientBasedCorrSaturation | 0.000000 |
GradientBasedCorrShadows2012 | 1.000000 |
GradientBasedCorrSharpness | 0.000000 |
GradientBasedCorrTemperature | 0.000000 |
GradientBasedCorrTint | 0.000000 |
GradientBasedCorrWhat | Correction |
GrainAmount | 0 |
GrayMixerAqua | -33 |
GrayMixerBlue | -10 |
GrayMixerGreen | -20 |
GrayMixerMagenta | +36 |
GrayMixerOrange | +18 |
GrayMixerPurple | +24 |
GrayMixerRed | +36 |
GrayMixerYellow | +4 |
GreenHue | 0 |
GreenSaturation | 0 |
HasCrop | False |
HasSettings | True |
Highlights2012 | -100 |
HyperfocalDistance | 0.72 m |
ImageHeight | 4912 |
ImageNumber | 4477 |
ImageSize | 7360x4912 |
ImageWidth | 7360 |
ISO | 100 |
Lens | 14.0-24.0 mm f/2.8 |
LensID (1) | 146 |
LensID | AF-S Zoom-Nikkor 14-24mm f/2.8G ED |
LensInfo | 14-24mm f/2.8 |
LensManualDistortionAmount | 0 |
LensModel | 14.0-24.0 mm f/2.8 |
LensProfileChromaticAberrationScale | 100 |
LensProfileDistortionScale | 100 |
LensProfileEnable | 1 |
LensProfileFilename | NIKON D3X (Nikon FX 14-24mm f2.8 G ED) - RAW.lcp |
LensProfileName | Adobe (Nikon AF-S NIKKOR 14-24mm f/2.8G ED) |
LensProfileSetup | LensDefaults |
LensProfileVignettingScale | 100 |
LightSource | Cloudy |
LightValue | 3.0 |
LuminanceSmoothing | 0 |
Make | NIKON CORPORATION |
MaxApertureValue | 2.8 |
Megapixels | 36.2 |
MeteringMode | Spot |
Model | NIKON D800 |
ModifyDate (1) | 2015:05:25 19:25:53+02:00 |
ModifyDate | 2015:05:25 19:25:53 |
Orientation | Horizontal (normal) |
ParametricDarks | -25 |
ParametricHighlights | +10 |
ParametricHighlightSplit | 75 |
ParametricLights | +21 |
ParametricMidtoneSplit | 50 |
ParametricShadows | 0 |
ParametricShadowSplit | 25 |
PerspectiveAspect | 0 |
PerspectiveHorizontal | 0 |
PerspectiveRotate | 0.0 |
PerspectiveScale | 100 |
PerspectiveUpright | 0 |
PerspectiveVertical | 0 |
PostCropVignetteAmount | -18 |
PostCropVignetteFeather | 50 |
PostCropVignetteHighlightContrast | 0 |
PostCropVignetteMidpoint | 50 |
PostCropVignetteRoundness | 0 |
PostCropVignetteStyle | 1 |
ProcessVersion | 6.7 |
ProfileDescription | sRGB IEC61966-2.1 |
RawFileName | Tjeldodden 25.05.25 (1 of 1).jpg |
RedHue | 0 |
RedSaturation | 0 |
Saturation | Normal |
ScaleFactor35efl | 1.0 |
SceneCaptureType | Landscape |
SceneType | Directly photographed |
SensingMethod | One-chip color area |
SensitivityType | Recommended Exposure Index |
SerialNumber | 6044631 |
Shadows2012 | +100 |
ShadowTint | 0 |
SharpenDetail | 100 |
SharpenEdgeMasking | 58 |
SharpenRadius | +3.0 |
Sharpness (1) | 76 |
Sharpness | Normal |
ShutterSpeed | 10 |
ShutterSpeedValue | 10 |
Software | Adobe Photoshop Lightroom 6.0 (Macintosh) |
SplitToningBalance | 0 |
SplitToningHighlightHue | 0 |
SplitToningHighlightSaturation | 0 |
SplitToningShadowHue | 0 |
SplitToningShadowSaturation | 0 |
SubjectDistanceRange | Unknown |
Tint | +5 |
ToneCurve | 0, 0, 255, 255 |
ToneCurveBlue | 0, 0, 255, 255 |
ToneCurveGreen | 0, 0, 255, 255 |
ToneCurveName | Linear |
ToneCurveName2012 | Linear |
ToneCurvePV2012 | 0, 0, 255, 255 |
ToneCurvePV2012Blue | 0, 0, 255, 255 |
ToneCurvePV2012Green | 0, 0, 255, 255 |
ToneCurvePV2012Red | 0, 0, 255, 255 |
ToneCurveRed | 0, 0, 255, 255 |
Version | 9.0 |
VignetteAmount | 0 |
WhiteBalance (1) | As Shot |
WhiteBalance | Manual |
Whites2012 | 0 |