Felt | Verdi |
AlreadyApplied | True |
Aperture | 2.0 |
ApertureValue | 2.0 |
Artist | StinniFoto |
AutoLateralCA | 0 |
AutoWhiteVersion | 134348800 |
BitsPerSample | 8 |
Blacks2012 | -40 |
BlueHue | 0 |
BlueSaturation | 0 |
By-line | StinniFoto |
CameraProfile | Adobe Standard |
CircleOfConfusion | 0.020 mm |
Clarity2012 | 0 |
ColorComponents | 3 |
ColorMode | RGB |
ColorNoiseReduction | 25 |
ColorNoiseReductionDetail | 50 |
ColorNoiseReductionSmoothness | 50 |
ColorSpace | Uncalibrated |
ColorTemperature | 3200 |
ColorTransform | YCbCr |
Contrast | High |
Contrast2012 | -12 |
ConvertToGrayscale | False |
Copyright | StinniFoto |
CopyrightNotice | StinniFoto |
CreateDate | 2015:08:10 00:22:10 |
Creator | StinniFoto |
CreatorTool | K-5 Ver 1.16 |
CropAngle | 0 |
CropBottom | 1 |
CropConstrainToWarp | 0 |
CropLeft | 0 |
CropRight | 1 |
CropTop | 0 |
CustomRendered | Normal |
DateCreated (1) | 2015:08:10 |
DateCreated | 2015:08:10 00:22:10 |
DateTimeOriginal | 2015:08:10 00:22:10 |
DefringeGreenAmount | 0 |
DefringeGreenHueHi | 60 |
DefringeGreenHueLo | 40 |
DefringePurpleAmount | 0 |
DefringePurpleHueHi | 70 |
DefringePurpleHueLo | 30 |
Dehaze | 0 |
ExifImageHeight | 2957 |
ExifImageWidth | 3615 |
Exposure2012 | +0.40 |
ExposureCompensation | -1.3 |
ExposureMode | Manual |
ExposureProgram | Program AE |
ExposureTime | 1/50 |
Flash | Off, Did not fire |
FNumber | 2.0 |
FocalLength | 50.0 mm |
FocalLength35efl | 50.0 mm (35 mm equivalent: 75.0 mm) |
FocalLengthIn35mmFormat | 75 mm |
Format | image/jpeg |
FOV | 27.0 deg |
GrainAmount | 0 |
GreenHue | 0 |
GreenSaturation | 0 |
HasCrop | True |
HasSettings | True |
HierarchicalSubject | Italia |
Highlights2012 | -29 |
HueAdjustmentAqua | 0 |
HueAdjustmentBlue | 0 |
HueAdjustmentGreen | 0 |
HueAdjustmentMagenta | 0 |
HueAdjustmentOrange | 0 |
HueAdjustmentPurple | 0 |
HueAdjustmentRed | 0 |
HueAdjustmentYellow | 0 |
HyperfocalDistance | 62.40 m |
ICCProfileName | ProPhoto RGB |
ImageHeight | 2957 |
ImageSize | 3615x2957 |
ImageWidth | 3615 |
ISO | 12800 |
Keywords | Italia |
Label | |
LensID (1) | 8 4 |
LensID | Sigma 50mm F1.4 EX DG HSM |
LensManualDistortionAmount | 0 |
LensProfileEnable | 0 |
LensProfileSetup | LensDefaults |
LightValue | 0.6 |
LuminanceAdjustmentAqua | 0 |
LuminanceAdjustmentBlue | 0 |
LuminanceAdjustmentGreen | 0 |
LuminanceAdjustmentMagenta | 0 |
LuminanceAdjustmentOrange | 0 |
LuminanceAdjustmentPurple | 0 |
LuminanceAdjustmentRed | 0 |
LuminanceAdjustmentYellow | 0 |
LuminanceSmoothing | 0 |
Make | PENTAX |
Megapixels | 10.7 |
MeteringMode | Spot |
Model | PENTAX K-5 |
ModifyDate (1) | 2015:11:25 22:36:37Z |
ModifyDate | 2015:11:25 22:36:37 |
Orientation | Horizontal (normal) |
ParametricDarks | 0 |
ParametricHighlights | 0 |
ParametricHighlightSplit | 75 |
ParametricLights | 0 |
ParametricMidtoneSplit | 50 |
ParametricShadows | 0 |
ParametricShadowSplit | 25 |
PerspectiveAspect | 0 |
PerspectiveHorizontal | 0 |
PerspectiveRotate | 0.0 |
PerspectiveScale | 100 |
PerspectiveUpright | 0 |
PerspectiveVertical | 0 |
PostCropVignetteAmount | 0 |
ProcessVersion | 6.7 |
ProfileDescription | ProPhoto RGB |
Rating | 0 |
RawFileName | _IGP7333.DNG |
RedHue | 0 |
RedSaturation | 0 |
Rights | StinniFoto |
Saturation (1) | 0 |
Saturation | Normal |
SaturationAdjustmentAqua | 0 |
SaturationAdjustmentBlue | 0 |
SaturationAdjustmentGreen | 0 |
SaturationAdjustmentMagenta | 0 |
SaturationAdjustmentOrange | 0 |
SaturationAdjustmentPurple | 0 |
SaturationAdjustmentRed | 0 |
SaturationAdjustmentYellow | 0 |
ScaleFactor35efl | 1.5 |
SceneCaptureType | Standard |
SensingMethod | One-chip color area |
Shadows2012 | +29 |
ShadowTint | 0 |
SharpenDetail | 25 |
SharpenEdgeMasking | 0 |
SharpenRadius | +1.0 |
Sharpness (1) | 25 |
Sharpness | Soft |
ShutterSpeed | 1/50 |
ShutterSpeedValue | 1/50 |
Software | Adobe Photoshop CC (Macintosh) |
SplitToningBalance | 0 |
SplitToningHighlightHue | 0 |
SplitToningHighlightSaturation | 0 |
SplitToningShadowHue | 0 |
SplitToningShadowSaturation | 0 |
Subject | Italia |
SubjectDistanceRange | Distant |
Tint | +20 |
ToneCurve | 0, 0, 32, 22, 64, 56, 128, 128, 192, 196, 255, 255 |
ToneCurveBlue | 0, 0, 255, 255 |
ToneCurveGreen | 0, 0, 255, 255 |
ToneCurveName | Medium Contrast |
ToneCurveName2012 | Linear |
ToneCurvePV2012 | 0, 0, 255, 255 |
ToneCurvePV2012Blue | 0, 0, 255, 255 |
ToneCurvePV2012Green | 0, 0, 255, 255 |
ToneCurvePV2012Red | 0, 0, 255, 255 |
ToneCurveRed | 0, 0, 255, 255 |
ToneMapStrength | 0 |
URL_List | |
Version | 9.1 |
Vibrance | 0 |
VignetteAmount | 0 |
WhiteBalance (1) | As Shot |
WhiteBalance | Auto |
Whites2012 | +3 |