Felt | Verdi |
AlreadyApplied | True |
Aperture | 22.0 |
ApertureValue | 22.0 |
Artist | Jorn Odegaard |
AutoLateralCA | 0 |
AutoWhiteVersion | 134348800 |
BitsPerSample | 8 |
Blacks2012 | -84 |
BlueHue | 0 |
BlueSaturation | 0 |
By-line | Jorn Odegaard |
CameraProfile | Adobe Standard |
CFAPattern | [Red,Green][Green,Blue] |
CircleOfConfusion | 0.030 mm |
Clarity2012 | +10 |
ColorComponents | 3 |
ColorNoiseReduction | 25 |
ColorNoiseReductionDetail | 50 |
ColorNoiseReductionSmoothness | 50 |
ColorTemperature | 5843 |
ColorTransform | YCbCr |
Contrast | Normal |
Contrast2012 | +50 |
ConvertToGrayscale | False |
Copyright | Jorn Odegaad |
CopyrightNotice | Jorn Odegaad |
CreateDate (1) | 2015:12:13 13:24:08.80 |
CreateDate | 2015:12:13 13:24:08 |
Creator | Jorn Odegaard |
CreatorTool | Adobe Photoshop Lightroom 5.7.1 (Macintosh) |
CropAngle | 0 |
CropBottom | 0.874856 |
CropConstrainToWarp | 0 |
CropLeft | 0.051034 |
CropRight | 0.954715 |
CropTop | 0.165189 |
CustomRendered | Normal |
DateCreated (1) | 2015:12:13 |
DateCreated | 2015:12:13 13:24:08.80 |
DateTimeOriginal | 2015:12:13 13:24:08 |
DefringeGreenAmount | 0 |
DefringeGreenHueHi | 60 |
DefringeGreenHueLo | 40 |
DefringePurpleAmount | 0 |
DefringePurpleHueHi | 70 |
DefringePurpleHueLo | 30 |
DigitalZoomRatio | 1 |
Exposure2012 | -0.20 |
ExposureCompensation | -2 |
ExposureMode | Manual |
ExposureProgram | Manual |
ExposureTime | 1/80 |
Flash | Off, Did not fire |
FNumber | 22.0 |
FocalLength | 28.0 mm |
FocalLength35efl | 28.0 mm (35 mm equivalent: 28.0 mm) |
FocalLengthIn35mmFormat | 28 mm |
Format | image/jpeg |
FOV | 65.5 deg |
GainControl | None |
GradientBasedCorrActive | true |
GradientBasedCorrAmount | 1.000000 |
GradientBasedCorrBrightness | 0.000000 |
GradientBasedCorrClarity2012 (3) | -0.625827 |
GradientBasedCorrClarity2012 (4) | 0.266176 |
GradientBasedCorrClarity2012 | 0.000000 |
GradientBasedCorrContrast2012 (3) | -0.130147 |
GradientBasedCorrContrast2012 (4) | 0.348070 |
GradientBasedCorrContrast2012 | 0.000000 |
GradientBasedCorrDefringe | 0.000000 |
GradientBasedCorrExposure2012 (1) | -0.336121 |
GradientBasedCorrExposure2012 (2) | -0.076379 |
GradientBasedCorrExposure2012 (4) | 0.000000 |
GradientBasedCorrExposure2012 | -0.040441 |
GradientBasedCorrHighlights2012 (3) | -0.436489 |
GradientBasedCorrHighlights2012 | 0.000000 |
GradientBasedCorrHue | 240.000000 |
GradientBasedCorrLuminanceNoise | 0.000000 |
GradientBasedCorrMaskFullX (1) | 0.517168 |
GradientBasedCorrMaskFullX (2) | 0.542706 |
GradientBasedCorrMaskFullX (3) | 0.557792 |
GradientBasedCorrMaskFullX (4) | 0.518078 |
GradientBasedCorrMaskFullX | 0.557353 |
GradientBasedCorrMaskFullY (1) | 0.878373 |
GradientBasedCorrMaskFullY (2) | 0.201571 |
GradientBasedCorrMaskFullY (3) | 0.201463 |
GradientBasedCorrMaskFullY (4) | 0.852021 |
GradientBasedCorrMaskFullY | 0.204785 |
GradientBasedCorrMaskValue | 1.000000 |
GradientBasedCorrMaskWhat | Mask/Gradient |
GradientBasedCorrMaskZeroX (1) | 0.512533 |
GradientBasedCorrMaskZeroX (2) | 0.541282 |
GradientBasedCorrMaskZeroX (3) | 0.551888 |
GradientBasedCorrMaskZeroX (4) | 0.520624 |
GradientBasedCorrMaskZeroX | 0.556044 |
GradientBasedCorrMaskZeroY (1) | 0.708726 |
GradientBasedCorrMaskZeroY (2) | 0.388203 |
GradientBasedCorrMaskZeroY (3) | 0.827567 |
GradientBasedCorrMaskZeroY (4) | 0.328699 |
GradientBasedCorrMaskZeroY | 0.607000 |
GradientBasedCorrMoire | 0.000000 |
GradientBasedCorrSaturation (5) | -0.024724 |
GradientBasedCorrSaturation | 0.000000 |
GradientBasedCorrShadows2012 (3) | 0.082812 |
GradientBasedCorrShadows2012 | 0.000000 |
GradientBasedCorrSharpness | 0.000000 |
GradientBasedCorrTemperature | 0.000000 |
GradientBasedCorrTint | 0.000000 |
GradientBasedCorrWhat | Correction |
GrainAmount | 0 |
GreenHue | 0 |
GreenSaturation | 0 |
HasCrop | True |
HasExtendedXMP | 701DAF1ADF81360658116C15DA761524 |
HasSettings | True |
Highlights2012 | -100 |
HueAdjustmentAqua | 0 |
HueAdjustmentBlue | 0 |
HueAdjustmentGreen | 0 |
HueAdjustmentMagenta | 0 |
HueAdjustmentOrange | 0 |
HueAdjustmentPurple | 0 |
HueAdjustmentRed | 0 |
HueAdjustmentYellow | 0 |
HyperfocalDistance | 1.19 m |
ImageHeight | 3486 |
ImageNumber | 18223 |
ImageSize | 6651x3486 |
ImageWidth | 6651 |
ISO | 200 |
Lens | 0.0 mm f/0.0 |
LensInfo | 0mm f/0 |
LensManualDistortionAmount | 0 |
LensModel | 0.0 mm f/0.0 |
LensProfileEnable | 0 |
LensProfileSetup | LensDefaults |
LightSource | Fine Weather |
LightValue | 14.2 |
LuminanceAdjustmentAqua | 0 |
LuminanceAdjustmentBlue | +15 |
LuminanceAdjustmentGreen | -66 |
LuminanceAdjustmentMagenta | 0 |
LuminanceAdjustmentOrange | +18 |
LuminanceAdjustmentPurple | 0 |
LuminanceAdjustmentRed | 0 |
LuminanceAdjustmentYellow | -26 |
LuminanceNoiseReductionContrast | 0 |
LuminanceNoiseReductionDetail | 50 |
LuminanceSmoothing | 43 |
Make | NIKON CORPORATION |
MaxApertureValue | 1.0 |
Megapixels | 23.2 |
MeteringMode | Spot |
Model | NIKON D800 |
ModifyDate (1) | 2015:12:14 09:47:50+01:00 |
ModifyDate | 2015:12:14 09:47:50 |
PaintCorrectionActive | true |
PaintCorrectionAmount | 1.000000 |
PaintCorrectionBrightness | 0.000000 |
PaintCorrectionClarity2012 (3) | 0.368842 |
PaintCorrectionClarity2012 (4) | 0.129504 |
PaintCorrectionClarity2012 (6) | 0.000000 |
PaintCorrectionClarity2012 | 0.793566 |
PaintCorrectionContrast2012 (4) | 0.101930 |
PaintCorrectionContrast2012 (7) | 0.000000 |
PaintCorrectionContrast2012 | 0.334283 |
PaintCorrectionDefringe | 0.000000 |
PaintCorrectionExposure2012 (2) | -0.031158 |
PaintCorrectionExposure2012 (5) | 0.062500 |
PaintCorrectionExposure2012 (6) | -0.058364 |
PaintCorrectionExposure2012 (7) | -0.075368 |
PaintCorrectionExposure2012 | 0.000000 |
PaintCorrectionHighlights2012 (4) | 0.254504 |
PaintCorrectionHighlights2012 (6) | 0.000000 |
PaintCorrectionHighlights2012 | -0.621783 |
PaintCorrectionHue | 240.000000 |
PaintCorrectionLuminanceNoise | 0.000000 |
PaintCorrectionMaskCenterWeight (178) | 1.000000 |
PaintCorrectionMaskCenterWeight | 0.082142 |
PaintCorrectionMaskFlow (282) | 1.000000 |
PaintCorrectionMaskFlow | 0.789260 |
PaintCorrectionMaskRadius (102) | 0.002461 |
PaintCorrectionMaskRadius (137) | 0.003578 |
PaintCorrectionMaskRadius (149) | 0.008294 |
PaintCorrectionMaskRadius (163) | 0.015892 |
PaintCorrectionMaskRadius (167) | 0.036140 |
PaintCorrectionMaskRadius (180) | 0.001741 |
PaintCorrectionMaskRadius (185) | 0.012057 |
PaintCorrectionMaskRadius (189) | 0.009677 |
PaintCorrectionMaskRadius (190) | 0.044740 |
PaintCorrectionMaskRadius (199) | 0.023776 |
PaintCorrectionMaskRadius (217) | 0.025470 |
PaintCorrectionMaskRadius (240) | 0.034223 |
PaintCorrectionMaskRadius (25) | 0.008885 |
PaintCorrectionMaskRadius (254) | 0.017024 |
PaintCorrectionMaskRadius (280) | 0.010320 |
PaintCorrectionMaskRadius (282) | 0.104947 |
PaintCorrectionMaskRadius (283) | 0.012111 |
PaintCorrectionMaskRadius (288) | 0.001348 |
PaintCorrectionMaskRadius (31) | 0.001366 |
PaintCorrectionMaskRadius (4) | 0.012916 |
PaintCorrectionMaskRadius (79) | 0.004716 |
PaintCorrectionMaskRadius | 0.023882 |
PaintCorrectionMaskValue (180) | 0.000000 |
PaintCorrectionMaskValue | 0.336152 |
PaintCorrectionMaskWhat | Mask/Paint |
PaintCorrectionMoire | 0.000000 |
PaintCorrectionSaturation (15) | -0.524816 |
PaintCorrectionSaturation | 0.000000 |
PaintCorrectionShadows2012 | 0.000000 |
PaintCorrectionSharpness | 0.000000 |
PaintCorrectionTemperature | 0.000000 |
PaintCorrectionTint | 0.000000 |
PaintCorrectionWhat | Correction |
ParametricDarks | 0 |
ParametricHighlights | 0 |
ParametricHighlightSplit | 75 |
ParametricLights | 0 |
ParametricMidtoneSplit | 50 |
ParametricShadows | 0 |
ParametricShadowSplit | 25 |
PerspectiveAspect | 0 |
PerspectiveHorizontal | 0 |
PerspectiveRotate | 0.0 |
PerspectiveScale | 100 |
PerspectiveUpright | 0 |
PerspectiveVertical | 0 |
PostCropVignetteAmount | 0 |
ProcessVersion | 6.7 |
ProfileDescription | sRGB IEC61966-2.1 |
RedHue | 0 |
RedSaturation | 0 |
Rights | Jorn Odegaad |
Saturation (1) | +9 |
Saturation | Normal |
SaturationAdjustmentAqua | 0 |
SaturationAdjustmentBlue | -11 |
SaturationAdjustmentGreen | -24 |
SaturationAdjustmentMagenta | 0 |
SaturationAdjustmentOrange | +26 |
SaturationAdjustmentPurple | 0 |
SaturationAdjustmentRed | -60 |
SaturationAdjustmentYellow | -39 |
ScaleFactor35efl | 1.0 |
SceneCaptureType | Landscape |
SceneType | Directly photographed |
SensingMethod | One-chip color area |
SensitivityType | Recommended Exposure Index |
SerialNumber | 6042024 |
Shadows2012 | +98 |
ShadowTint | 0 |
SharpenDetail | 25 |
SharpenEdgeMasking | 75 |
SharpenRadius | +1.0 |
Sharpness (1) | 83 |
Sharpness | Normal |
ShutterSpeed | 1/80 |
ShutterSpeedValue | 1/80 |
Software | Adobe Photoshop Lightroom 5.7.1 (Macintosh) |
SplitToningBalance | 0 |
SplitToningHighlightHue | 0 |
SplitToningHighlightSaturation | 0 |
SplitToningShadowHue | 0 |
SplitToningShadowSaturation | 0 |
SubjectDistanceRange | Unknown |
Tint | +13 |
ToneCurve | 0, 0, 255, 255 |
ToneCurveBlue | 0, 0, 255, 255 |
ToneCurveGreen | 0, 0, 255, 255 |
ToneCurveName | Linear |
ToneCurveName2012 | Linear |
ToneCurvePV2012 | 0, 0, 255, 255 |
ToneCurvePV2012Blue | 0, 0, 255, 255 |
ToneCurvePV2012Green | 0, 0, 255, 255 |
ToneCurvePV2012Red | 0, 0, 255, 255 |
ToneCurveRed | 0, 0, 255, 255 |
Version | 8.7.1 |
Vibrance | +9 |
VignetteAmount | 0 |
WhiteBalance (1) | Custom |
WhiteBalance | Manual |
Whites2012 | +61 |