Felt | Verdi |
AlreadyApplied | True |
Aperture | 8.0 |
ApertureValue | 8.0 |
ApproximateFocusDistance | 4294967295 |
AutoLateralCA | 0 |
AutoWhiteVersion | 134348800 |
BitsPerSample | 8 |
Blacks2012 | -4 |
BlueHue | 0 |
BlueSaturation | 0 |
CameraProfile | Adobe Standard |
CircleOfConfusion | 0.030 mm |
Clarity2012 | 0 |
ColorComponents | 3 |
ColorNoiseReduction | 25 |
ColorNoiseReductionDetail | 50 |
ColorNoiseReductionSmoothness | 50 |
ColorSpace | sRGB |
ColorTemperature | 7350 |
ColorTransform | YCbCr |
Contrast2012 | 0 |
ConvertToGrayscale | False |
CreateDate (1) | 2017:04:24 20:04:49.70 |
CreateDate | 2017:04:24 20:04:49 |
CreatorTool | Adobe Photoshop Lightroom 6.7 (Macintosh) |
CropAngle | 0 |
CropBottom | 0.997928 |
CropConstrainToWarp | 0 |
CropLeft | 0.001752 |
CropRight | 0.998248 |
CropTop | 0.001432 |
CustomRendered | Normal |
DateCreated (1) | 2017:04:24 |
DateCreated | 2017:04:24 20:04:49.50 |
DateTimeOriginal | 2017:04:24 20:04:49 |
DefringeGreenAmount | 0 |
DefringeGreenHueHi | 60 |
DefringeGreenHueLo | 40 |
DefringePurpleAmount | 0 |
DefringePurpleHueHi | 70 |
DefringePurpleHueLo | 30 |
Dehaze | 0 |
DOF | inf (5.11 m - inf) |
Exposure2012 | +2.30 |
ExposureCompensation | 0 |
ExposureMode | Manual |
ExposureProgram | Manual |
ExposureTime | 1/160 |
Firmware | 1.1.2 |
Flash | Off, Did not fire |
FlashCompensation | 0 |
FNumber | 8.0 |
FocalLength | 35.0 mm |
FocalLength35efl | 35.0 mm (35 mm equivalent: 35.1 mm) |
Format | image/jpeg |
FOV | 54.3 deg |
GradientBasedCorrActive | true |
GradientBasedCorrAmount | 1.000000 |
GradientBasedCorrBrightness | 0.000000 |
GradientBasedCorrClarity2012 | 0.000000 |
GradientBasedCorrContrast2012 (1) | 0.526435 |
GradientBasedCorrContrast2012 | 0.000000 |
GradientBasedCorrDefringe | 0.000000 |
GradientBasedCorrExposure2012 (2) | 0.023256 |
GradientBasedCorrExposure2012 (3) | 0.000000 |
GradientBasedCorrExposure2012 | 0.119459 |
GradientBasedCorrHighlights2012 (1) | -0.737645 |
GradientBasedCorrHighlights2012 | 0.000000 |
GradientBasedCorrHue | 0.000000 |
GradientBasedCorrLocalBlacks2012 | 0.000000 |
GradientBasedCorrLocalDehaze | 0.000000 |
GradientBasedCorrLocalWhites2012 | 0.000000 |
GradientBasedCorrLuminanceNoise | 0.000000 |
GradientBasedCorrMaskFullX (1) | 1.025070 |
GradientBasedCorrMaskFullX (2) | 0.472710 |
GradientBasedCorrMaskFullX (3) | 0.228680 |
GradientBasedCorrMaskFullX | 0.911665 |
GradientBasedCorrMaskFullY (1) | 0.612434 |
GradientBasedCorrMaskFullY (2) | 0.009812 |
GradientBasedCorrMaskFullY (3) | 0.432977 |
GradientBasedCorrMaskFullY | 0.438341 |
GradientBasedCorrMaskValue | 1.000000 |
GradientBasedCorrMaskWhat | Mask/Gradient |
GradientBasedCorrMaskZeroX (1) | 1.079340 |
GradientBasedCorrMaskZeroX (2) | 0.515175 |
GradientBasedCorrMaskZeroX (3) | 0.502883 |
GradientBasedCorrMaskZeroX | 0.247713 |
GradientBasedCorrMaskZeroY (1) | 0.612506 |
GradientBasedCorrMaskZeroY (2) | 0.271700 |
GradientBasedCorrMaskZeroY (3) | 0.899389 |
GradientBasedCorrMaskZeroY | 0.910632 |
GradientBasedCorrMoire | 0.000000 |
GradientBasedCorrSaturation | 0.000000 |
GradientBasedCorrShadows2012 (1) | 0.788790 |
GradientBasedCorrShadows2012 | 0.000000 |
GradientBasedCorrSharpness | 0.000000 |
GradientBasedCorrTemperature (1) | 0.000000 |
GradientBasedCorrTemperature (2) | -0.054415 |
GradientBasedCorrTemperature (3) | -0.086755 |
GradientBasedCorrTemperature | 0.181686 |
GradientBasedCorrTint (3) | 0.000000 |
GradientBasedCorrTint | 0.070585 |
GradientBasedCorrWhat | Correction |
GrainAmount | 0 |
GreenHue | 0 |
GreenSaturation | 0 |
HasCrop | True |
HasExtendedXMP | 402D0781FAE52E6FAB94A743DF36DA31 |
HasSettings | True |
Highlights2012 | -100 |
HueAdjustmentAqua | 0 |
HueAdjustmentBlue | 0 |
HueAdjustmentGreen | -94 |
HueAdjustmentMagenta | 0 |
HueAdjustmentOrange | 0 |
HueAdjustmentPurple | 0 |
HueAdjustmentRed | 0 |
HueAdjustmentYellow | 0 |
HyperfocalDistance | 5.11 m |
ImageHeight | 3635 |
ImageNumber | 0 |
ImageSize | 5453x3635 |
ImageWidth | 5453 |
IsMergedHDR | True |
ISO | 100 |
Lens | EF24-70mm f/2.8L II USM |
LensID (1) | 495 |
LensID | Canon EF 24-70mm f/2.8L II USM |
LensInfo | 24-70mm f/? |
LensManualDistortionAmount | 0 |
LensModel | EF24-70mm f/2.8L II USM |
LensProfileEnable | 0 |
LensProfileSetup | LensDefaults |
LensSerialNumber | 4555007795 |
LightValue | 13.3 |
LuminanceAdjustmentAqua | 0 |
LuminanceAdjustmentBlue | +22 |
LuminanceAdjustmentGreen | +85 |
LuminanceAdjustmentMagenta | 0 |
LuminanceAdjustmentOrange | 0 |
LuminanceAdjustmentPurple | 0 |
LuminanceAdjustmentRed | 0 |
LuminanceAdjustmentYellow | -10 |
LuminanceSmoothing | 0 |
Make | Canon |
MaxApertureValue | 2.8 |
Megapixels | 19.8 |
MeteringMode | Multi-segment |
Model | Canon EOS-1D X Mark II |
ModifyDate (1) | 2017:04:26 15:20:16+02:00 |
ModifyDate | 2017:04:26 15:20:16 |
PaintCorrectionActive | true |
PaintCorrectionAmount | 1.000000 |
PaintCorrectionBrightness | 0.000000 |
PaintCorrectionClarity2012 | 0.000000 |
PaintCorrectionContrast2012 | 0.000000 |
PaintCorrectionDefringe | 0.000000 |
PaintCorrectionExposure2012 (1) | -0.149346 |
PaintCorrectionExposure2012 (2) | 0.232558 |
PaintCorrectionExposure2012 (3) | 0.034430 |
PaintCorrectionExposure2012 (6) | 0.000000 |
PaintCorrectionExposure2012 | 0.081032 |
PaintCorrectionHighlights2012 | 0.000000 |
PaintCorrectionHue | 0.000000 |
PaintCorrectionLocalBlacks2012 (4) | -0.286791 |
PaintCorrectionLocalBlacks2012 | 0.000000 |
PaintCorrectionLocalDehaze | 0.000000 |
PaintCorrectionLocalWhites2012 (4) | 0.648619 |
PaintCorrectionLocalWhites2012 | 0.000000 |
PaintCorrectionLuminanceNoise | 0.000000 |
PaintCorrectionMaskCenterWeight | 0.000000 |
PaintCorrectionMaskFlow (34) | 0.492496 |
PaintCorrectionMaskFlow (50) | 0.912373 |
PaintCorrectionMaskFlow (64) | 0.914200 |
PaintCorrectionMaskFlow | 0.522886 |
PaintCorrectionMaskRadius (103) | 0.500038 |
PaintCorrectionMaskRadius (104) | 0.655266 |
PaintCorrectionMaskRadius (111) | 0.004489 |
PaintCorrectionMaskRadius (17) | 0.203100 |
PaintCorrectionMaskRadius (20) | 0.074442 |
PaintCorrectionMaskRadius (28) | 0.053640 |
PaintCorrectionMaskRadius (31) | 0.135042 |
PaintCorrectionMaskRadius (33) | 0.033887 |
PaintCorrectionMaskRadius (34) | 0.011003 |
PaintCorrectionMaskRadius (58) | 0.027402 |
PaintCorrectionMaskRadius (60) | 0.006938 |
PaintCorrectionMaskRadius (63) | 0.005009 |
PaintCorrectionMaskRadius (67) | 0.005965 |
PaintCorrectionMaskRadius (69) | 0.007928 |
PaintCorrectionMaskRadius (79) | 0.022372 |
PaintCorrectionMaskRadius (9) | 0.168138 |
PaintCorrectionMaskRadius (92) | 0.601659 |
PaintCorrectionMaskRadius (95) | 0.614886 |
PaintCorrectionMaskRadius (97) | 0.710738 |
PaintCorrectionMaskRadius | 0.015182 |
PaintCorrectionMaskValue (45) | 0.000000 |
PaintCorrectionMaskValue | 1.000000 |
PaintCorrectionMaskWhat | Mask/Paint |
PaintCorrectionMoire | 0.000000 |
PaintCorrectionSaturation (5) | 0.739008 |
PaintCorrectionSaturation (9) | 0.858739 |
PaintCorrectionSaturation | 0.000000 |
PaintCorrectionShadows2012 | 0.000000 |
PaintCorrectionSharpness | 0.000000 |
PaintCorrectionTemperature (1) | 0.000000 |
PaintCorrectionTemperature (3) | 0.319949 |
PaintCorrectionTemperature (4) | 0.198855 |
PaintCorrectionTemperature (5) | 0.230650 |
PaintCorrectionTemperature (6) | 0.677235 |
PaintCorrectionTemperature | 0.492733 |
PaintCorrectionTint (3) | 0.186047 |
PaintCorrectionTint (4) | 0.167515 |
PaintCorrectionTint (6) | 0.445948 |
PaintCorrectionTint | 0.000000 |
PaintCorrectionWhat | Correction |
ParametricDarks | -2 |
ParametricHighlights | +77 |
ParametricHighlightSplit | 75 |
ParametricLights | +1 |
ParametricMidtoneSplit | 50 |
ParametricShadows | 0 |
ParametricShadowSplit | 25 |
PerspectiveAspect | 0 |
PerspectiveHorizontal | 0 |
PerspectiveRotate | 0.0 |
PerspectiveScale | 100 |
PerspectiveUpright | 0 |
PerspectiveVertical | 0 |
PerspectiveX | 0.00 |
PerspectiveY | 0.00 |
PostCropVignetteAmount | 0 |
ProcessVersion | 6.7 |
ProfileDescription | sRGB IEC61966-2.1 |
Rating | 5 |
RecommendedExposureIndex | 100 |
RedHue | 0 |
RedSaturation | 0 |
Saturation | 0 |
SaturationAdjustmentAqua | 0 |
SaturationAdjustmentBlue | 0 |
SaturationAdjustmentGreen | +71 |
SaturationAdjustmentMagenta | 0 |
SaturationAdjustmentOrange | 0 |
SaturationAdjustmentPurple | 0 |
SaturationAdjustmentRed | 0 |
SaturationAdjustmentYellow | +48 |
ScaleFactor35efl | 1.0 |
SceneCaptureType | Standard |
SensitivityType | Recommended Exposure Index |
SerialNumber | 093013000530 |
Shadows2012 | +70 |
ShadowTint | 0 |
SharpenDetail | 25 |
SharpenEdgeMasking | 0 |
SharpenRadius | +1.0 |
Sharpness | 25 |
ShutterSpeed | 1/160 |
ShutterSpeedValue | 1/160 |
Software | Adobe Photoshop Lightroom 6.7 (Macintosh) |
SplitToningBalance | 0 |
SplitToningHighlightHue | 0 |
SplitToningHighlightSaturation | 16 |
SplitToningShadowHue | 271 |
SplitToningShadowSaturation | 3 |
Tint | +12 |
ToneCurve | 0, 0, 255, 255 |
ToneCurveBlue | 0, 0, 255, 255 |
ToneCurveGreen | 0, 0, 255, 255 |
ToneCurveName | Linear |
ToneCurveName2012 | Linear |
ToneCurvePV2012 | 0, 0, 255, 255 |
ToneCurvePV2012Blue | 0, 0, 255, 255 |
ToneCurvePV2012Green | 0, 0, 255, 255 |
ToneCurvePV2012Red | 0, 0, 255, 255 |
ToneCurveRed | 0, 0, 255, 255 |
ToneMapStrength | 0 |
Version | 9.7 |
Vibrance | 0 |
VignetteAmount | 0 |
WhiteBalance (1) | As Shot |
WhiteBalance | Auto |
Whites2012 | +2 |