Felt | Verdi |
AlreadyApplied | True |
Aperture | 2.8 |
ApertureValue | 2.8 |
Artist | Stein Watten |
AutoLateralCA | 0 |
AutoWhiteVersion | 134348800 |
BitsPerSample | 8 |
Blacks2012 | +62 |
BlueHue | 0 |
BlueSaturation | 0 |
By-line | Stein Watten |
CameraProfile | Adobe Standard |
CFAPattern | [Red,Green][Green,Blue] |
CircleOfConfusion | 0.030 mm |
Clarity2012 | +15 |
ColorComponents | 3 |
ColorNoiseReduction | 25 |
ColorNoiseReductionDetail | 55 |
ColorNoiseReductionSmoothness | 96 |
ColorSpace | sRGB |
ColorTemperature | 3798 |
ColorTransform | YCbCr |
Contrast | Normal |
Contrast2012 | +40 |
ConvertToGrayscale | False |
Copyright | |
CopyrightNotice | |
CreateDate (1) | 2018:01:14 01:15:06.901 |
CreateDate | 2018:01:14 01:15:06 |
Creator | Stein Watten |
CreatorTool | Adobe Photoshop Lightroom 6.14 (Windows) |
CropAngle | 0 |
CropBottom | 0.927342 |
CropConstrainToWarp | 0 |
CropLeft | 0.001706 |
CropRight | 0.937714 |
CropTop | 0.051625 |
CustomRendered | Normal |
DateCreated (1) | 2018:01:14 |
DateCreated | 2018:01:14 01:12:29.00 |
DateTimeOriginal | 2018:01:14 01:15:06 |
DefringeGreenAmount | 0 |
DefringeGreenHueHi | 60 |
DefringeGreenHueLo | 40 |
DefringePurpleAmount | 0 |
DefringePurpleHueHi | 70 |
DefringePurpleHueLo | 30 |
Dehaze | 0 |
DigitalZoomRatio | 1 |
DistortionCorrectionAlreadyApplied | True |
Exposure2012 | +1.67 |
ExposureCompensation | +2/3 |
ExposureMode | Manual |
ExposureProgram | Manual |
ExposureTime | 13 |
Flash | Off, Did not fire |
FNumber | 2.8 |
FocalLength | 21.0 mm |
FocalLength35efl | 21.0 mm (35 mm equivalent: 21.0 mm) |
FocalLengthIn35mmFormat | 21 mm |
Format | image/jpeg |
FOV | 81.2 deg |
GainControl | High gain up |
GrainAmount | 0 |
GreenHue | 0 |
GreenSaturation | 0 |
HasCrop | True |
HasSettings | True |
Highlights2012 | -6 |
HueAdjustmentAqua | 0 |
HueAdjustmentBlue | 0 |
HueAdjustmentGreen | 0 |
HueAdjustmentMagenta | 0 |
HueAdjustmentOrange | 0 |
HueAdjustmentPurple | 0 |
HueAdjustmentRed | 0 |
HueAdjustmentYellow | 0 |
HyperfocalDistance | 5.24 m |
ImageHeight | 826 |
ImageNumber | 61370 |
ImageSize | 1980x826 |
ImageWidth | 1980 |
IsMergedPanorama | True |
ISO | 2500 |
LateralChromaticAberrationCorrectionAlreadyApplied | True |
Lens | Zeiss Distagon T* 2.8/21 ZF.2 |
LensInfo | 21mm f/2.8 |
LensManualDistortionAmount | 0 |
LensModel | Zeiss Distagon T* 2.8/21 ZF.2 |
LensProfileChromaticAberrationScale | 100 |
LensProfileDistortionScale | 100 |
LensProfileEnable | 1 |
LensProfileFilename | NIKON CORPORATION (Zeiss Distagon T 2.8-21 ZF.2).lcp |
LensProfileName | Adobe (Zeiss Distagon T* 2,8/21 ZF.2) |
LensProfileSetup | Custom |
LensProfileVignettingScale | 0 |
LightSource | Unknown |
LightValue | -5.4 |
LuminanceAdjustmentAqua | 0 |
LuminanceAdjustmentBlue | 0 |
LuminanceAdjustmentGreen | 0 |
LuminanceAdjustmentMagenta | 0 |
LuminanceAdjustmentOrange | 0 |
LuminanceAdjustmentPurple | 0 |
LuminanceAdjustmentRed | 0 |
LuminanceAdjustmentYellow | 0 |
LuminanceNoiseReductionContrast | 0 |
LuminanceNoiseReductionDetail | 40 |
LuminanceSmoothing | 36 |
Make | NIKON CORPORATION |
MaxApertureValue | 2.8 |
Megapixels | 1.6 |
MeteringMode | Multi-segment |
Model | NIKON D800 |
ModifyDate (1) | 2018:01:15 20:43:40+01:00 |
ModifyDate | 2018:01:15 20:43:40 |
PaintCorrectionActive | true |
PaintCorrectionAmount | 1.000000 |
PaintCorrectionBrightness | 0.000000 |
PaintCorrectionClarity2012 (17) | 0.076920 |
PaintCorrectionClarity2012 (18) | 0.162390 |
PaintCorrectionClarity2012 | 0.000000 |
PaintCorrectionContrast2012 (1) | 0.641030 |
PaintCorrectionContrast2012 (10) | 0.307690 |
PaintCorrectionContrast2012 (12) | 0.051280 |
PaintCorrectionContrast2012 (13) | 0.376070 |
PaintCorrectionContrast2012 (14) | 0.470090 |
PaintCorrectionContrast2012 (17) | 0.170940 |
PaintCorrectionContrast2012 (18) | 0.632480 |
PaintCorrectionContrast2012 (2) | 0.111110 |
PaintCorrectionContrast2012 (3) | 0.000000 |
PaintCorrectionContrast2012 (4) | -0.786320 |
PaintCorrectionContrast2012 (6) | 0.042740 |
PaintCorrectionContrast2012 (7) | 0.333330 |
PaintCorrectionContrast2012 (8) | -0.213680 |
PaintCorrectionContrast2012 | 0.350430 |
PaintCorrectionDefringe | 0.000000 |
PaintCorrectionExposure2012 (1) | -0.307750 |
PaintCorrectionExposure2012 (10) | 0.068500 |
PaintCorrectionExposure2012 (11) | -0.132750 |
PaintCorrectionExposure2012 (12) | -0.207750 |
PaintCorrectionExposure2012 (13) | -0.102500 |
PaintCorrectionExposure2012 (15) | 0.145250 |
PaintCorrectionExposure2012 (16) | -0.051250 |
PaintCorrectionExposure2012 (17) | -0.025750 |
PaintCorrectionExposure2012 (18) | 0.025750 |
PaintCorrectionExposure2012 (2) | -0.197750 |
PaintCorrectionExposure2012 (4) | -0.278750 |
PaintCorrectionExposure2012 (5) | 0.017250 |
PaintCorrectionExposure2012 (7) | -0.232750 |
PaintCorrectionExposure2012 (8) | -0.205250 |
PaintCorrectionExposure2012 (9) | 0.042750 |
PaintCorrectionExposure2012 | 0.067250 |
PaintCorrectionHighlights2012 (14) | 0.871790 |
PaintCorrectionHighlights2012 (16) | 0.666670 |
PaintCorrectionHighlights2012 (18) | 0.948720 |
PaintCorrectionHighlights2012 (4) | 1.000000 |
PaintCorrectionHighlights2012 (5) | 0.991450 |
PaintCorrectionHighlights2012 (7) | 0.957260 |
PaintCorrectionHighlights2012 | 0.777780 |
PaintCorrectionHue | 0.000000 |
PaintCorrectionLocalBlacks2012 | 0.000000 |
PaintCorrectionLocalDehaze | 0.000000 |
PaintCorrectionLocalWhites2012 | 0.000000 |
PaintCorrectionLuminanceNoise | 0.000000 |
PaintCorrectionMaskCenterWeight | 0.138457 |
PaintCorrectionMaskFlow | 0.856000 |
PaintCorrectionMaskRadius (1) | 0.146294 |
PaintCorrectionMaskRadius (10) | 0.063237 |
PaintCorrectionMaskRadius (11) | 0.062794 |
PaintCorrectionMaskRadius (12) | 0.035782 |
PaintCorrectionMaskRadius (13) | 0.058636 |
PaintCorrectionMaskRadius (14) | 0.058807 |
PaintCorrectionMaskRadius (15) | 0.103379 |
PaintCorrectionMaskRadius (16) | 0.104178 |
PaintCorrectionMaskRadius (17) | 0.106114 |
PaintCorrectionMaskRadius (18) | 0.117595 |
PaintCorrectionMaskRadius (19) | 0.081720 |
PaintCorrectionMaskRadius (2) | 0.133406 |
PaintCorrectionMaskRadius (20) | 0.082602 |
PaintCorrectionMaskRadius (21) | 0.092462 |
PaintCorrectionMaskRadius (22) | 0.072642 |
PaintCorrectionMaskRadius (23) | 0.052732 |
PaintCorrectionMaskRadius (24) | 0.040668 |
PaintCorrectionMaskRadius (25) | 0.028957 |
PaintCorrectionMaskRadius (3) | 0.172219 |
PaintCorrectionMaskRadius (4) | 0.089666 |
PaintCorrectionMaskRadius (5) | 0.065716 |
PaintCorrectionMaskRadius (6) | 0.093506 |
PaintCorrectionMaskRadius (7) | 0.095460 |
PaintCorrectionMaskRadius (8) | 0.052117 |
PaintCorrectionMaskRadius (9) | 0.064794 |
PaintCorrectionMaskRadius | 0.036201 |
PaintCorrectionMaskValue | 1.000000 |
PaintCorrectionMaskWhat | Mask/Paint |
PaintCorrectionMoire | 0.000000 |
PaintCorrectionSaturation (1) | -0.256410 |
PaintCorrectionSaturation (15) | -0.367520 |
PaintCorrectionSaturation (17) | -0.478630 |
PaintCorrectionSaturation (19) | -0.427350 |
PaintCorrectionSaturation (21) | -0.324790 |
PaintCorrectionSaturation (29) | -0.461540 |
PaintCorrectionSaturation (31) | -0.487180 |
PaintCorrectionSaturation (37) | -0.282050 |
PaintCorrectionSaturation | 0.000000 |
PaintCorrectionShadows2012 | 1.000000 |
PaintCorrectionSharpness | 0.000000 |
PaintCorrectionTemperature (1) | -0.205130 |
PaintCorrectionTemperature (10) | -0.421710 |
PaintCorrectionTemperature (15) | -0.179490 |
PaintCorrectionTemperature (16) | -0.478630 |
PaintCorrectionTemperature (5) | -0.034190 |
PaintCorrectionTemperature (9) | -0.170940 |
PaintCorrectionTemperature | -0.074190 |
PaintCorrectionTint (1) | 0.290600 |
PaintCorrectionTint (10) | -0.162390 |
PaintCorrectionTint | 0.000000 |
PaintCorrectionWhat | Correction |
ParametricDarks | +9 |
ParametricHighlights | -19 |
ParametricHighlightSplit | 75 |
ParametricLights | -25 |
ParametricMidtoneSplit | 50 |
ParametricShadows | 0 |
ParametricShadowSplit | 25 |
PerspectiveAspect | 0 |
PerspectiveHorizontal | 0 |
PerspectiveRotate | 0.0 |
PerspectiveScale | 100 |
PerspectiveUpright | 0 |
PerspectiveVertical | 0 |
PerspectiveX | 0.00 |
PerspectiveY | 0.00 |
PostCropVignetteAmount | -18 |
PostCropVignetteFeather | 50 |
PostCropVignetteHighlightContrast | 82 |
PostCropVignetteMidpoint | 50 |
PostCropVignetteRoundness | 0 |
PostCropVignetteStyle | 1 |
ProcessVersion | 6.7 |
ProfileDescription | sRGB IEC61966-2.1 |
RedHue | 0 |
RedSaturation | 0 |
Rights | |
Saturation (1) | +3 |
Saturation | Normal |
SaturationAdjustmentAqua | +8 |
SaturationAdjustmentBlue | 0 |
SaturationAdjustmentGreen | +7 |
SaturationAdjustmentMagenta | -18 |
SaturationAdjustmentOrange | -83 |
SaturationAdjustmentPurple | 0 |
SaturationAdjustmentRed | -18 |
SaturationAdjustmentYellow | -100 |
ScaleFactor35efl | 1.0 |
SceneCaptureType | Standard |
SceneType | Directly photographed |
SensingMethod | One-chip color area |
SensitivityType | Recommended Exposure Index |
SerialNumber | 2064113 |
Shadows2012 | +100 |
ShadowTint | 0 |
SharpenDetail | 25 |
SharpenEdgeMasking | 71 |
SharpenRadius | +1.5 |
Sharpness (1) | 19 |
Sharpness | Normal |
ShutterSpeed | 13 |
ShutterSpeedValue | 13 |
Software | Adobe Photoshop Lightroom 6.14 (Windows) |
SplitToningBalance | 0 |
SplitToningHighlightHue | 0 |
SplitToningHighlightSaturation | 0 |
SplitToningShadowHue | 0 |
SplitToningShadowSaturation | 0 |
SubjectDistanceRange | Unknown |
Tint | +9 |
ToneCurve | 0, 0, 255, 255 |
ToneCurveBlue | 0, 0, 255, 255 |
ToneCurveGreen | 0, 0, 255, 255 |
ToneCurveName | Linear |
ToneCurveName2012 | Linear |
ToneCurvePV2012 | 0, 0, 255, 255 |
ToneCurvePV2012Blue | 0, 0, 255, 255 |
ToneCurvePV2012Green | 0, 0, 255, 255 |
ToneCurvePV2012Red | 0, 0, 255, 255 |
ToneCurveRed | 0, 0, 255, 255 |
ToneMapStrength | 0 |
Transformation | Spherical |
Version | 10.1 |
Vibrance | +17 |
VignetteAmount | 0 |
VignetteCorrectionAlreadyApplied | True |
VirtualFocalLength | 0.317012 |
VirtualImageXCenter | 0.502612 |
VirtualImageYCenter | 0.222983 |
WhiteBalance (1) | Custom |
WhiteBalance | Manual |
Whites2012 | +39 |