Felt | Verdi |
AlreadyApplied | True |
Aperture | 11.0 |
ApertureValue | 11.0 |
AutoLateralCA | 1 |
BitsPerSample | 8 |
Blacks2012 | +35 |
BlueHue | +25 |
BlueSaturation | +20 |
CameraProfile | Adobe Standard |
Caption-Abstract | OLYMPUS DIGITAL CAMERA |
CFAPattern | [Red,Green][Green,Blue] |
CircleOfConfusion | 0.015 mm |
Clarity2012 | 0 |
ColorComponents | 3 |
ColorMode | RGB |
ColorNoiseReduction | 26 |
ColorNoiseReductionDetail | 50 |
ColorNoiseReductionSmoothness | 50 |
ColorSpace | Uncalibrated |
ColorTemperature | 4882 |
ColorTransform | YCbCr |
Contrast | Normal |
Contrast2012 | +4 |
ConvertToGrayscale | False |
Copyright | Øyvind Ludvigsen |
CopyrightNotice | Øyvind Ludvigsen |
CreateDate | 2018:04:11 18:58:58 |
CreatorTool | Adobe Photoshop Lightroom Classic 7.3 (Windows) |
CustomRendered | Normal |
DateCreated (1) | 2018:04:11 |
DateCreated | 2018:04:11 18:58:58 |
DateTimeOriginal | 2018:04:11 18:58:58 |
DefringeGreenAmount | 0 |
DefringeGreenHueHi | 60 |
DefringeGreenHueLo | 40 |
DefringePurpleAmount | 0 |
DefringePurpleHueHi | 70 |
DefringePurpleHueLo | 30 |
Dehaze | 0 |
Description | OLYMPUS DIGITAL CAMERA |
DigitalZoomRatio | 1 |
DistortionCorrectionAlreadyApplied | True |
ExifImageHeight | 1600 |
ExifImageWidth | 1200 |
Exposure2012 | +0.15 |
ExposureCompensation | 0 |
ExposureMode | Manual |
ExposureProgram | Manual |
ExposureTime | 2 |
Flash | On, Did not fire |
FlashCompensation | 0 |
FNumber | 11.0 |
FocalLength | 18.0 mm |
FocalLength35efl | 18.0 mm (35 mm equivalent: 36.0 mm) |
FocalLengthIn35mmFormat | 36 mm |
Format | image/jpeg |
FOV | 53.1 deg |
GainControl | None |
GradientBasedCorrActive | true |
GradientBasedCorrAmount | 1.000000 |
GradientBasedCorrBrightness | 0.000000 |
GradientBasedCorrClarity | 0.000000 |
GradientBasedCorrClarity2012 | 0.000000 |
GradientBasedCorrContrast | 0.000000 |
GradientBasedCorrContrast2012 | 0.000000 |
GradientBasedCorrCorrectionRangeMaskColorAmount | 0.500000 |
GradientBasedCorrCorrectionRangeMaskLumFeather | 0.500000 |
GradientBasedCorrCorrectionRangeMaskLumMax | 1.000000 |
GradientBasedCorrCorrectionRangeMaskLumMin | 0.000000 |
GradientBasedCorrCorrectionRangeMaskType | 0 |
GradientBasedCorrCorrectionRangeMaskVersion | +2 |
GradientBasedCorrDefringe | 0.000000 |
GradientBasedCorrExposure | 0.000000 |
GradientBasedCorrExposure2012 | 0.224449 |
GradientBasedCorrHighlights2012 | 0.000000 |
GradientBasedCorrHue | 0.000000 |
GradientBasedCorrLuminanceNoise | 0.000000 |
GradientBasedCorrMaskFullX | 0.083913 |
GradientBasedCorrMaskFullY | 0.268014 |
GradientBasedCorrMaskValue | 1.000000 |
GradientBasedCorrMaskWhat | Mask/Gradient |
GradientBasedCorrMaskZeroX | 0.373893 |
GradientBasedCorrMaskZeroY | 0.266914 |
GradientBasedCorrMoire | 0.000000 |
GradientBasedCorrSaturation | 0.000000 |
GradientBasedCorrShadows2012 | 0.000000 |
GradientBasedCorrSharpness | 0.000000 |
GradientBasedCorrTemperature | 0.000000 |
GradientBasedCorrTint | 0.000000 |
GradientBasedCorrWhat | Correction |
GrainAmount | 5 |
GrainFrequency | 1 |
GrainSize | 6 |
GreenHue | +25 |
GreenSaturation | +19 |
HasCrop | False |
HasSettings | True |
Highlights2012 | -25 |
HueAdjustmentAqua | -5 |
HueAdjustmentBlue | -15 |
HueAdjustmentGreen | +5 |
HueAdjustmentMagenta | +10 |
HueAdjustmentOrange | 0 |
HueAdjustmentPurple | -10 |
HueAdjustmentRed | +5 |
HueAdjustmentYellow | 0 |
HyperfocalDistance | 1.96 m |
ICCProfileName | Adobe RGB (1998) |
ImageDescription | OLYMPUS DIGITAL CAMERA |
ImageHeight | 1600 |
ImageSize | 1200x1600 |
ImageWidth | 1200 |
ISO | 64 |
LateralChromaticAberrationCorrectionAlreadyApplied | True |
Lens | OLYMPUS M.12-40mm F2.8 |
LensInfo | 12-40mm f/2.8 |
LensManualDistortionAmount | 0 |
LensModel | OLYMPUS M.12-40mm F2.8 |
LensProfileEnable | 0 |
LensProfileSetup | LensDefaults |
LensSerialNumber | AC5907302 |
LightSource | Unknown |
LightValue | 6.6 |
LuminanceAdjustmentAqua | -15 |
LuminanceAdjustmentBlue | -20 |
LuminanceAdjustmentGreen | -10 |
LuminanceAdjustmentMagenta | 0 |
LuminanceAdjustmentOrange | 0 |
LuminanceAdjustmentPurple | -10 |
LuminanceAdjustmentRed | -15 |
LuminanceAdjustmentYellow | +5 |
LuminanceNoiseReductionContrast | 0 |
LuminanceNoiseReductionDetail | 9 |
LuminanceSmoothing | 8 |
Make | OLYMPUS CORPORATION |
MaxApertureValue | 2.8 |
Megapixels | 1.9 |
MeteringMode | Multi-segment |
MissingCameraProfile | Optima 100 II - C |
Model | E-M1MarkII |
ModifyDate (1) | 2018:04:15 22:34:50+02:00 |
ModifyDate | 2018:04:15 22:34:50 |
Orientation | Horizontal (normal) |
OverrideLookVignette | False |
ParametricDarks | 0 |
ParametricHighlights | 0 |
ParametricHighlightSplit | 67 |
ParametricLights | 0 |
ParametricMidtoneSplit | 39 |
ParametricShadows | 0 |
ParametricShadowSplit | 20 |
PerspectiveAspect | 0 |
PerspectiveHorizontal | 0 |
PerspectiveRotate | 0.0 |
PerspectiveScale | 100 |
PerspectiveUpright | 0 |
PerspectiveVertical | 0 |
PerspectiveX | 0.00 |
PerspectiveY | 0.00 |
PostCropVignetteAmount | 0 |
ProcessVersion | 10.0 |
ProfileDescription | Adobe RGB (1998) |
Rating | 1 |
RawFileName | _WIL3098_ubehandlet.dng |
RedHue | +15 |
RedSaturation | +16 |
Rights | Øyvind Ludvigsen |
Saturation (1) | -5 |
Saturation | Normal |
SaturationAdjustmentAqua | -15 |
SaturationAdjustmentBlue | -33 |
SaturationAdjustmentGreen | -30 |
SaturationAdjustmentMagenta | -30 |
SaturationAdjustmentOrange | -5 |
SaturationAdjustmentPurple | -25 |
SaturationAdjustmentRed | -10 |
SaturationAdjustmentYellow | -13 |
ScaleFactor35efl | 2.0 |
SceneCaptureType | Standard |
SensitivityType | Standard Output Sensitivity |
SerialNumber | BHUA30586 |
Shadows2012 | +25 |
ShadowTint | 0 |
SharpenDetail | 25 |
SharpenEdgeMasking | 0 |
SharpenRadius | +1.0 |
Sharpness (1) | 15 |
Sharpness | Normal |
ShutterSpeed | 2 |
ShutterSpeedValue | 2 |
Software | Adobe Photoshop CC 2018 (Macintosh) |
SplitToningBalance | 0 |
SplitToningHighlightHue | 0 |
SplitToningHighlightSaturation | 0 |
SplitToningShadowHue | 0 |
SplitToningShadowSaturation | 0 |
Tint | +10 |
ToneCurve | 0, 0, 32, 22, 64, 56, 128, 128, 192, 196, 255, 255 |
ToneCurveBlue | 0, 0, 255, 255 |
ToneCurveGreen | 0, 0, 255, 255 |
ToneCurveName | Medium Contrast |
ToneCurveName2012 | Custom |
ToneCurvePV2012 | 0, 0, 104, 110, 169, 178, 255, 255 |
ToneCurvePV2012Blue | 0, 0, 17, 11, 78, 70, 132, 136, 186, 192, 255, 255 |
ToneCurvePV2012Green | 0, 0, 17, 8, 79, 70, 131, 135, 185, 192, 255, 255 |
ToneCurvePV2012Red | 0, 0, 17, 10, 77, 69, 128, 136, 185, 195, 255, 255 |
ToneCurveRed | 0, 0, 255, 255 |
ToneMapStrength | 0 |
URL_List | |
Version | 10.3 |
Vibrance | 0 |
VignetteAmount | 0 |
WhiteBalance (1) | Custom |
WhiteBalance | Auto |
Whites2012 | -25 |