Felt | Verdi |
AlreadyApplied | True |
Aperture | 10.0 |
ApertureValue | 10.0 |
Artist | Vidar M. Jacobsen |
BitsPerSample | 8 |
BlueHue | 0 |
BlueSaturation | 0 |
Brightness | +50 |
BrightnessValue | 7.37 |
By-line | Vidar M. Jacobsen |
CameraProfile | Adobe Standard |
CameraSerialNumber | 2124859 |
ChromaticAberrationB | 0 |
ChromaticAberrationR | 0 |
CircleOfConfusion | 0.020 mm |
Clarity | 0 |
ColorComponents | 3 |
ColorMode | RGB |
ColorNoiseReduction | 34 |
ColorNoiseReductionDetail | 50 |
ColorSpace | sRGB |
ColorTemperature | 6500 |
ColorTransform | YCbCr |
Contrast (2) | +38 |
Contrast | Normal |
ConvertToGrayscale | False |
CreateDate (1) | 2019:05:05 18:12:46+02:00 |
CreateDate | 2019:05:05 18:12:46 |
Creator | Vidar M. Jacobsen |
CreatorTool | DSLR-A300 v1.00 |
CustomRendered | Normal |
DateAcquired | 2019:05:06 03:07:50.360 |
DateTimeDigitized | 2019:05:05 18:12:46+02:00 |
DateTimeOriginal (1) | 2019:05:05 18:12:46+02:00 |
DateTimeOriginal | 2019:05:05 18:12:46 |
Defringe | 0 |
ExifImageHeight | 2592 |
ExifImageWidth | 3872 |
Exposure | 0.00 |
ExposureCompensation | 0 |
ExposureMode | Manual |
ExposureProgram | Manual |
ExposureTime | 1/320 |
FillLight | 14 |
Flash | Off, Did not fire |
FlashFired | False |
FlashFunction | False |
FlashMode | Off |
FlashRedEyeMode | False |
FlashReturn | No return detection |
FNumber | 10.0 |
FocalLength | 70.0 mm |
FocalLength35efl | 70.0 mm (35 mm equivalent: 105.0 mm) |
FocalLengthIn35mmFormat | 105 mm |
Format | image/jpeg |
FOV | 19.5 deg |
GrainAmount | 0 |
GreenHue | 0 |
GreenSaturation | 0 |
HasCrop | False |
HasSettings | True |
HighlightRecovery | 79 |
HueAdjustmentAqua | 0 |
HueAdjustmentBlue | 0 |
HueAdjustmentGreen | 0 |
HueAdjustmentMagenta | 0 |
HueAdjustmentOrange | 0 |
HueAdjustmentPurple | 0 |
HueAdjustmentRed | 0 |
HueAdjustmentYellow | 0 |
HyperfocalDistance | 24.46 m |
ICCProfileName | sRGB IEC61966-2.1 |
ImageHeight | 2592 |
ImageSize | 3872x2592 |
ImageWidth | 3872 |
ISO | 400 |
Keywords | Sandvika, Bærum, Badestrand |
LastKeywordIPTC | Sandvika, Bærum, Badestrand |
LastKeywordXMP | Sandvika, Bærum, Badestrand |
Lens | DT 55-200mm F4.0-5.6 |
LensID (1) | 49 |
LensID | Sony DT 55-200mm F4-5.6 (SAL55200) |
LensInfo | 55-200mm f/40-56 |
LensManualDistortionAmount | 0 |
LensManufacturer | Sony |
LensModel | DT 55-200mm |
LensProfileEnable | 0 |
LensProfileSetup | LensDefaults |
LightSource | Unknown |
LightValue | 13.0 |
LuminanceAdjustmentAqua | 0 |
LuminanceAdjustmentBlue | 0 |
LuminanceAdjustmentGreen | 0 |
LuminanceAdjustmentMagenta | 0 |
LuminanceAdjustmentOrange | 0 |
LuminanceAdjustmentPurple | 0 |
LuminanceAdjustmentRed | 0 |
LuminanceAdjustmentYellow | 0 |
LuminanceNoiseReductionContrast | 0 |
LuminanceNoiseReductionDetail | 50 |
LuminanceSmoothing | 48 |
Make | SONY |
MaxApertureValue | 4.0 |
Megapixels | 10.0 |
MeteringMode | Multi-segment |
Model | DSLR-A300 |
ModifyDate (1) | 2019:05:24 03:05:41+02:00 |
ModifyDate | 2019:05:24 03:05:41 |
Orientation | Horizontal (normal) |
ParametricDarks | 0 |
ParametricHighlights | 0 |
ParametricHighlightSplit | 75 |
ParametricLights | 0 |
ParametricMidtoneSplit | 50 |
ParametricShadows | 0 |
ParametricShadowSplit | 25 |
PerspectiveHorizontal | 0 |
PerspectiveRotate | 0.0 |
PerspectiveScale | 100 |
PerspectiveVertical | 0 |
PostCropVignetteAmount | 0 |
ProcessVersion | 5.7 |
ProfileDescription | sRGB IEC61966-2.1 |
Rating | 0 |
RawFileName | Sony K034 230 Sandvika.ARW |
RedHue | 0 |
RedSaturation | 0 |
Saturation (2) | +23 |
Saturation | Normal |
SaturationAdjustmentAqua | 0 |
SaturationAdjustmentBlue | 0 |
SaturationAdjustmentGreen | 0 |
SaturationAdjustmentMagenta | 0 |
SaturationAdjustmentOrange | 0 |
SaturationAdjustmentPurple | 0 |
SaturationAdjustmentRed | 0 |
SaturationAdjustmentYellow | 0 |
ScaleFactor35efl | 1.5 |
SceneCaptureType | Standard |
SceneType | Directly photographed |
Shadows | 14 |
ShadowTint | 0 |
SharpenDetail | 45 |
SharpenEdgeMasking | 59 |
SharpenRadius | +1.0 |
Sharpness (2) | 61 |
Sharpness | Normal |
ShutterSpeed | 1/320 |
ShutterSpeedValue | 1/320 |
SidecarForExtension | ARW |
Software | Adobe Photoshop Elements 9.0 Windows |
SplitToningBalance | 0 |
SplitToningHighlightHue | 0 |
SplitToningHighlightSaturation | 0 |
SplitToningShadowHue | 0 |
SplitToningShadowSaturation | 0 |
Subject | Sandvika, Bærum, Badestrand |
Tint | +10 |
ToneCurve | 0, 0, 32, 22, 64, 56, 128, 128, 192, 196, 255, 255 |
ToneCurveName | Medium Contrast |
URL_List | |
Version | 6.1 |
Vibrance | +41 |
VignetteAmount | 0 |
WhiteBalance (2) | Cloudy |
WhiteBalance | Auto |
XPAuthor | Vidar M. Jacobsen |
XPKeywords | Sandvika;Bærum;Badestrand |