Felt | Verdi |
AlreadyApplied | True |
Aperture | 9.0 |
ApertureValue | 9.0 |
Artist | unknown |
BitsPerSample | 8 |
BlueHue | 0 |
BlueSaturation | 0 |
Brightness | +6 |
By-line | Kristoffer Øverli Andersen |
CameraProfile | ACR 3.1 |
Category | |
ChromaticAberrationB | 0 |
ChromaticAberrationR | 0 |
CircleOfConfusion | 0.019 mm |
City | |
ColorComponents | 3 |
ColorNoiseReduction | 25 |
ColorTemperature | 4850 |
Contrast | 0 |
ConvertToGrayscale | False |
Copyright | Kristoffer Overli Andersen |
CopyrightNotice | Kristoffer Øverli Andersen |
Country | |
CreateDate | 2007:03:06 15:06:57 |
Creator | Kristoffer Øverli Andersen, Kristoffer Øverli Andersen |
CreatorAddress | Kløverenga 45 |
CreatorCity | Lillehammer |
CreatorCountry | Norway |
CreatorPostalCode | 2611 |
CreatorRegion | Oppland |
CreatorTool | Adobe Photoshop Lightroom |
CreatorWorkEmail | andkris@broadpark.no |
CreatorWorkTelephone | +47 90747320 |
CustomRendered | Normal |
DateTimeDigitized | 2007:03:06 15:06:57+01:00 |
DateTimeOriginal (1) | 2007:03:06 15:06:57+01:00 |
DateTimeOriginal | 2007:03:06 15:06:57 |
Exposure | -0.05 |
ExposureCompensation | 0 |
ExposureMode | Auto |
ExposureProgram | Aperture-priority AE |
ExposureTime | 1/50 |
FillLight | 0 |
Firmware | 1.0.3 |
Flash | Off, Did not fire |
FlashCompensation | 0 |
FlashFired | False |
FlashFunction | False |
FlashMode | Off |
FlashRedEyeMode | False |
FlashReturn | No return detection |
FNumber | 9.0 |
FocalLength | 39.0 mm |
FocalLength35efl | 39.0 mm (35 mm equivalent: 63.3 mm) |
FOV | 31.8 deg |
GreenHue | 0 |
GreenSaturation | 0 |
HasCrop | False |
HasSettings | True |
Headline | Tv-aksjon's tur våren 2007 |
HighlightRecovery | 31 |
HueAdjustmentAqua | 0 |
HueAdjustmentBlue | 0 |
HueAdjustmentGreen | 0 |
HueAdjustmentMagenta | 0 |
HueAdjustmentOrange | 0 |
HueAdjustmentPurple | 0 |
HueAdjustmentRed | 0 |
HueAdjustmentYellow | 0 |
HyperfocalDistance | 9.12 m |
ImageHeight | 700 |
ImageNumber | 189 |
ImageSize | 467x700 |
ImageWidth | 467 |
IntellectualGenre | |
ISO | 200 |
Lens | 17.0-50.0 mm |
LensInfo | 17-50mm f/? |
LightValue | 11.0 |
Location | |
LuminanceAdjustmentAqua | 0 |
LuminanceAdjustmentBlue | 0 |
LuminanceAdjustmentGreen | 0 |
LuminanceAdjustmentMagenta | 0 |
LuminanceAdjustmentOrange | 0 |
LuminanceAdjustmentPurple | 0 |
LuminanceAdjustmentRed | 0 |
LuminanceAdjustmentYellow | 0 |
LuminanceSmoothing | 0 |
Make | Canon |
Megapixels | 0.327 |
MeteringMode | Average |
Model | Canon EOS 350D DIGITAL |
ModifyDate (1) | 2007:03:22 18:37:01+01:00 |
ModifyDate | 2007:03:22 18:37:01 |
OwnerName | unknown |
ParametricDarks | 0 |
ParametricHighlights | 0 |
ParametricHighlightSplit | 75 |
ParametricLights | 0 |
ParametricMidtoneSplit | 50 |
ParametricShadows | 0 |
ParametricShadowSplit | 25 |
ProfileDescription | Adobe RGB (1998) |
Province-State | Afrika |
RedHue | 0 |
RedSaturation | 0 |
Rights | Kristoffer Øverli Andersen |
Saturation | 0 |
SaturationAdjustmentAqua | 0 |
SaturationAdjustmentBlue | 0 |
SaturationAdjustmentGreen | 0 |
SaturationAdjustmentMagenta | 0 |
SaturationAdjustmentOrange | 0 |
SaturationAdjustmentPurple | 0 |
SaturationAdjustmentRed | 0 |
SaturationAdjustmentYellow | 0 |
ScaleFactor35efl | 1.6 |
SceneCaptureType | Standard |
SerialNumber | 1930773710 |
Shadows | 5 |
ShadowTint | 0 |
Sharpness | 39 |
ShutterSpeed | 1/50 |
ShutterSpeedValue | 1/50 |
SplitToningBalance | 0 |
SplitToningHighlightHue | 0 |
SplitToningHighlightSaturation | 0 |
SplitToningShadowHue | 0 |
SplitToningShadowSaturation | 0 |
State | Afrika |
Tint | 0 |
ToneCurve | 0, 0, 32, 22, 64, 56, 128, 128, 192, 196, 255, 255 |
ToneCurveName | Medium Contrast |
Version | 1.0 |
Vibrance | 0 |
VignetteAmount | 0 |
WhiteBalance (2) | As Shot |
WhiteBalance | Auto |