Felt | Verdi |
AlreadyApplied | True |
Aperture | 8.0 |
ApertureValue | 8.0 |
Artist | Venche Jensen |
AuthorsPosition | Fotograf, webdesigner, journalist |
BitsPerSample (1) | 16, 16, 16 |
BitsPerSample (2) | 16 16 16 |
BitsPerSample | 8 |
BlueHue | 0 |
BlueSaturation | 0 |
Brightness | +50 |
By-line | Venche Jensen |
By-lineTitle | Fotograf, webdesigner, journalis |
CameraProfile | ACR 4.4 |
Category (1) | Lan |
Category | Landskap |
CFAPattern | [Red,Green][Green,Blue] |
ChromaticAberrationB | 0 |
ChromaticAberrationR | 0 |
CircleOfConfusion | 0.030 mm |
Clarity | +36 |
ColorComponents | 3 |
ColorMode | RGB |
ColorNoiseReduction | 25 |
ColorSpace (1) | Unknown (-1) |
ColorSpace | Uncalibrated |
ColorTemperature | 4350 |
Contrast (2) | +34 |
Contrast | Normal |
ConvertToGrayscale | False |
Copyright | Venche Jensen |
CopyrightFlag | True |
CopyrightNotice | Venche Jensen |
CreateDate (1) | 2008:04:08 01:08:59+02:00 |
CreateDate | 2008:04:07 21:38:47 |
Creator | Venche Jensen |
CreatorAddress | Postboks 152 |
CreatorCity | Alta |
CreatorCountry | Norway |
CreatorPostalCode | 9502 |
CreatorRegion | Finnmark |
CreatorTool | Adobe Photoshop CS3 Windows |
CreatorWorkEmail | wenche@roro.no |
CreatorWorkTelephone | +4745472913 |
CreatorWorkURL | www.venche.no |
CropAngle | 0 |
CropBottom | 0.931442 |
CropHeight | 1701 |
CropLeft | 0.163651 |
CropRight | 1 |
CropTop | 0.330969 |
CropUnit | pixels |
CropWidth | 3560 |
CustomRendered | Custom |
DateTimeDigitized | 2008:04:07 21:38:47.41+02:00 |
DateTimeOriginal (1) | 2008:04:07 21:38:47.41+02:00 |
DateTimeOriginal | 2008:04:07 21:38:47 |
Defringe | 0 |
DigitalZoomRatio | 1 |
ExifImageHeight | 573 |
ExifImageWidth | 1200 |
Exposure | -0.57 |
ExposureCompensation | 0 |
ExposureMode | Manual |
ExposureProgram | Manual |
ExposureTime | 13 |
FillLight | 0 |
Flash | No Flash |
FlashFired | False |
FlashFunction | False |
FlashMode | Unknown |
FlashRedEyeMode | False |
FlashReturn | No return detection |
FNumber | 8.0 |
FocalLength | 50.0 mm |
FocalLength35efl | 50.0 mm (35 mm equivalent: 50.0 mm) |
FocalLengthIn35mmFormat | 50 mm |
Format | image/jpeg |
FOV | 39.6 deg |
GainControl | None |
GreenHue | 0 |
GreenSaturation | 0 |
HasCrop | True |
HasSettings | True |
HighlightRecovery | 0 |
HueAdjustmentAqua | 0 |
HueAdjustmentBlue | 0 |
HueAdjustmentGreen | 0 |
HueAdjustmentMagenta | 0 |
HueAdjustmentOrange | 0 |
HueAdjustmentPurple | 0 |
HueAdjustmentRed | 0 |
HueAdjustmentYellow | 0 |
HyperfocalDistance | 10.40 m |
ICCProfileName | Adobe RGB (1998) |
ImageHeight (2) | 1701 |
ImageHeight | 573 |
ImageNumber | 1095 |
ImageSize | 1200x573 |
ImageWidth (2) | 3560 |
ImageWidth | 1200 |
ISO | 200 |
Keywords | nattbilder |
Lens | 50.0 mm f/1.4 |
LensInfo | 50mm f/1.4 |
LightSource | Unknown |
LightValue | 1.3 |
LuminanceAdjustmentAqua | 0 |
LuminanceAdjustmentBlue | 0 |
LuminanceAdjustmentGreen | 0 |
LuminanceAdjustmentMagenta | 0 |
LuminanceAdjustmentOrange | 0 |
LuminanceAdjustmentPurple | 0 |
LuminanceAdjustmentRed | 0 |
LuminanceAdjustmentYellow | 0 |
LuminanceSmoothing | 0 |
Make | NIKON CORPORATION |
Marked | True |
MaxApertureValue | 1.4 |
Megapixels | 0.688 |
MeteringMode | Multi-segment |
Model | NIKON D3 |
ModifyDate (1) | 2008:04:08 01:08:59+02:00 |
ModifyDate | 2008:04:08 01:08:59 |
Orientation | Horizontal (normal) |
ParametricDarks | +12 |
ParametricHighlights | 0 |
ParametricHighlightSplit | 75 |
ParametricLights | 0 |
ParametricMidtoneSplit | 50 |
ParametricShadows | +31 |
ParametricShadowSplit | 25 |
PhotometricInterpretation | RGB |
PlanarConfiguration | Chunky |
PostCropVignetteAmount | 0 |
ProfileDescription | Adobe RGB (1998) |
Rating | 1 |
RedHue | 0 |
RedSaturation | 0 |
Rights | Venche Jensen |
SamplesPerPixel | 3 |
Saturation (2) | +45 |
Saturation | Normal |
SaturationAdjustmentAqua | 0 |
SaturationAdjustmentBlue | 0 |
SaturationAdjustmentGreen | 0 |
SaturationAdjustmentMagenta | 0 |
SaturationAdjustmentOrange | 0 |
SaturationAdjustmentPurple | 0 |
SaturationAdjustmentRed | 0 |
SaturationAdjustmentYellow | 0 |
ScaleFactor35efl | 1.0 |
SceneCaptureType | Standard |
SceneType | Directly photographed |
SensingMethod | One-chip color area |
SerialNumber | 2037256 |
Shadows | 5 |
ShadowTint | 0 |
SharpenDetail | 25 |
SharpenEdgeMasking | 0 |
SharpenRadius | +1.0 |
Sharpness (2) | 25 |
Sharpness | Normal |
ShutterSpeed | 13 |
ShutterSpeedValue | 13 |
Software | Adobe Photoshop CS3 Windows |
SplitToningBalance | 0 |
SplitToningHighlightHue | 0 |
SplitToningHighlightSaturation | 0 |
SplitToningShadowHue | 0 |
SplitToningShadowSaturation | 0 |
Subject | nattbilder |
SubjectDistanceRange | Unknown |
Tint | -5 |
ToneCurve | 0, 0, 32, 22, 64, 56, 128, 128, 192, 196, 255, 255 |
ToneCurveName | Medium Contrast |
URL | www.venche.no |
URL_List | |
Version | 5.0 |
Vibrance | +26 |
VignetteAmount | 0 |
WebStatement | www.venche.no |
WhiteBalance (2) | As Shot |
WhiteBalance | Manual |