Felt | Verdi |
AlreadyApplied | True |
Aperture | 2.8 |
Aperture: 2
ApertureValue | 2.8 |
Artist | unknown |
Artist: unknown
BitsPerSample | 8 |
BlueHue | 0 |
BlueSaturation | 0 |
Brightness | +52 |
By-line | unknown |
CameraProfile | ACR 3.1 |
ChromaticAberrationB | 0 |
ChromaticAberrationR | 0 |
CircleOfConfusion | 0.019 mm |
Clarity | 100 |
ColorComponents | 3 |
ColorMode | RGB |
ColorNoiseReduction | 25 |
ColorSpace (1) | Unknown (-1) |
ColorSpace | Uncalibrated |
ColorSpace: 65535
ColorTemperature | 4550 |
Contrast | +16 |
ConvertToGrayscale | False |
CopyrightFlag | False |
CreateDate (1) | 2008:06:23 16:32+02:00 |
CreateDate | 2006:05:01 13:30:19 |
Creator | unknown |
CreatorTool | Adobe Photoshop CS3 Macintosh |
Credit | KRISTER SØRBØ |
CustomRendered | Normal |
Date and Time: 2006:05:01 13:30:19
DateCreated | 2006:05:01 |
DateTimeDigitized | 2006:05:01 13:30:19+02:00 |
DateTimeOriginal (1) | 2006:05:01 13:30:19+02:00 |
DateTimeOriginal | 2006:05:01 13:30:19 |
Defringe | 0 |
DerivedFrom | |
ExifCameraInfo | Model: Canon EOS 350D DIGITAL
ExifImageHeight | 535 |
ExifImageWidth | 755 |
Exposure Bias: 0.000
Exposure Program: Aperture prio
Exposure Time: 1/1600 Sec
Exposure | 0.00 |
ExposureCompensation | 0 |
ExposureMode | Auto |
ExposureProgram | Aperture-priority AE |
ExposureTime | 1/1600 |
F Number: 2.8
FillLight | 25 |
Firmware | 1.0.3 |
Flash | Off, Did not fire |
Flash: No
FlashCompensation | 0 |
FlashFired | False |
FlashFunction | False |
FlashMode | Off |
FlashRedEyeMode | False |
FlashReturn | No return detection |
FNumber | 2.8 |
FocalLength | 200.0 mm |
FocalLength35efl | 200.0 mm (35 mm equivalent: 324.4 mm) |
Format | image/jpeg |
FOV | 6.4 deg |
GreenHue | 0 |
GreenSaturation | 0 |
HasCrop | False |
HasSettings | True |
HighlightRecovery | 100 |
HueAdjustmentAqua | 0 |
HueAdjustmentBlue | 0 |
HueAdjustmentGreen | 0 |
HueAdjustmentMagenta | 0 |
HueAdjustmentOrange | 0 |
HueAdjustmentPurple | 0 |
HueAdjustmentRed | 0 |
HueAdjustmentYellow | 0 |
HyperfocalDistance | 771.30 m |
ICCProfileName | Adobe RGB (1998) |
ImageHeight | 535 |
ImageNumber | 246 |
ImageSize | 755x535 |
ImageWidth | 755 |
ISO Speed: 400
ISO | 400 |
Lens | 70.0-200.0 mm |
LensInfo | 70-200mm f/? |
LightValue | 11.6 |
LuminanceAdjustmentAqua | 0 |
LuminanceAdjustmentBlue | 0 |
LuminanceAdjustmentGreen | 0 |
LuminanceAdjustmentMagenta | 0 |
LuminanceAdjustmentOrange | 0 |
LuminanceAdjustmentPurple | 0 |
LuminanceAdjustmentRed | 0 |
LuminanceAdjustmentYellow | 0 |
LuminanceSmoothing | 0 |
Make | Canon |
Megapixels | 0.404 |
Metering Mode: Pattern
MeteringMode | Multi-segment |
Model | Canon EOS 350D DIGITAL |
ModifyDate (1) | 2008:06:23 16:32+02:00 |
ModifyDate | 2008:06:23 16:32:00 |
Orientation | Horizontal (normal) |
Orientation: 0
OwnerName | unknown |
ParametricDarks | 0 |
ParametricHighlights | 0 |
ParametricHighlightSplit | 75 |
ParametricLights | 0 |
ParametricMidtoneSplit | 50 |
ParametricShadows | 0 |
ParametricShadowSplit | 25 |
ProfileDescription | Adobe RGB (1998) |
Rating | 0 |
RawFileName | _MG_4598.CR2 |
RedHue | 0 |
RedSaturation | 0 |
Resolution: 300.000
Saturation | 0 |
SaturationAdjustmentAqua | 0 |
SaturationAdjustmentBlue | 0 |
SaturationAdjustmentGreen | 0 |
SaturationAdjustmentMagenta | 0 |
SaturationAdjustmentOrange | 0 |
SaturationAdjustmentPurple | 0 |
SaturationAdjustmentRed | 0 |
SaturationAdjustmentYellow | 0 |
ScaleFactor35efl | 1.6 |
SceneCaptureType | Standard |
SerialNumber | 830543574 |
Shadows | 0 |
ShadowTint | 0 |
SharpenDetail | 25 |
SharpenEdgeMasking | 0 |
SharpenRadius | +1.0 |
Sharpness | 0 |
Shutter Speed: 1/1000 Sec
ShutterSpeed | 1/1600 |
ShutterSpeedValue | 1/1600 |
Software | Adobe Photoshop CS3 Macintosh |
Software: Adobe Photoshop CS3 Macintosh
SplitToningBalance | 0 |
SplitToningHighlightHue | 0 |
SplitToningHighlightSaturation | 0 |
SplitToningShadowHue | 0 |
SplitToningShadowSaturation | 0 |
Tint | -2 |
ToneCurve | 46, 0, 111, 131, 255, 255 |
ToneCurveName | Custom |
URL_List | |
Version | 4.2 |
Vibrance | 0 |
VignetteAmount | 0 |
WhiteBalance (2) | As Shot |
WhiteBalance | Auto |
Zoom Length: 200 mm