Felt | Verdi |
AlreadyApplied | True |
BitsPerSample | 8 |
BlueHue | +11 |
BlueSaturation | -21 |
Brightness | 0 |
CameraProfile | ACR 2.4 |
ChromaticAberrationB | 0 |
ChromaticAberrationR | 0 |
Clarity | 0 |
ColorComponents | 3 |
ColorMode | RGB |
ColorNoiseReduction | 25 |
ColorSpace (1) | Unknown (-1) |
ColorSpace | Uncalibrated |
Contrast | 0 |
ConvertToGrayscale | False |
CopyrightFlag | False |
CreateDate | 2008:08:02 15:09:22+02:00 |
CreatorTool | Adobe Photoshop CS3 Windows |
CropAngle | -0.861552 |
CropBottom | 0.977664 |
CropHeight | 1001 |
CropLeft | 0 |
CropRight | 1 |
CropTop | 0.022432 |
CropUnit | pixels |
CropWidth | 1521 |
Defringe | 0 |
DerivedFrom | |
ExifImageHeight | 768 |
ExifImageWidth | 1167 |
Exposure | +1.24 |
FillLight | 0 |
Format | image/jpeg |
GreenHue | +16 |
GreenSaturation | +51 |
HasCrop | True |
HasSettings | True |
HighlightRecovery | 25 |
HueAdjustmentAqua | 0 |
HueAdjustmentBlue | 0 |
HueAdjustmentGreen | 0 |
HueAdjustmentMagenta | 0 |
HueAdjustmentOrange | 0 |
HueAdjustmentPurple | 0 |
HueAdjustmentRed | 0 |
HueAdjustmentYellow | 0 |
ICCProfileName | ProPhoto RGB |
ImageHeight (1) | 1001 |
ImageHeight | 768 |
ImageSize | 1167x768 |
ImageWidth (1) | 1521 |
ImageWidth | 1167 |
IncrementalTemperature | 0 |
IncrementalTint | 0 |
LuminanceAdjustmentAqua | 0 |
LuminanceAdjustmentBlue | 0 |
LuminanceAdjustmentGreen | 0 |
LuminanceAdjustmentMagenta | 0 |
LuminanceAdjustmentOrange | 0 |
LuminanceAdjustmentPurple | 0 |
LuminanceAdjustmentRed | 0 |
LuminanceAdjustmentYellow | 0 |
LuminanceSmoothing | 0 |
Megapixels | 0.896 |
ModifyDate (1) | 2008:08:02 15:09:22+02:00 |
ModifyDate | 2008:08:02 15:09:22 |
Orientation | Horizontal (normal) |
ParametricDarks | -20 |
ParametricHighlights | +60 |
ParametricHighlightSplit | 75 |
ParametricLights | +10 |
ParametricMidtoneSplit | 50 |
ParametricShadows | -60 |
ParametricShadowSplit | 25 |
ProfileDescription | ProPhoto RGB |
RedHue | +23 |
RedSaturation | +10 |
Saturation | 0 |
SaturationAdjustmentAqua | +50 |
SaturationAdjustmentBlue | +58 |
SaturationAdjustmentGreen | +10 |
SaturationAdjustmentMagenta | 0 |
SaturationAdjustmentOrange | +13 |
SaturationAdjustmentPurple | +23 |
SaturationAdjustmentRed | 0 |
SaturationAdjustmentYellow | +23 |
Shadows | 14 |
ShadowTint | +4 |
SharpenDetail | 25 |
SharpenEdgeMasking | 0 |
SharpenRadius | +1.0 |
Sharpness | 25 |
Software | Adobe Photoshop CS3 Windows |
SplitToningBalance | 0 |
SplitToningHighlightHue | 0 |
SplitToningHighlightSaturation | 0 |
SplitToningShadowHue | 0 |
SplitToningShadowSaturation | 0 |
ToneCurve | 0, 0, 255, 255 |
ToneCurveName | Linear |
URL_List | |
Version | 1.0 |
Vibrance | 0 |
VignetteAmount | -100 |
VignetteMidpoint | 40 |
WhiteBalance | As Shot |