Felt | Verdi |
AEBBracketValue | 0 |
AlreadyApplied | True |
Aperture | 25.0 |
ApertureValue | 25.0 |
Artist | Dag Isaksen |
AutoExposureBracketing | Off |
AutoISO | 100 |
BitsPerSample | 8 |
BlueHue | 0 |
BlueSaturation | 0 |
Brightness | 0 |
BulbDuration | 0 |
CameraProfile | ACR 4.6 |
CameraType | n/a |
CanonExposureMode | Unknown (-1) |
CanonFirmwareVersion | |
CanonFlashMode | n/a |
CanonImageSize | n/a |
CanonImageType | |
ChromaticAberrationB | 0 |
ChromaticAberrationR | 0 |
CircleOfConfusion | 0.019 mm |
Clarity | 0 |
ColorComponents | 3 |
ColorNoiseReduction | 25 |
ColorSpace | sRGB |
ColorTemperature | 5500 |
ContinuousDrive | Unknown (-1) |
Contrast | +50 |
ControlMode | n/a |
ConvertToGrayscale | False |
CreateDate (1) | 2009:05:05 09:03:16.61+02:00 |
CreateDate | 2009:05:05 09:03:16 |
Creator | Dag Isaksen |
CreatorTool | Adobe Photoshop Lightroom |
CustomRendered | Normal |
DateTimeDigitized | 2009:05:05 09:03:16.61+02:00 |
DateTimeOriginal (1) | 2009:05:05 09:03:16.61+02:00 |
DateTimeOriginal | 2009:05:05 09:03:16 |
Defringe | 0 |
DigitalZoom | None |
DriveMode | Continuous Shooting |
EasyMode | Unknown (-1) |
ExifImageHeight (1) | 3168 |
ExifImageHeight | 733 |
ExifImageWidth (1) | 4752 |
ExifImageWidth | 1100 |
Exposure | +0.95 |
ExposureCompensation | 0 |
ExposureMode | Auto |
ExposureProgram | Shutter speed priority AE |
ExposureTime | 1/30 |
FileNumber | 0 |
FillLight | 0 |
Firmware | 1.0.3 |
Flash | Off, Did not fire |
FlashBits | (none) |
FlashCompensation | 0 |
FlashExposureComp | 0 |
FlashFired | False |
FlashFunction | False |
FlashGuideNumber | 0 |
FlashMode | Off |
FlashRedEyeMode | False |
FlashReturn | No return detection |
FNumber | 25.0 |
FocalLength | 200.0 mm |
FocalLength35efl | 200.0 mm (35 mm equivalent: 316.9 mm) |
FocalUnits | 32/mm |
FocusMode | Single |
FocusRange | Not Known |
FOV | 6.5 deg |
GreenHue | 0 |
GreenSaturation | 0 |
HasCrop | False |
HasSettings | True |
HighlightRecovery | 7 |
HueAdjustmentAqua | 0 |
HueAdjustmentBlue | 0 |
HueAdjustmentGreen | 0 |
HueAdjustmentMagenta | 0 |
HueAdjustmentOrange | 0 |
HueAdjustmentPurple | 0 |
HueAdjustmentRed | 0 |
HueAdjustmentYellow | 0 |
HyperfocalDistance | 84.38 m |
ImageHeight (1) | 3168 |
ImageHeight | 733 |
ImageNumber | 0 |
ImageSize | 1100x733 |
ImageWidth (1) | 4752 |
ImageWidth | 1100 |
ISO | 100 |
Lens (1) | EF70-200mm f/4L IS USM |
Lens | 0.0 mm |
Lens35efl | 0.0 mm (35 mm equivalent: 0.0 mm) |
LensID | n/a |
LensInfo | 70-200mm f/? |
LensType | n/a |
LightValue | 14.2 |
LuminanceAdjustmentAqua | 0 |
LuminanceAdjustmentBlue | 0 |
LuminanceAdjustmentGreen | 0 |
LuminanceAdjustmentMagenta | 0 |
LuminanceAdjustmentOrange | 0 |
LuminanceAdjustmentPurple | 0 |
LuminanceAdjustmentRed | 0 |
LuminanceAdjustmentYellow | 0 |
LuminanceSmoothing | 0 |
MacroMode | Unknown (0) |
Make | Canon |
ManualFlashOutput | n/a |
MaxApertureValue | 4.0 |
MaxFocalLength | 0 mm |
MeasuredEV | 5.00 |
Megapixels | 0.806 |
MeteringMode (1) | Multi-segment |
MeteringMode | Unknown (-1) |
MinFocalLength | 0 mm |
Model | Canon EOS 50D |
ModifyDate (1) | 2009:05:24 14:23:41+02:00 |
ModifyDate | 2009:05:05 09:03:16 |
NDFilter | n/a |
OpticalZoomCode | n/a |
Orientation | Horizontal (normal) |
OwnerName | Dag Isaksen |
ParametricDarks | -14 |
ParametricHighlights | +100 |
ParametricHighlightSplit | 75 |
ParametricLights | -57 |
ParametricMidtoneSplit | 50 |
ParametricShadows | 0 |
ParametricShadowSplit | 25 |
PostCropVignetteAmount | 0 |
ProfileDescription | sRGB v1.31 (Canon) |
Quality | Fine |
RedHue | 0 |
RedSaturation | 0 |
RelatedImageHeight | 733 |
RelatedImageWidth | 1100 |
Saturation | 0 |
SaturationAdjustmentAqua | 0 |
SaturationAdjustmentBlue | 0 |
SaturationAdjustmentGreen | 0 |
SaturationAdjustmentMagenta | 0 |
SaturationAdjustmentOrange | 0 |
SaturationAdjustmentPurple | 0 |
SaturationAdjustmentRed | 0 |
SaturationAdjustmentYellow | 0 |
ScaleFactor35efl | 1.6 |
SceneCaptureType | Standard |
SelfTimer | Off |
SequenceNumber | 0 |
SerialNumber | 230106735 |
Shadows | 30 |
ShadowTint | 0 |
SharpenDetail | 25 |
SharpenEdgeMasking | 0 |
SharpenRadius | +1.0 |
Sharpness | 25 |
ShootingMode | Unknown (-1) |
ShutterSpeed | 1/30 |
ShutterSpeedValue | 1/30 |
SlowShutter | None |
Software | Digital Photo Professional |
SplitToningBalance | 0 |
SplitToningHighlightHue | 0 |
SplitToningHighlightSaturation | 0 |
SplitToningShadowHue | 0 |
SplitToningShadowSaturation | 0 |
SRAWQuality | n/a |
TargetAperture | 25 |
TargetExposureTime | 1/30 |
Tint | +10 |
ToneCurve | 0, 0, 32, 16, 64, 50, 128, 128, 192, 202, 255, 255 |
ToneCurveName | Strong Contrast |
UserComment | |
Version | 4.6 |
Vibrance | 0 |
VignetteAmount | 0 |
WhiteBalance (1) | Auto |
WhiteBalance (3) | As Shot |
WhiteBalance | Unknown (-1) |
ZoomSourceWidth | 0 |
ZoomTargetWidth | 0 |