Felt | Verdi |
AlreadyApplied | True |
Aperture | 11.0 |
ApertureValue | 11.0 |
Artist | Geir Ebbestad |
BitsPerSample | 8 |
BlueHue | 0 |
BlueSaturation | 0 |
Brightness | +100 |
By-line | Geir Ebbestad |
CameraProfile | ACR 4.4 |
ChromaticAberrationB | 0 |
ChromaticAberrationR | 0 |
CircleOfConfusion | 0.019 mm |
Clarity | +43 |
ColorComponents | 3 |
ColorMode | RGB |
ColorNoiseReduction | 25 |
ColorSpace (1) | Unknown (-1) |
ColorSpace | Uncalibrated |
ColorTemperature | 5150 |
Contrast | +66 |
ConvertToGrayscale | True |
Copyright | Geir Ebbestad |
CopyrightFlag | True |
CopyrightNotice | Geir Ebbestad |
CreateDate (1) | 2009:11:26 14:21:09+01:00 |
CreateDate | 2009:11:26 11:19:04 |
Creator | Geir Ebbestad |
CreatorAddress | Myrvollveien 11 |
CreatorCity | Kløfta |
CreatorCountry | Norway |
CreatorPostalCode | 2040 |
CreatorTool | Adobe Photoshop Elements 7.0 Windows |
CreatorWorkEmail | geir-ebbestad@c2i.net |
CustomRendered | Normal |
DateTimeDigitized | 2009:11:26 11:19:04+01:00 |
DateTimeOriginal (1) | 2009:11:26 11:19:04+01:00 |
DateTimeOriginal | 2009:11:26 11:19:04 |
Defringe | 0 |
ExifImageHeight | 813 |
ExifImageWidth | 873 |
Exposure | -0.76 |
ExposureCompensation | 0 |
ExposureMode | Manual |
ExposureProgram | Manual |
ExposureTime | 2 |
FillLight | 0 |
Firmware | 1.1.1 |
Flash | Off, Did not fire |
FlashCompensation | -0.666666666666667 |
FlashFired | False |
FlashFunction | False |
FlashMode | Off |
FlashRedEyeMode | False |
FlashReturn | No return detection |
FNumber | 11.0 |
FocalLength | 110.0 mm |
FocalLength35efl | 110.0 mm (35 mm equivalent: 178.0 mm) |
Format | image/jpeg |
FOV | 11.5 deg |
GrayMixerAqua | -23 |
GrayMixerBlue | -3 |
GrayMixerGreen | -18 |
GrayMixerMagenta | +12 |
GrayMixerOrange | 0 |
GrayMixerPurple | +11 |
GrayMixerRed | +9 |
GrayMixerYellow | -6 |
GreenHue | 0 |
GreenSaturation | 0 |
HasCrop | False |
HasSettings | True |
HighlightRecovery | 0 |
HyperfocalDistance | 59.25 m |
ICCProfileName | Adobe RGB (1998) |
ImageHeight (1) | 2592 |
ImageHeight | 813 |
ImageNumber | 32 |
ImageSize | 873x813 |
ImageWidth (1) | 3888 |
ImageWidth | 873 |
ISO | 100 |
Lens | 70.0-200.0 mm |
LensInfo | 70-200mm f/? |
LightValue | 5.9 |
LuminanceSmoothing | 0 |
Make | Canon |
Marked | True |
MaxApertureValue | 2.8 |
Megapixels | 0.710 |
MeteringMode | Average |
Model | Canon EOS 400D DIGITAL |
ModifyDate (1) | 2009:11:26 14:21:09+01:00 |
ModifyDate | 2009:11:26 14:21:09 |
Orientation | Horizontal (normal) |
OwnerName | unknown |
ParametricDarks | -5 |
ParametricHighlights | +2 |
ParametricHighlightSplit | 75 |
ParametricLights | +7 |
ParametricMidtoneSplit | 50 |
ParametricShadows | -5 |
ParametricShadowSplit | 25 |
PostCropVignetteAmount | 0 |
ProfileDescription | Adobe RGB (1998) |
RedHue | 0 |
RedSaturation | 0 |
Rights | Geir Ebbestad |
ScaleFactor35efl | 1.6 |
SceneCaptureType | Standard |
SerialNumber | 1781109475 |
Shadows | 11 |
ShadowTint | 0 |
SharpenDetail | 25 |
SharpenEdgeMasking | 0 |
SharpenRadius | +1.0 |
Sharpness | 70 |
ShutterSpeed | 2 |
ShutterSpeedValue | 2 |
Software | Adobe Photoshop Elements 7.0 Windows |
SplitToningBalance | 0 |
SplitToningHighlightHue | 0 |
SplitToningHighlightSaturation | 0 |
SplitToningShadowHue | 0 |
SplitToningShadowSaturation | 0 |
Tint | +8 |
ToneCurve | 0, 0, 32, 22, 64, 56, 128, 128, 192, 196, 255, 255 |
ToneCurveName | Medium Contrast |
URL_List | |
Version | 5.5 |
VignetteAmount | 0 |
WhiteBalance (2) | As Shot |
WhiteBalance | Manual |