Felt | Verdi |
AlreadyApplied | True |
Aperture | 3.5 |
ApertureValue | 3.5 |
Artist | S. Nybraten |
BitsPerSample | 8 |
BlueHue | 0 |
BlueSaturation | 0 |
Brightness | 0 |
By-line | S. Nybråten |
CameraProfile | Embedded |
ChromaticAberrationB | 0 |
ChromaticAberrationR | 0 |
CircleOfConfusion | 0.006 mm |
Clarity | +20 |
ColorComponents | 1 |
ColorNoiseReduction | 26 |
ColorNoiseReductionDetail | 50 |
Contrast | +22 |
ConvertToGrayscale | True |
CreateDate (1) | 2009:10:06 08:11:47+02:00 |
CreateDate | 2009:10:06 08:11:47 |
Creator | S. Nybråten |
CreatorTool | Adobe Photoshop Lightroom |
CropAngle | 0.69404 |
CropBottom | 0.922807 |
CropHeight | 719 |
CropLeft | 0.062332 |
CropRight | 0.993276 |
CropTop | 0.173242 |
CropUnit | pixels |
CropWidth | 1224 |
CustomRendered | Normal |
DateTimeDigitized | 2009:10:06 08:11:47+02:00 |
DateTimeOriginal (1) | 2009:10:06 08:11:47+02:00 |
DateTimeOriginal | 2009:10:06 08:11:47 |
Defringe | 0 |
DigitalZoomRatio | 1 |
ExifImageHeight | 719 |
ExifImageWidth | 1224 |
Exposure | -0.25 |
ExposureCompensation | 0 |
ExposureMode | Manual |
ExposureTime | 1/50 |
FillLight | 3 |
Firmware | 1.00 |
Flash | On, Red-eye reduction |
FlashCompensation | 0 |
FlashFired | True |
FlashFunction | False |
FlashMode | On |
FlashRedEyeMode | True |
FlashReturn | No return detection |
FNumber | 3.5 |
FocalLength | 16.8 mm |
FocalLength35efl | 16.8 mm (35 mm equivalent: 78.7 mm) |
FOV | 25.8 deg |
GrainAmount | 0 |
GrayMixerAqua | -19 |
GrayMixerBlue | +8 |
GrayMixerGreen | -26 |
GrayMixerMagenta | +4 |
GrayMixerOrange | -18 |
GrayMixerPurple | +15 |
GrayMixerRed | -9 |
GrayMixerYellow | -22 |
GreenHue | 0 |
GreenSaturation | 0 |
HasCrop | True |
HasSettings | True |
HighlightRecovery | 0 |
HyperfocalDistance | 12.59 m |
ImageHeight | 719 |
ImageSize | 1224x719 |
ImageWidth | 1224 |
IncrementalTemperature | +10 |
IncrementalTint | +3 |
ISO | 80 |
Keywords | Speiling |
Lens | 7.4-44.4 mm |
LensID (1) | 65535 |
LensID | Unknown 7-44mm |
LensInfo | 7.4-44.4mm f/? |
LightValue | 9.6 |
Make | Canon |
MaxApertureValue | 3.5 |
Megapixels | 0.880 |
MeteringMode | Multi-segment |
Model | Canon PowerShot G9 |
ModifyDate (1) | 2009:12:11 14:32:38+01:00 |
ModifyDate | 2009:12:11 14:32:38 |
NoiseReductionContrast | 0 |
OwnerName | S. Nybråten |
ParametricDarks | 0 |
ParametricHighlights | 0 |
ParametricHighlightSplit | 75 |
ParametricLights | 0 |
ParametricMidtoneSplit | 50 |
ParametricShadows | 0 |
ParametricShadowSplit | 25 |
PostCropVignetteAmount | 0 |
ProfileDescription | sRGB IEC61966-2.1 |
RedHue | 0 |
RedSaturation | 0 |
RenderVersion | 5.7 |
ScaleFactor35efl | 4.7 |
SceneCaptureType | Standard |
SensingMethod | One-chip color area |
Shadows | 29 |
ShadowTint | 0 |
SharpenDetail | 25 |
SharpenEdgeMasking | 0 |
SharpenRadius | +1.0 |
Sharpness | 66 |
ShutterSpeed | 1/50 |
ShutterSpeedValue | 1/50 |
SplitToningBalance | 0 |
SplitToningHighlightHue | 0 |
SplitToningHighlightSaturation | 0 |
SplitToningShadowHue | 0 |
SplitToningShadowSaturation | 0 |
Subject | Speiling |
ToneCurve | 0, 0, 255, 255 |
ToneCurveName | Linear |
Version | 6.0 |
VignetteAmount | 0 |
WhiteBalance | Auto |