Felt | Verdi |
AlreadyApplied | True |
Aperture | 5.0 |
ApertureValue | 5.0 |
Artist | Lars Geir Whist Tvedt |
BitsPerSample | 8 |
BlueHue | 0 |
BlueSaturation | 0 |
Brightness | +50 |
By-line | Lars Geir Whist Tvedt |
CameraProfile | Adobe Standard |
ChromaticAberrationB | 0 |
ChromaticAberrationR | 0 |
CircleOfConfusion | 0.019 mm |
Clarity | +71 |
ColorComponents | 3 |
ColorNoiseReduction | 25 |
ColorTemperature | 4850 |
Contrast | +46 |
ConvertToGrayscale | True |
Copyright | Copyright (C) Lars Whist |
CopyrightFlag | True |
CopyrightNotice | Copyright © Lars Whist |
CreateDate (1) | 2008:04:11 18:46:29.03+02:00 |
CreateDate | 2008:04:11 18:46:29 |
Creator | Lars Geir Whist Tvedt |
CreatorCity | Oslo |
CreatorCountry | Norway |
CreatorTool | Adobe Photoshop Lightroom |
CreatorWorkEmail | lars.whist@gmail.com |
CreatorWorkTelephone | 45044782 |
CropAngle | 0 |
CropBottom | 1 |
CropHeight | 378 |
CropLeft | 0.010463 |
CropRight | 0.926756 |
CropTop | 0.083707 |
CropUnit | pixels |
CropWidth | 567 |
CustomRendered | Normal |
DateTimeDigitized | 2008:04:11 18:46:29.03+02:00 |
DateTimeOriginal (1) | 2008:04:11 18:46:29.03+02:00 |
DateTimeOriginal | 2008:04:11 18:46:29 |
Defringe | 0 |
ExifImageHeight | 378 |
ExifImageWidth | 567 |
Exposure | -1.91 |
ExposureCompensation | 0 |
ExposureMode | Auto |
ExposureProgram | Aperture-priority AE |
ExposureTime | 1/1000 |
FillLight | 0 |
Firmware | 1.0.4 |
Flash | Off, Did not fire |
FlashCompensation | 0 |
FlashFired | False |
FlashFunction | False |
FlashMode | Off |
FlashRedEyeMode | False |
FlashReturn | No return detection |
FNumber | 5.0 |
FocalLength | 34.0 mm |
FocalLength35efl | 34.0 mm (35 mm equivalent: 54.9 mm) |
FOV | 36.3 deg |
GrayMixerAqua | -19 |
GrayMixerBlue | +8 |
GrayMixerGreen | -26 |
GrayMixerMagenta | +4 |
GrayMixerOrange | -18 |
GrayMixerPurple | +15 |
GrayMixerRed | -9 |
GrayMixerYellow | -22 |
GreenHue | 0 |
GreenSaturation | 0 |
HasCrop | True |
HasSettings | True |
HighlightRecovery | 88 |
HyperfocalDistance | 12.43 m |
ImageHeight | 378 |
ImageNumber | 0 |
ImageSize | 567x378 |
ImageWidth | 567 |
ISO | 100 |
Keywords | DTIP2008 Nice, Nice, fontene |
Lens | EF-S18-55mm f/3.5-5.6 IS |
LensInfo | 18-55mm f/? |
LightValue | 14.6 |
LuminanceSmoothing | 0 |
Make | Canon |
Marked | True |
MaxApertureValue | 4.6 |
Megapixels | 0.214 |
MeteringMode | Multi-segment |
Model | Canon EOS 450D |
ModifyDate (1) | 2009:11:16 22:08:45+01:00 |
ModifyDate | 2009:11:16 22:08:45 |
ParametricDarks | 0 |
ParametricHighlights | 0 |
ParametricHighlightSplit | 75 |
ParametricLights | 0 |
ParametricMidtoneSplit | 50 |
ParametricShadows | 0 |
ParametricShadowSplit | 25 |
PostCropVignetteAmount | 0 |
ProfileDescription | sRGB IEC61966-2.1 |
Rating | 5 |
RedHue | 0 |
RedSaturation | 0 |
Rights | Copyright © Lars Whist |
ScaleFactor35efl | 1.6 |
SceneCaptureType | Standard |
SerialNumber | 330118069 |
Shadows | 17 |
ShadowTint | 0 |
SharpenDetail | 25 |
SharpenEdgeMasking | 0 |
SharpenRadius | +1.0 |
Sharpness | 25 |
ShutterSpeed | 1/1000 |
ShutterSpeedValue | 1/1000 |
SplitToningBalance | 0 |
SplitToningHighlightHue | 0 |
SplitToningHighlightSaturation | 0 |
SplitToningShadowHue | 0 |
SplitToningShadowSaturation | 0 |
Subject | DTIP2008 Nice, Nice, fontene |
Tint | -2 |
ToneCurve | 0, 0, 32, 16, 64, 50, 128, 128, 192, 202, 255, 255 |
ToneCurveName | Strong Contrast |
UsageTerms | No reproduction of any kind without prior written |
Version | 5.5 |
VignetteAmount | 0 |
WhiteBalance (2) | Custom |
WhiteBalance | Auto |