Felt | Verdi |
ActiveD-Lighting | Off |
AFAperture | 4.9 |
AFAreaMode | Dynamic Area (closest subject) |
AFPoint | Center |
AFPointsInFocus | Center |
AlreadyApplied | False |
Aperture | 29.0 |
ApertureValue | 29.0 |
BitsPerSample (1) | 8, 8, 8 |
BitsPerSample | 8 |
BlueBalance | 1.316406 |
BlueHue | 0 |
BlueSaturation | 0 |
Brightness | 0 |
CameraProfile | Embedded |
CFAPattern | [Green,Blue][Red,Green] |
ChromaticAberrationB | 0 |
ChromaticAberrationR | 0 |
CircleOfConfusion | 0.020 mm |
Clarity | 0 |
ColorComponents | 3 |
ColorHue | Mode3a |
ColorMode (1) | Color |
ColorMode | RGB |
ColorNoiseReduction | 0 |
ColorSpace | sRGB |
CompressedBitsPerPixel | 4 |
Contrast (2) | -14 |
Contrast | High |
ConvertToGrayscale | False |
CreateDate (1) | 2010:02:17 15:30:44.90+01:00 |
CreateDate | 2010:02:17 15:30:44 |
CreatorTool | Ver.1.01 |
CropHiSpeed | Off (3904x2616 cropped to 3904x2616 at pixel 0,0) |
CustomRendered | Normal |
DateDisplayFormat | Y/M/D |
DateStampMode | Off |
DateTimeDigitized | 2010:02:17 15:30:44.90+01:00 |
DateTimeOriginal (1) | 2010:02:17 15:30:44.90+01:00 |
DateTimeOriginal | 2010:02:17 15:30:44 |
DaylightSavings | No |
Defringe | 0 |
DigitalZoomRatio | 1 |
DOF | inf (1.16 m - inf) |
EffectiveMaxAperture | 4.9 |
ExifImageHeight | 2592 |
ExifImageWidth | 3872 |
ExitPupilPosition | 93.1 mm |
Exposure | 0.00 |
ExposureCompensation | 0 |
ExposureDifference | +0.4 |
ExposureMode | Manual |
ExposureProgram | Manual |
ExposureTime | 1/4 |
ExternalFlashExposureComp | 0 |
ExternalFlashFirmware | n/a |
ExternalFlashFlags | (none) |
FileInfoVersion | 0100 |
FileNumber | 0234 |
FillLight | 0 |
Flash | No Flash |
FlashCommanderMode | Off |
FlashCompensation | 0 |
FlashControlMode | Off |
FlashExposureComp | 0 |
FlashFired | False |
FlashFunction | False |
FlashGNDistance | 0 |
FlashGroupACompensation | 0 |
FlashGroupAControlMode | Off |
FlashGroupBCompensation | 0 |
FlashGroupBControlMode | Off |
FlashGroupCCompensation | 0 |
FlashGroupCControlMode | Off |
FlashInfoVersion | 0102 |
FlashMode (1) | Unknown |
FlashMode | Did Not Fire |
FlashRedEyeMode | False |
FlashReturn | No return detection |
FlashSetting | Normal |
FlashSource | None |
FlashType | |
FNumber | 29.0 |
FocalLength (1) | 32.7 mm |
FocalLength | 32.0 mm |
FocalLength35efl | 32.0 mm (35 mm equivalent: 48.0 mm) |
FocalLengthIn35mmFormat | 48 mm |
FocusDistance | 3.35 m |
FocusMode | AF-A |
FocusPosition | 0x06 |
FOV | 40.8 deg (2.49 m) |
GainControl | None |
GreenHue | 0 |
GreenSaturation | 0 |
HasCrop | False |
HasSettings | True |
HierarchicalSubject | |
HighISONoiseReduction | Off |
HighlightRecovery | 28 |
HueAdjustment | 0 |
HueAdjustmentAqua | 0 |
HueAdjustmentBlue | 0 |
HueAdjustmentGreen | 0 |
HueAdjustmentMagenta | 0 |
HueAdjustmentOrange | 0 |
HueAdjustmentPurple | 0 |
HueAdjustmentRed | 0 |
HueAdjustmentYellow | 0 |
HyperfocalDistance | 1.76 m |
ICCProfileName | sRGB IEC61966-2.1 |
ImageBoundary | 0 0 3872 2592 |
ImageDataSize | 4445192 |
ImageHeight | 2592 |
ImageNumber | 2339 |
ImageOptimization | Normal |
ImageSize | 3872x2592 |
ImageWidth | 3872 |
IncrementalTemperature | 0 |
IncrementalTint | 0 |
ISO | 100 |
ISO2 | 100 |
ISOExpansion | Off |
ISOExpansion2 | Off |
ISOSetting | 100 |
Lens (1) | 18-55mm f/3.5-5.6 |
Lens | 18.0-55.0 mm f/3.5-5.6 |
LensDataVersion | 0202 |
LensFStops | 5.33 |
LensID | AF-S DX VR Zoom-Nikkor 18-55mm f/3.5-5.6G |
LensIDNumber | 154 |
LensInfo | 18-55mm f/3.5-5.6 |
LensSpec | 18-55mm f/3.5-5.6 G VR |
LensType | G VR |
LightSource (1) | Unknown |
LightSource | Natural |
LightValue | 11.7 |
LuminanceAdjustmentAqua | 0 |
LuminanceAdjustmentBlue | 0 |
LuminanceAdjustmentGreen | 0 |
LuminanceAdjustmentMagenta | 0 |
LuminanceAdjustmentOrange | 0 |
LuminanceAdjustmentPurple | 0 |
LuminanceAdjustmentRed | 0 |
LuminanceAdjustmentYellow | 0 |
LuminanceSmoothing | 0 |
Make | NIKON CORPORATION |
MakerNoteVersion | 2.10 |
MaxApertureAtMaxFocal | 5.7 |
MaxApertureAtMinFocal | 3.6 |
MaxApertureValue | 4.8 |
MaxFocalLength | 55.0 mm |
MCUVersion | 156 |
Megapixels | 10.0 |
MemoryCardNumber | 0 |
MeteringMode | Multi-segment |
MinFocalLength | 18.3 mm |
Model | NIKON D60 |
ModifyDate (1) | 2010:02:17 15:30:44.90+01:00 |
ModifyDate | 2010:02:17 15:30:44 |
MultiExposureAutoGain | Off |
MultiExposureMode | Off |
MultiExposureShots | 0 |
MultiExposureVersion | 0100 |
NoiseReduction | Off |
Orientation | Horizontal (normal) |
ParametricDarks | 0 |
ParametricHighlights | 0 |
ParametricHighlightSplit | 75 |
ParametricLights | 0 |
ParametricMidtoneSplit | 50 |
ParametricShadows | 0 |
ParametricShadowSplit | 25 |
PhotometricInterpretation | RGB |
PostCropVignetteAmount | 0 |
PowerUpTime | 2010:02:17 15:28:11 |
ProgramShift | 0 |
Quality | Fine |
Rating | 0 |
RawFileName | lang_lukker_per_martin.JPG |
RedBalance | 1.882813 |
RedHue | 0 |
RedSaturation | 0 |
SamplesPerPixel | 3 |
Saturation (1) | Auto |
Saturation (3) | +36 |
Saturation | Normal |
SaturationAdjustmentAqua | 0 |
SaturationAdjustmentBlue | 0 |
SaturationAdjustmentGreen | 0 |
SaturationAdjustmentMagenta | 0 |
SaturationAdjustmentOrange | 0 |
SaturationAdjustmentPurple | 0 |
SaturationAdjustmentRed | 0 |
SaturationAdjustmentYellow | 0 |
ScaleFactor35efl | 1.5 |
SceneCaptureType | Standard |
SceneType | Directly photographed |
SensingMethod | One-chip color area |
SensorPixelSize | 6.05 x 6.05 um |
SerialNumber | 6375617 |
Shadows | 0 |
ShadowTint | 0 |
SharpenDetail | 25 |
SharpenEdgeMasking | 0 |
SharpenRadius | +1.0 |
Sharpness (1) | Auto |
Sharpness (3) | 0 |
Sharpness | Normal |
ShootingMode | Single-Frame |
ShotInfoVersion | 0211 |
ShutterCount | 2339 |
ShutterSpeed | 1/4 |
ShutterSpeedValue | 1/4 |
Software | Ver.1.01 |
SplitToningBalance | 0 |
SplitToningHighlightHue | 0 |
SplitToningHighlightSaturation | 0 |
SplitToningShadowHue | 0 |
SplitToningShadowSaturation | 0 |
SubjectDistanceRange | Unknown |
TimeZone | +05:45 |
ToneComp | Auto |
ToneCurve | 0, 0, 255, 255 |
ToneCurveName | Linear |
UserComment | |
VariProgram | |
Version | 5.3 |
Vibrance | 0 |
VibrationReduction | On |
VignetteAmount | 0 |
VRInfoVersion | 0100 |
VRMode | Normal |
WB_RBLevels | 1.8828125 1.31640625 1 1 |
WB_RGGBLevels | 482 256 256 337 |
WhiteBalance (3) | Custom |
WhiteBalance | Auto |
WhiteBalanceFineTune | 0 0 |