Felt | Verdi |
AlreadyApplied | True |
Aperture | 2.8 |
ApertureValue | 2.8 |
BitsPerSample (1) | 16, 16, 16 |
BitsPerSample (2) | 16 16 16 |
BitsPerSample | 8 |
BlueHue | 0 |
BlueSaturation | 0 |
Brightness | +50 |
CameraProfile | Adobe Standard |
ChromaticAberrationB | 0 |
ChromaticAberrationR | 0 |
CircleOfConfusion | 0.019 mm |
Clarity | +7 |
ColorComponents | 3 |
ColorMode | RGB |
ColorNoiseReduction | 25 |
ColorSpace | sRGB |
ColorTemperature | 4850 |
Contrast | +43 |
ConvertToGrayscale | False |
CreateDate (1) | 2010:02:20 13:19:08.53+01:00 |
CreateDate | 2010:02:20 13:19:08 |
CreatorTool | Adobe Photoshop Lightroom |
CropAngle | 0 |
CropBottom | 0.901205 |
CropHeight | 2332 |
CropLeft | 0.297188 |
CropRight | 0.696386 |
CropTop | 0.226506 |
CropUnit | pixels |
CropWidth | 2069 |
CustomRendered | Normal |
DateTimeDigitized | 2010:02:20 13:19:08.53+01:00 |
DateTimeOriginal (1) | 2010:02:20 13:19:08.53+01:00 |
DateTimeOriginal | 2010:02:20 13:19:08 |
Defringe | 0 |
DOF | 0.02 m (6.04 - 6.06 m) |
ExifImageHeight | 822 |
ExifImageWidth | 1024 |
Exposure | -0.19 |
ExposureCompensation | 0 |
ExposureMode | Auto |
ExposureProgram | Aperture-priority AE |
ExposureTime | 1/1250 |
FillLight | 0 |
Firmware | 1.1.0 |
Flash | Off, Did not fire |
FlashCompensation | 0 |
FlashFired | False |
FlashFunction | False |
FlashMode | Off |
FlashRedEyeMode | False |
FlashReturn | No return detection |
FNumber | 2.8 |
FocalLength | 400.0 mm |
FocalLength35efl | 400.0 mm (35 mm equivalent: 628.1 mm) |
Format | image/jpeg |
FOV | 3.3 deg |
GreenHue | 0 |
GreenSaturation | 0 |
HasCrop | True |
HasSettings | True |
HighlightRecovery | 20 |
HueAdjustmentAqua | 0 |
HueAdjustmentBlue | 0 |
HueAdjustmentGreen | 0 |
HueAdjustmentMagenta | 0 |
HueAdjustmentOrange | 0 |
HueAdjustmentPurple | 0 |
HueAdjustmentRed | 0 |
HueAdjustmentYellow | 0 |
HyperfocalDistance | 2986.50 m |
ICCProfileName | sRGB IEC61966-2.1 |
ImageHeight (1) | 1603 |
ImageHeight (2) | 2332 |
ImageHeight | 822 |
ImageNumber | 0 |
ImageSize | 1024x822 |
ImageWidth (1) | 1998 |
ImageWidth (2) | 2069 |
ImageWidth | 1024 |
ISO | 200 |
Lens | EF400mm f/2.8L IS USM |
LensID (1) | 184 |
LensID | Canon EF 400mm f/2.8L USM + 2x |
LensInfo | 400mm f/? |
LightValue | 12.3 |
LuminanceAdjustmentAqua | 0 |
LuminanceAdjustmentBlue | 0 |
LuminanceAdjustmentGreen | 0 |
LuminanceAdjustmentMagenta | 0 |
LuminanceAdjustmentOrange | -5 |
LuminanceAdjustmentPurple | 0 |
LuminanceAdjustmentRed | 0 |
LuminanceAdjustmentYellow | -7 |
LuminanceSmoothing | 11 |
Make | Canon |
MaxApertureValue | 2.8 |
Megapixels | 0.842 |
MeteringMode | Multi-segment |
Model | Canon EOS 7D |
ModifyDate (1) | 2010:02:20 18:45:10+01:00 |
ModifyDate | 2010:02:20 18:45:10 |
Orientation | Horizontal (normal) |
ParametricDarks | -2 |
ParametricHighlights | -31 |
ParametricHighlightSplit | 75 |
ParametricLights | -31 |
ParametricMidtoneSplit | 50 |
ParametricShadows | -5 |
ParametricShadowSplit | 25 |
PhotometricInterpretation | RGB |
PlanarConfiguration | Chunky |
PostCropVignetteAmount | 0 |
ProfileDescription | sRGB IEC61966-2.1 |
RedHue | 0 |
RedSaturation | 0 |
SamplesPerPixel | 3 |
Saturation | 0 |
SaturationAdjustmentAqua | 0 |
SaturationAdjustmentBlue | +7 |
SaturationAdjustmentGreen | 0 |
SaturationAdjustmentMagenta | 0 |
SaturationAdjustmentOrange | +14 |
SaturationAdjustmentPurple | 0 |
SaturationAdjustmentRed | +7 |
SaturationAdjustmentYellow | +17 |
ScaleFactor35efl | 1.6 |
SceneCaptureType | Standard |
SerialNumber | 380434165 |
Shadows | 5 |
ShadowTint | 0 |
SharpenDetail | 25 |
SharpenEdgeMasking | 0 |
SharpenRadius | +1.0 |
Sharpness | 55 |
ShutterSpeed | 1/1250 |
ShutterSpeedValue | 1/1250 |
Software | Adobe Photoshop CS4 Windows |
SplitToningBalance | 0 |
SplitToningHighlightHue | 0 |
SplitToningHighlightSaturation | 0 |
SplitToningShadowHue | 0 |
SplitToningShadowSaturation | 0 |
SubjectDistance | 6.05 m |
Tint | +12 |
ToneCurve | 0, 0, 32, 22, 64, 56, 128, 128, 192, 196, 255, 255 |
ToneCurveName | Medium Contrast |
URL_List | |
Version | 5.6 |
Vibrance | +7 |
VignetteAmount | 0 |
WhiteBalance (2) | As Shot |
WhiteBalance | Auto |