Felt | Verdi |
AlreadyApplied | True |
Aperture | 11.0 |
ApertureValue | 11.0 |
Artist | Ulf Rugumayo Amundsen |
BitsPerSample | 8 |
BlueHue | 0 |
BlueSaturation | 0 |
Brightness | 0 |
By-line | Ulf Rugumayo Amundsen |
CameraProfile | Embedded |
CFAPattern | [Red,Green][Green,Blue] |
ChromaticAberrationB | 0 |
ChromaticAberrationR | 0 |
CircleOfConfusion | 0.030 mm |
Clarity | +100 |
ColorComponents | 3 |
ColorMode | RGB |
ColorNoiseReduction | 29 |
ColorSpace | Uncalibrated |
Contrast (2) | +100 |
Contrast | Normal |
ConvertToGrayscale | False |
Copyright | Rugumayo Amundsen Photos |
CopyrightFlag | True |
CopyrightNotice | Rugumayo Amundsen Photos |
CreateDate (1) | 2010:02:11 11:50:31.08+01:00 |
CreateDate | 2010:02:11 11:50:31 |
Creator | Ulf Rugumayo Amundsen |
CreatorAddress | Husejordet 39 |
CreatorCity | Asker |
CreatorCountry | Norway |
CreatorPostalCode | 1386 |
CreatorTool | Ver.1.01 |
CreatorWorkEmail | ulam@online.no |
CreatorWorkTelephone | +47 92085247 |
CreatorWorkURL | www.uganda-wild-venture.com |
CropAngle | -0.1 |
CropBottom | 0.751743 |
CropLeft | 0 |
CropRight | 0.876519 |
CropTop | 0.002296 |
CustomRendered | Normal |
DateTimeDigitized | 2010:02:11 11:50:31.08+01:00 |
DateTimeOriginal (1) | 2010:02:11 11:50:31.08+01:00 |
DateTimeOriginal | 2010:02:11 11:50:31 |
Defringe | 0 |
DigitalZoomRatio | 1 |
ExifImageHeight | 685 |
ExifImageWidth | 1198 |
Exposure | 0.00 |
ExposureCompensation | 0 |
ExposureMode | Auto |
ExposureProgram | Aperture-priority AE |
ExposureTime | 1/320 |
FillLight | 65 |
Flash | No Flash |
FlashFired | False |
FlashFunction | False |
FlashMode | Unknown |
FlashRedEyeMode | False |
FlashReturn | No return detection |
FNumber | 11.0 |
FocalLength | 24.0 mm |
FocalLength35efl | 24.0 mm (35 mm equivalent: 24.0 mm) |
FocalLengthIn35mmFormat | 24 mm |
Format | image/jpeg |
FOV | 73.7 deg |
GainControl | None |
GradientBasedCorrActive | true |
GradientBasedCorrAmount | 1.000000 |
GradientBasedCorrBrightness | 0.000000 |
GradientBasedCorrClarity | 0.000000 |
GradientBasedCorrContrast | 0.000000 |
GradientBasedCorrExposure | -0.126437 |
GradientBasedCorrHue | 48.000000 |
GradientBasedCorrMaskFullX (1) | 0.523683 |
GradientBasedCorrMaskFullX (2) | 0.526282 |
GradientBasedCorrMaskFullX (3) | 0.005684 |
GradientBasedCorrMaskFullX | -0.001591 |
GradientBasedCorrMaskFullY (1) | 0.721476 |
GradientBasedCorrMaskFullY (2) | 0.002905 |
GradientBasedCorrMaskFullY (3) | -0.000039 |
GradientBasedCorrMaskFullY | 0.739859 |
GradientBasedCorrMaskValue | 1.000000 |
GradientBasedCorrMaskWhat | Mask/Gradient |
GradientBasedCorrMaskZeroX (1) | 0.336143 |
GradientBasedCorrMaskZeroX (2) | 0.316636 |
GradientBasedCorrMaskZeroX (3) | 0.230782 |
GradientBasedCorrMaskZeroX | 0.254260 |
GradientBasedCorrMaskZeroY (1) | 0.355849 |
GradientBasedCorrMaskZeroY (2) | 0.351954 |
GradientBasedCorrMaskZeroY (3) | 0.389305 |
GradientBasedCorrMaskZeroY | 0.355359 |
GradientBasedCorrSaturation | 0.000000 |
GradientBasedCorrSharpness | 0.000000 |
GradientBasedCorrWhat | Correction |
GreenHue | 0 |
GreenSaturation | 0 |
HasCrop | True |
HasSettings | True |
HierarchicalSubject | Uganda |
HighlightRecovery | 65 |
HueAdjustmentAqua | 0 |
HueAdjustmentBlue | 0 |
HueAdjustmentGreen | 0 |
HueAdjustmentMagenta | 0 |
HueAdjustmentOrange | 0 |
HueAdjustmentPurple | 0 |
HueAdjustmentRed | 0 |
HueAdjustmentYellow | 0 |
HyperfocalDistance | 1.74 m |
ICCProfileName | Adobe RGB (1998) |
ImageHeight | 685 |
ImageNumber | 8825 |
ImageSize | 1198x685 |
ImageWidth | 1198 |
IncrementalTemperature | -6 |
IncrementalTint | +21 |
ISO | 200 |
Keywords | Uganda |
Lens | 24.0-70.0 mm f/2.8 |
LensInfo | 24-70mm f/2.8 |
LightSource | Cloudy |
LightValue | 14.2 |
LuminanceAdjustmentAqua | 0 |
LuminanceAdjustmentBlue | 0 |
LuminanceAdjustmentGreen | 0 |
LuminanceAdjustmentMagenta | 0 |
LuminanceAdjustmentOrange | 0 |
LuminanceAdjustmentPurple | 0 |
LuminanceAdjustmentRed | +100 |
LuminanceAdjustmentYellow | 0 |
LuminanceSmoothing | 41 |
Make | NIKON CORPORATION |
Marked | True |
MaxApertureValue | 2.8 |
Megapixels | 0.821 |
MeteringMode | Multi-segment |
Model | NIKON D700 |
ModifyDate (1) | 2010:02:26 14:57:41+01:00 |
ModifyDate | 2010:02:26 14:57:41 |
Orientation | Horizontal (normal) |
ParametricDarks | -8 |
ParametricHighlights | +39 |
ParametricHighlightSplit | 75 |
ParametricLights | 0 |
ParametricMidtoneSplit | 50 |
ParametricShadows | -28 |
ParametricShadowSplit | 25 |
PostCropVignetteAmount | 0 |
ProfileDescription | Adobe RGB (1998) |
Rating | 0 |
RawFileName | _DSC8818-Edit-2.psd |
RedHue | 0 |
RedSaturation | 0 |
Rights | Rugumayo Amundsen Photos |
Saturation (2) | -36 |
Saturation | Normal |
SaturationAdjustmentAqua | -100 |
SaturationAdjustmentBlue | -100 |
SaturationAdjustmentGreen | -100 |
SaturationAdjustmentMagenta | -100 |
SaturationAdjustmentOrange | 0 |
SaturationAdjustmentPurple | -100 |
SaturationAdjustmentRed | 0 |
SaturationAdjustmentYellow | -100 |
ScaleFactor35efl | 1.0 |
SceneCaptureType | Standard |
SceneType | Directly photographed |
SensingMethod | One-chip color area |
SerialNumber | 2000453 |
Shadows | 4 |
ShadowTint | 0 |
SharpenDetail | 25 |
SharpenEdgeMasking | 0 |
SharpenRadius | +1.0 |
Sharpness (2) | 0 |
Sharpness | Hard |
ShutterSpeed | 1/320 |
ShutterSpeedValue | 1/320 |
Software | Adobe Photoshop CS4 Macintosh |
SplitToningBalance | +61 |
SplitToningHighlightHue | 0 |
SplitToningHighlightSaturation | 0 |
SplitToningShadowHue | 48 |
SplitToningShadowSaturation | 58 |
Subject | Uganda |
SubjectDistanceRange | Unknown |
ToneCurve | 0, 0, 255, 255 |
ToneCurveName | Linear |
URL_List | |
Version | 5.0 |
Vibrance | +34 |
VignetteAmount | -34 |
VignetteMidpoint | 34 |
WhiteBalance (2) | Custom |
WhiteBalance | Manual |