Felt | Verdi |
AlreadyApplied | True |
Aperture | 4.0 |
ApertureValue | 4.0 |
BitsPerSample | 8 |
BlueHue | 0 |
BlueSaturation | +63 |
Brightness | +57 |
CameraProfile | Adobe Standard |
ChromaticAberrationB | 0 |
ChromaticAberrationR | 0 |
Clarity | 0 |
ColorComponents | 3 |
ColorNoiseReduction | 25 |
ColorNoiseReductionDetail | 50 |
ColorTemperature | 6800 |
Contrast | 0 |
ConvertToGrayscale | True |
CreateDate (1) | 2010:03:10 12:21:13+01:00 |
CreateDate | 2010:03:10 12:21:13 |
CreatorTool | Adobe Photoshop Lightroom |
CropAngle | -0.8734 |
CropBottom | 0.790603 |
CropHeight | 1560 |
CropLeft | 0 |
CropRight | 0.704948 |
CropTop | 0.110592 |
CropUnit | pixels |
CropWidth | 2773 |
DateTimeDigitized | 2010:03:10 12:21:13+01:00 |
DateTimeOriginal (1) | 2010:03:10 12:21:13+01:00 |
DateTimeOriginal | 2010:03:10 12:21:13 |
Defringe | 0 |
ExifImageHeight | 1560 |
ExifImageWidth | 2773 |
Exposure | +0.70 |
ExposureCompensation | 0 |
ExposureProgram | Aperture-priority AE |
ExposureTime | 1/1600 |
FillLight | 0 |
Flash | Off, Did not fire |
FlashFired | False |
FlashFunction | False |
FlashMode | Off |
FlashRedEyeMode | False |
FlashReturn | No return detection |
FNumber | 4.0 |
FocalLength | 5.1 mm |
FocalLength35efl | 5.1 mm |
GradientBasedCorrActive | true |
GradientBasedCorrAmount | 1.000000 |
GradientBasedCorrBrightness | -0.061000 |
GradientBasedCorrClarity | 0.000000 |
GradientBasedCorrContrast | 0.556000 |
GradientBasedCorrExposure | -0.505000 |
GradientBasedCorrHue | 0.000000 |
GradientBasedCorrMaskFullX | 0.403468 |
GradientBasedCorrMaskFullY | 0.129092 |
GradientBasedCorrMaskValue | 1.000000 |
GradientBasedCorrMaskWhat | Mask/Gradient |
GradientBasedCorrMaskZeroX | 0.401625 |
GradientBasedCorrMaskZeroY | 0.557327 |
GradientBasedCorrSaturation | 0.000000 |
GradientBasedCorrSharpness | 0.000000 |
GradientBasedCorrWhat | Correction |
GrainAmount | 40 |
GrainFrequency | 50 |
GrainSize | 50 |
GrayMixerAqua | -20 |
GrayMixerBlue | +9 |
GrayMixerGreen | -27 |
GrayMixerMagenta | +8 |
GrayMixerOrange | -18 |
GrayMixerPurple | +18 |
GrayMixerRed | -7 |
GrayMixerYellow | -23 |
GreenHue | 0 |
GreenSaturation | 0 |
HasCrop | True |
HasSettings | True |
HighlightRecovery | 0 |
ImageHeight | 1560 |
ImageSize | 2773x1560 |
ImageWidth | 2773 |
ISO | 80 |
LightValue | 15.0 |
Make | Panasonic |
MaxApertureValue | 2.0 |
Megapixels | 4.3 |
MeteringMode | Spot |
Model | DMC-LX3 |
ModifyDate (1) | 2010:03:16 14:17:18+01:00 |
ModifyDate | 2010:03:16 14:17:18 |
NoiseReductionContrast | 0 |
ParametricDarks | -2 |
ParametricHighlights | 0 |
ParametricHighlightSplit | 75 |
ParametricLights | +2 |
ParametricMidtoneSplit | 50 |
ParametricShadows | -20 |
ParametricShadowSplit | 25 |
PostCropVignetteAmount | -26 |
PostCropVignetteFeather | 50 |
PostCropVignetteHighlightContrast | 0 |
PostCropVignetteMidpoint | 50 |
PostCropVignetteRoundness | 0 |
PostCropVignetteStyle | 1 |
ProfileDescription | sRGB IEC61966-2.1 |
Rating | 1 |
RedHue | 0 |
RedSaturation | -34 |
RenderVersion | 5.7 |
Shadows | 8 |
ShadowTint | 0 |
SharpenDetail | 25 |
SharpenEdgeMasking | 0 |
SharpenRadius | +1.0 |
Sharpness | 25 |
ShutterSpeed | 1/1600 |
ShutterSpeedValue | 1/1600 |
SplitToningBalance | 0 |
SplitToningHighlightHue | 50 |
SplitToningHighlightSaturation | 66 |
SplitToningShadowHue | 30 |
SplitToningShadowSaturation | 28 |
Tint | +63 |
ToneCurve | 0, 0, 255, 255 |
ToneCurveName | Linear |
Version | 6.0 |
VignetteAmount | -41 |
VignetteMidpoint | 48 |
WhiteBalance | Custom |