Felt | Verdi |
AlreadyApplied | True |
Aperture | 2.0 |
ApertureValue | 2.0 |
BitsPerSample | 8 |
BlueHue | -60 |
BlueSaturation | +3 |
Brightness | +72 |
CameraProfile | Adobe Standard |
ChromaticAberrationB | 0 |
ChromaticAberrationR | 0 |
Clarity | +31 |
ColorComponents | 3 |
ColorNoiseReduction | 25 |
ColorNoiseReductionDetail | 50 |
ColorTemperature | 3650 |
Contrast | +47 |
ConvertToGrayscale | False |
CreateDate (1) | 2010:03:10 12:39:57+01:00 |
CreateDate | 2010:03:10 12:39:57 |
CreatorTool | Adobe Photoshop Lightroom |
CropAngle | 1.77091 |
CropBottom | 1 |
CropHeight | 2117 |
CropLeft | 0.034294 |
CropRight | 0.965706 |
CropTop | 0 |
CropUnit | pixels |
CropWidth | 3763 |
DateTimeDigitized | 2010:03:10 12:39:57+01:00 |
DateTimeOriginal (1) | 2010:03:10 12:39:57+01:00 |
DateTimeOriginal | 2010:03:10 12:39:57 |
Defringe | 0 |
ExifImageHeight | 2117 |
ExifImageWidth | 3763 |
Exposure | +1.15 |
ExposureCompensation | 0 |
ExposureProgram | Aperture-priority AE |
ExposureTime | 1/2000 |
FillLight | 16 |
Flash | Off, Did not fire |
FlashFired | False |
FlashFunction | False |
FlashMode | Off |
FlashRedEyeMode | False |
FlashReturn | No return detection |
FNumber | 2.0 |
FocalLength | 5.1 mm |
FocalLength35efl | 5.1 mm |
GrainAmount | 0 |
GreenHue | +100 |
GreenSaturation | +100 |
HasCrop | True |
HasSettings | True |
HighlightRecovery | 0 |
HueAdjustmentAqua | 0 |
HueAdjustmentBlue | 0 |
HueAdjustmentGreen | 0 |
HueAdjustmentMagenta | 0 |
HueAdjustmentOrange | 0 |
HueAdjustmentPurple | 0 |
HueAdjustmentRed | 0 |
HueAdjustmentYellow | 0 |
ImageHeight | 2117 |
ImageSize | 3763x2117 |
ImageWidth | 3763 |
ISO | 80 |
LightValue | 13.3 |
LuminanceAdjustmentAqua | 0 |
LuminanceAdjustmentBlue | 0 |
LuminanceAdjustmentGreen | 0 |
LuminanceAdjustmentMagenta | 0 |
LuminanceAdjustmentOrange | 0 |
LuminanceAdjustmentPurple | 0 |
LuminanceAdjustmentRed | 0 |
LuminanceAdjustmentYellow | 0 |
Make | Panasonic |
MaxApertureValue | 2.0 |
Megapixels | 8.0 |
MeteringMode | Spot |
Model | DMC-LX3 |
ModifyDate (1) | 2010:03:16 14:17:28+01:00 |
ModifyDate | 2010:03:16 14:17:28 |
NoiseReductionContrast | 0 |
ParametricDarks | -3 |
ParametricHighlights | 0 |
ParametricHighlightSplit | 75 |
ParametricLights | 0 |
ParametricMidtoneSplit | 50 |
ParametricShadows | -14 |
ParametricShadowSplit | 25 |
PostCropVignetteAmount | 0 |
ProfileDescription | sRGB IEC61966-2.1 |
Rating | 1 |
RedHue | +100 |
RedSaturation | -100 |
RenderVersion | 5.7 |
Saturation | -86 |
SaturationAdjustmentAqua | 0 |
SaturationAdjustmentBlue | +83 |
SaturationAdjustmentGreen | 0 |
SaturationAdjustmentMagenta | 0 |
SaturationAdjustmentOrange | 0 |
SaturationAdjustmentPurple | +42 |
SaturationAdjustmentRed | 0 |
SaturationAdjustmentYellow | 0 |
Shadows | 41 |
ShadowTint | -4 |
SharpenDetail | 25 |
SharpenEdgeMasking | 0 |
SharpenRadius | +1.0 |
Sharpness | 25 |
ShutterSpeed | 1/2000 |
ShutterSpeedValue | 1/2000 |
SplitToningBalance | 0 |
SplitToningHighlightHue | 0 |
SplitToningHighlightSaturation | 0 |
SplitToningShadowHue | 0 |
SplitToningShadowSaturation | 0 |
Tint | -74 |
ToneCurve | 0, 0, 255, 255 |
ToneCurveName | Linear |
Version | 6.0 |
Vibrance | +38 |
VignetteAmount | 0 |
WhiteBalance | Custom |