Felt | Verdi |
AlreadyApplied | True |
Aperture | 4.0 |
ApertureValue | 4.0 |
BitsPerSample | 8 |
BlueHue | 0 |
BlueSaturation | 0 |
Brightness | +59 |
CameraProfile | Adobe Standard |
ChromaticAberrationB | 0 |
ChromaticAberrationR | 0 |
Clarity | 0 |
ColorComponents | 1 |
ColorNoiseReduction | 25 |
ColorNoiseReductionDetail | 50 |
ColorTemperature | 4213 |
Contrast | +40 |
ConvertToGrayscale | False |
CreateDate (1) | 2010:03:10 12:32:12+01:00 |
CreateDate | 2010:03:10 12:32:12 |
CreatorTool | Adobe Photoshop Lightroom |
CropAngle | -1.2238 |
CropBottom | 0.734949 |
CropHeight | 1099 |
CropLeft | 0.298083 |
CropRight | 0.796165 |
CropTop | 0.261472 |
CropUnit | pixels |
CropWidth | 1953 |
DateTimeDigitized | 2010:03:10 12:32:12+01:00 |
DateTimeOriginal (1) | 2010:03:10 12:32:12+01:00 |
DateTimeOriginal | 2010:03:10 12:32:12 |
Defringe | 0 |
ExifImageHeight | 1099 |
ExifImageWidth | 1953 |
Exposure | +1.15 |
ExposureCompensation | 0 |
ExposureProgram | Aperture-priority AE |
ExposureTime | 1/2000 |
FillLight | 0 |
Flash | Off, Did not fire |
FlashFired | False |
FlashFunction | False |
FlashMode | Off |
FlashRedEyeMode | False |
FlashReturn | No return detection |
FNumber | 4.0 |
FocalLength | 12.8 mm |
FocalLength35efl | 12.8 mm |
GradientBasedCorrActive | true |
GradientBasedCorrAmount | 1.000000 |
GradientBasedCorrBrightness | 0.000000 |
GradientBasedCorrClarity | 0.000000 |
GradientBasedCorrContrast (1) | 0.481000 |
GradientBasedCorrContrast | 0.679000 |
GradientBasedCorrExposure (1) | -0.258000 |
GradientBasedCorrExposure | -0.159000 |
GradientBasedCorrHue | 0.000000 |
GradientBasedCorrMaskFullX (1) | 0.533920 |
GradientBasedCorrMaskFullX | 0.545397 |
GradientBasedCorrMaskFullY (1) | 0.308304 |
GradientBasedCorrMaskFullY | 0.733189 |
GradientBasedCorrMaskValue | 1.000000 |
GradientBasedCorrMaskWhat | Mask/Gradient |
GradientBasedCorrMaskZeroX (1) | 0.538720 |
GradientBasedCorrMaskZeroX | 0.543397 |
GradientBasedCorrMaskZeroY (1) | 0.707782 |
GradientBasedCorrMaskZeroY | 0.566708 |
GradientBasedCorrSaturation | 0.000000 |
GradientBasedCorrSharpness | 0.000000 |
GradientBasedCorrWhat | Correction |
GrainAmount | 25 |
GrainFrequency | 50 |
GrainSize | 50 |
GreenHue | 0 |
GreenSaturation | 0 |
HasCrop | True |
HasSettings | True |
HighlightRecovery | 0 |
HueAdjustmentAqua | 0 |
HueAdjustmentBlue | 0 |
HueAdjustmentGreen | 0 |
HueAdjustmentMagenta | 0 |
HueAdjustmentOrange | 0 |
HueAdjustmentPurple | 0 |
HueAdjustmentRed | 0 |
HueAdjustmentYellow | 0 |
ImageHeight | 1099 |
ImageSize | 1953x1099 |
ImageWidth | 1953 |
ISO | 80 |
LightValue | 15.3 |
LuminanceAdjustmentAqua | 0 |
LuminanceAdjustmentBlue | 0 |
LuminanceAdjustmentGreen | 0 |
LuminanceAdjustmentMagenta | 0 |
LuminanceAdjustmentOrange | 0 |
LuminanceAdjustmentPurple | 0 |
LuminanceAdjustmentRed | 0 |
LuminanceAdjustmentYellow | 0 |
Make | Panasonic |
MaxApertureValue | 2.0 |
Megapixels | 2.1 |
MeteringMode | Spot |
Model | DMC-LX3 |
ModifyDate (1) | 2010:03:16 14:17:23+01:00 |
ModifyDate | 2010:03:16 14:17:23 |
NoiseReductionContrast | 0 |
ParametricDarks | -3 |
ParametricHighlights | 0 |
ParametricHighlightSplit | 75 |
ParametricLights | 0 |
ParametricMidtoneSplit | 50 |
ParametricShadows | -14 |
ParametricShadowSplit | 25 |
PostCropVignetteAmount | +13 |
PostCropVignetteFeather | 50 |
PostCropVignetteMidpoint | 50 |
PostCropVignetteRoundness | 0 |
PostCropVignetteStyle | 1 |
ProfileDescription | sRGB IEC61966-2.1 |
Rating | 1 |
RedHue | 0 |
RedSaturation | 0 |
RenderVersion | 5.7 |
Saturation | -100 |
SaturationAdjustmentAqua | 0 |
SaturationAdjustmentBlue | 0 |
SaturationAdjustmentGreen | 0 |
SaturationAdjustmentMagenta | 0 |
SaturationAdjustmentOrange | 0 |
SaturationAdjustmentPurple | 0 |
SaturationAdjustmentRed | 0 |
SaturationAdjustmentYellow | 0 |
Shadows | 45 |
ShadowTint | 0 |
SharpenDetail | 50 |
SharpenEdgeMasking | 0 |
SharpenRadius | +1.0 |
Sharpness | 25 |
ShutterSpeed | 1/2000 |
ShutterSpeedValue | 1/2000 |
SplitToningBalance | 0 |
SplitToningHighlightHue | 0 |
SplitToningHighlightSaturation | 0 |
SplitToningShadowHue | 0 |
SplitToningShadowSaturation | 0 |
Tint | -74 |
ToneCurve | 0, 0, 255, 255 |
ToneCurveName | Linear |
Version | 6.0 |
Vibrance | 0 |
VignetteAmount | 0 |
WhiteBalance | Custom |