Felt | Verdi |
AlreadyApplied | True |
Aperture | 9.0 |
ApertureValue | 9.0 |
BitsPerSample (1) | 16 16 16 |
BitsPerSample | 8 |
BlackClip | 0.393200 |
BlueHue | +11 |
BlueSaturation | -70 |
Brightness | +57 |
CameraProfile | Embedded |
ChromaticAberrationB | 0 |
ChromaticAberrationR | 0 |
Clarity | -5 |
ColorComponents | 3 |
ColorMode | RGB |
ColorNoiseReduction | 25 |
ColorSaturation | 100.0 |
ColorSpace | sRGB |
ColorTemperature | 0.8 |
Contrast | +25 |
ConvertToGrayscale | False |
Copyright | Tony Michael Karlsson |
CopyrightNotice | Tony Michael Karlsson |
CreateDate | 2010:05:12 12:08:13+02:00 |
CreatorTool | Adobe Photoshop CS5 Windows |
DateCreated (1) | 2010:05:12 |
DateCreated | 2010:05:12 12:08:13 |
DateTimeOriginal | 2010:05:12 12:08:13 |
Defringe | 0 |
ExifImageHeight | 530 |
ExifImageWidth | 800 |
Exposure | -0.25 |
ExposureTime | 1/200 |
FillLight | 0 |
FNumber | 9.0 |
FocalLength | 18.0 mm |
FocalLength35efl | 18.0 mm |
Format | image/jpeg |
Gamma | 1.1 |
GreenHue | +11 |
GreenSaturation | +25 |
HasCrop | False |
HasSettings | True |
HighlightRecovery | 0 |
HighlightsSmoothing | 61.0 |
HueAdjustmentAqua | 0 |
HueAdjustmentBlue | 0 |
HueAdjustmentGreen | 0 |
HueAdjustmentMagenta | 0 |
HueAdjustmentOrange | 0 |
HueAdjustmentPurple | 0 |
HueAdjustmentRed | 0 |
HueAdjustmentYellow | 0 |
ICCProfileName | sRGB IEC61966-2.1 |
ImageHeight (1) | 2560 |
ImageHeight | 530 |
ImageSize | 800x530 |
ImageWidth (1) | 3861 |
ImageWidth | 800 |
IncrementalTemperature | +59 |
IncrementalTint | +27 |
ISO | 200 |
Keywords | heim, trondheim |
LightValue | 13.0 |
LuminanceAdjustmentAqua | 0 |
LuminanceAdjustmentBlue | 0 |
LuminanceAdjustmentGreen | 0 |
LuminanceAdjustmentMagenta | 0 |
LuminanceAdjustmentOrange | 0 |
LuminanceAdjustmentPurple | 0 |
LuminanceAdjustmentRed | 0 |
LuminanceAdjustmentYellow | 0 |
LuminanceSmoothing | 0 |
Luminosity | -1.2 |
Megapixels | 0.424 |
Method | Details Enhancer |
Microcontrast | 10.0 |
Microsmoothing | 30.0 |
Model | Canon EOS 450D |
ModifyDate (1) | 2010:05:15 17:27:04+02:00 |
ModifyDate | 2010:05:15 17:27:04 |
Orientation | Horizontal (normal) |
ParametricDarks | -3 |
ParametricHighlights | 0 |
ParametricHighlightSplit | 75 |
ParametricLights | 0 |
ParametricMidtoneSplit | 50 |
ParametricShadows | -14 |
ParametricShadowSplit | 25 |
PhotometricInterpretation | RGB |
PlanarConfiguration | Chunky |
PostCropVignetteAmount | 0 |
ProfileDescription | sRGB IEC61966-2.1 |
RedHue | +96 |
RedSaturation | +3 |
Rights | Tony Michael Karlsson |
Saturation | -71 |
SaturationAdjustmentAqua | 0 |
SaturationAdjustmentBlue | 0 |
SaturationAdjustmentGreen | 0 |
SaturationAdjustmentMagenta | 0 |
SaturationAdjustmentOrange | 0 |
SaturationAdjustmentPurple | 0 |
SaturationAdjustmentRed | 0 |
SaturationAdjustmentYellow | 0 |
SaturationHighlights | 10.0 |
SaturationShadows | 10.0 |
Shadows | 11 |
ShadowsClipping | 42.0 |
ShadowsSmoothing | 45.0 |
ShadowTint | +8 |
SharpenDetail | 25 |
SharpenEdgeMasking | 0 |
SharpenRadius | +1.0 |
Sharpness | 25 |
ShutterSpeed | 1/200 |
ShutterSpeedValue | 1/200 |
Smoothing | Very High |
Software | Adobe Photoshop CS5 Windows |
SplitToningBalance | 0 |
SplitToningHighlightHue | 0 |
SplitToningHighlightSaturation | 0 |
SplitToningShadowHue | 0 |
SplitToningShadowSaturation | 0 |
Strength | 0.0 |
Subject | heim, trondheim |
ToneCurve | 0, 0, 255, 255 |
ToneCurveName | Linear |
URL_List | |
Version (1) | 3.2 |
Version | 5.7 |
Vibrance | +5 |
VignetteAmount | -69 |
VignetteMidpoint | 33 |
WhiteBalance | Custom |
WhiteClip | 3.584050 |