Felt | Verdi |
100
2010-06-17T23:08:19+02:00 File D:\100612_Ida og Sigurd\jpg\0371.psd saved
2010-06-17T23:08:26+02:00 File D:\100612_Ida og Sigurd\0371.psd saved
2010-06-17T23:09:08+02:00 File D:\100612_Ida og Sigurd\jpg\0371.jpg saved
2010-06-17T23:09:42+02:00 File D:\100612_Ida og Sigurd\jpg\0371.jpg saved
2010-06-17T23:10:36+02:00 File D:\100612_Ida og Sigurd\jpg\0371_sh.jpg saved
2010-06-18T16:26:50+02:00 File 0371_sh.jpg opened
2010-06-18T16:27:20+02:00 File C:\Users\Didd\Desktop\0371_sh.jpg saved
Absolute Grain Size: 1,5
AlreadyApplied | True |
Angle: 0°
Aperture | 2.8 |
ApertureValue | 2.8 |
Apply Filter in New Layer
BitsPerSample | 8 |
Black and White Film
Blue: “BlueCurve: 2 0 0 0 0 0 0 1 1
BlueHue | 0 |
BlueSaturation | 0 |
Blur Opacity: 0
Blur Radius: 5
Bottom: 39,62 cm
Brightness | +70 |
CameraProfile | Adobe Standard |
Category: “
Channel Mixer: “41 31 28 1
ChromaticAberrationB | 0 |
ChromaticAberrationR | 0 |
CircleOfConfusion | 0.031 mm |
Clarity | 0 |
Color Contrast: 0
ColorComponents | 3 |
ColorMode | RGB |
ColorNoiseReduction | 25 |
ColorSpace (1) | Unknown (-1) |
ColorSpace | Uncalibrated |
ColorTemperature | 4950 |
Contrast | +30 |
ConvertToGrayscale | False |
CopyrightFlag | False |
CreateDate (1) | 2010:06:18 16:27:20+02:00 |
CreateDate | 2010:06:12 14:29:47 |
CreatorTool | Adobe Photoshop CS3 Windows |
Crop
Crop To: rectangle
CustomRendered | Normal |
DateTimeDigitized | 2010:06:12 14:29:47.58+02:00 |
DateTimeOriginal (1) | 2010:06:12 14:29:47.58+02:00 |
DateTimeOriginal | 2010:06:12 14:29:47 |
Defringe | 0 |
Delete current layer
Delete Group
DOF | 0.05 m (0.87 - 0.91 m) |
ExifImageHeight | 683 |
ExifImageWidth | 1024 |
Exposure 2 Black And White Film true
Exposure | 0.00 |
ExposureCompensation | 0 |
ExposureMode | Auto |
ExposureProgram | Aperture-priority AE |
ExposureTime | 1/125 |
false
FillLight | 2 |
Film Format: 135 Format
Firmware | 2.0.4 |
Flash | Off, Did not fire |
FlashCompensation | 0 |
FlashFired | False |
FlashFunction | False |
FlashMode | Off |
FlashRedEyeMode | False |
FlashReturn | No return detection |
FNumber | 2.8 |
FocalLength | 52.0 mm |
FocalLength35efl | 52.0 mm (35 mm equivalent: 50.7 mm) |
Format | image/jpeg |
FOV | 39.1 deg |
Grain Strength: 0
Green: “GreenCurve: 2 0 0 0 0 0 0 1 1
GreenHue | 0 |
GreenSaturation | 0 |
Halation Opacity: 0
Halation Spread: 20
HasCrop | False |
HasSettings | True |
Hide current layer
Highlight: 26,78
HighlightRecovery | 36 |
HueAdjustmentAqua | 0 |
HueAdjustmentBlue | 0 |
HueAdjustmentGreen | 0 |
HueAdjustmentMagenta | 0 |
HueAdjustmentOrange | 0 |
HueAdjustmentPurple | 0 |
HueAdjustmentRed | 0 |
HueAdjustmentYellow | 0 |
HyperfocalDistance | 31.37 m |
ICCProfileName | Adobe RGB (1998) |
Image Size
Image Size Width: 1024 pixels
Image Size Width: 1200 pixels
ImageHeight | 683 |
ImageNumber | 0 |
ImageSize | 1024x683 |
ImageWidth | 1024 |
In: D:\100612_Ida og Sigurd\
In: D:\100612_Ida og Sigurd\jpg\
Ink 1 Color: “RGB: 60 30 0
Ink 1 Position: 50
Ink 1 Strength: 0
Ink 2 Color: “RGB: 0 0 60
Ink 2 Position: 20
Ink 2 Strength: 0
Interpolation: bicubic
ISO | 100 |
Left: 1,06 cm
Lens | EF24-70mm f/2.8L USM |
LensID (1) | 230 |
LensID | Canon EF 24-70mm f/2.8L USM |
LensInfo | 24-70mm f/? |
LightValue | 9.9 |
LuminanceAdjustmentAqua | 0 |
LuminanceAdjustmentBlue | 0 |
LuminanceAdjustmentGreen | 0 |
LuminanceAdjustmentMagenta | 0 |
LuminanceAdjustmentOrange | 0 |
LuminanceAdjustmentPurple | 0 |
LuminanceAdjustmentRed | 0 |
LuminanceAdjustmentYellow | 0 |
LuminanceSmoothing | 0 |
Make | Canon |
Master Opacity Change
Matte: none
MaxApertureValue | 2.8 |
Megapixels | 0.699 |
Merge Visible
MeteringMode | Multi-segment |
Midtone: 33,33
Model | Canon EOS 5D Mark II |
ModifyDate (1) | 2010:06:18 16:27:20+02:00 |
ModifyDate | 2010:06:18 16:27:20 |
Opacity: 0%
Opacity: 30%
Opacity: 55%
Open D:\100612_Ida og Sigurd\dng\03 Brudebilder\0371.dng
Open D:\100612_Ida og Sigurd\jpg\0371_sh.jpg
Orientation | Horizontal (normal) |
Overall Intensity: 100
ParametricDarks | 0 |
ParametricHighlights | 0 |
ParametricHighlightSplit | 75 |
ParametricLights | 0 |
ParametricMidtoneSplit | 50 |
ParametricShadows | 0 |
ParametricShadowSplit | 25 |
Play action “A Better Web Sharpen” of set “TRA2 - The Revenge”
Play action “Lux (hard)” of set “TRA2 - The Revenge”
Play action “Slice Like A Ninja (Sharpen)” of set “TRA2 - The Revenge”
PostCropVignetteAmount | 0 |
ProfileDescription | Adobe RGB (1998) |
Push Processing: 0
Quality: 12
Rating | 0 |
RawFileName | 0371.dng |
Red: “RedCurve: 2 0 0 0 0 0 0 1 1
RedHue | 0 |
RedSaturation | 0 |
Relative Grain Size: 0,95
RGB: “RGBCurve: 5 0 0 0 0 0 0 0.113821 0.0882353 0.300813 0.298319 0.552846 0.579832 1 1
Right: 58,34 cm
Roughness: 20
Saturation | -5 |
SaturationAdjustmentAqua | 0 |
SaturationAdjustmentBlue | 0 |
SaturationAdjustmentGreen | 0 |
SaturationAdjustmentMagenta | 0 |
SaturationAdjustmentOrange | 0 |
SaturationAdjustmentPurple | 0 |
SaturationAdjustmentRed | 0 |
SaturationAdjustmentYellow | 0 |
Save
Save As: JPEG
Save As: Photoshop
ScaleFactor35efl | 1.0 |
Scans: 4
SceneCaptureType | Standard |
Select layer “Background” Without Make Visible
SerialNumber | 1330808299 |
Set current layer To: layer
Setting: “Ilford Delta 3200
Shadow: 30,6
Shadows | 4 |
ShadowTint | 0 |
Sharpen Amount: 0
Sharpen Radius: 25
Sharpen Threshold: 0
SharpenDetail | 25 |
SharpenEdgeMasking | 0 |
SharpenRadius | +1.0 |
Sharpness | 25 |
Show current layer
ShutterSpeed | 1/125 |
ShutterSpeedValue | 1/125 |
Software | Adobe Photoshop CS3 Windows |
SplitToningBalance | 0 |
SplitToningHighlightHue | 0 |
SplitToningHighlightSaturation | 0 |
SplitToningShadowHue | 0 |
SplitToningShadowSaturation | 0 |
SubjectDistance | 0.89 m |
Target Height: 2 cm
Target Resolution: 0 per cm
Target Width: 3 cm
Tint | +2 |
ToneCurve | 0, 0, 32, 22, 64, 56, 128, 128, 192, 196, 255, 255 |
ToneCurveName | Medium Contrast |
Top: 1,44 cm
true
URL_List | |
Version | 4.6 |
Vibrance | 0 |
VignetteAmount | 0 |
WhiteBalance (2) | As Shot |
WhiteBalance | Auto |
With Automatic Grain Size
With Constrain Proportions
With Create New Layer
With Scale Styles
Without Modified
Without User Setting
“AlienSkin Exposure 2 Black and White
“Black and White Film