Felt | Verdi |
AlreadyApplied | True |
Aperture | 7.1 |
ApertureValue | 7.1 |
Artist | p5p5HDI |
BitsPerSample | 8 |
BlueHue | -100 |
BlueSaturation | +5 |
Brightness | +46 |
By-line | p5p5HDI |
CameraProfile | Embedded |
ChromaticAberrationB | 0 |
ChromaticAberrationR | 0 |
CircleOfConfusion | 0.004 mm |
Clarity | 0 |
ColorComponents | 1 |
ColorNoiseReduction | 25 |
Contrast | -12 |
ConvertToGrayscale | False |
CreateDate (1) | 2010:07:06 18:23:46Z |
CreateDate | 2010:07:06 18:23:46 |
Creator | p5p5HDI |
CreatorTool | Adobe Photoshop Lightroom |
CropAngle | 0 |
CropBottom | 0.931624 |
CropHeight | 624 |
CropLeft | 0.068376 |
CropRight | 1 |
CropTop | 0 |
CropUnit | pixels |
CropWidth | 416 |
CustomRendered | Normal |
DateTimeDigitized | 2010:07:06 18:23:46Z |
DateTimeOriginal (1) | 2010:07:06 18:23:46Z |
DateTimeOriginal | 2010:07:06 18:23:46 |
Defringe | 0 |
ExifImageHeight | 624 |
ExifImageWidth | 416 |
Exposure | +1.15 |
ExposureCompensation | 0 |
ExposureMode | Manual |
ExposureProgram | Manual |
ExposureTime | 1/125 |
FillLight | 0 |
Firmware | Asgeirsson |
Flash | Off, Did not fire |
FlashCompensation | 0 |
FlashFired | False |
FlashFunction | False |
FlashMode | Off |
FlashRedEyeMode | False |
FlashReturn | No return detection |
FNumber | 7.1 |
FocalLength | 42.0 mm |
FocalLength35efl | 42.0 mm (35 mm equivalent: 294.6 mm) |
FOV | 7.0 deg |
GreenHue | +43 |
GreenSaturation | +100 |
HasCrop | True |
HasSettings | True |
HighlightRecovery | 0 |
HueAdjustmentAqua | 0 |
HueAdjustmentBlue | 0 |
HueAdjustmentGreen | 0 |
HueAdjustmentMagenta | 0 |
HueAdjustmentOrange | 0 |
HueAdjustmentPurple | 0 |
HueAdjustmentRed | 0 |
HueAdjustmentYellow | 0 |
HyperfocalDistance | 58.00 m |
ImageHeight | 624 |
ImageNumber | 27952 |
ImageSize | 416x624 |
ImageWidth | 416 |
IncrementalTemperature | -11 |
IncrementalTint | -65 |
ISO | 100 |
LightValue | 12.6 |
LuminanceAdjustmentAqua | 0 |
LuminanceAdjustmentBlue | 0 |
LuminanceAdjustmentGreen | 0 |
LuminanceAdjustmentMagenta | 0 |
LuminanceAdjustmentOrange | 0 |
LuminanceAdjustmentPurple | 0 |
LuminanceAdjustmentRed | 0 |
LuminanceAdjustmentYellow | 0 |
LuminanceSmoothing | 0 |
Make | Canon |
Megapixels | 0.260 |
MeteringMode | Multi-segment |
Model | Canon EOS 5D |
ModifyDate (1) | 2010:07:08 02:49:39Z |
ModifyDate | 2010:07:08 02:49:39 |
OwnerName | p5p5HDI |
ParametricDarks | -3 |
ParametricHighlights | 0 |
ParametricHighlightSplit | 75 |
ParametricLights | 0 |
ParametricMidtoneSplit | 50 |
ParametricShadows | -14 |
ParametricShadowSplit | 25 |
PostCropVignetteAmount | 0 |
ProfileDescription | Adobe RGB (1998) |
RedHue | +100 |
RedSaturation | -25 |
Saturation | -100 |
SaturationAdjustmentAqua | 0 |
SaturationAdjustmentBlue | 0 |
SaturationAdjustmentGreen | 0 |
SaturationAdjustmentMagenta | 0 |
SaturationAdjustmentOrange | 0 |
SaturationAdjustmentPurple | 0 |
SaturationAdjustmentRed | 0 |
SaturationAdjustmentYellow | 0 |
ScaleFactor35efl | 7.0 |
SceneCaptureType | Standard |
SerialNumber | 1330805581 |
Shadows | 10 |
ShadowTint | -56 |
SharpenDetail | 25 |
SharpenEdgeMasking | 0 |
SharpenRadius | +1.0 |
Sharpness | 25 |
ShutterSpeed | 1/125 |
ShutterSpeedValue | 1/125 |
SplitToningBalance | 0 |
SplitToningHighlightHue | 0 |
SplitToningHighlightSaturation | 0 |
SplitToningShadowHue | 0 |
SplitToningShadowSaturation | 0 |
ToneCurve | 0, 0, 255, 255 |
ToneCurveName | Linear |
Version | 5.2 |
Vibrance | 0 |
VignetteAmount | 0 |
WhiteBalance (2) | Custom |
WhiteBalance | Auto |