Felt | Verdi |
AlreadyApplied | True |
Aperture | 13.0 |
ApertureValue | 13.0 |
Artist | Tom Erik Smedal |
BitsPerSample | 8 |
BlueHue | 0 |
BlueSaturation | 0 |
Brightness | +50 |
By-line | Tom Erik Smedal |
CameraProfile | Adobe Standard |
CFAPattern | [Red,Green][Green,Blue] |
ChromaticAberrationB | 0 |
ChromaticAberrationR | 0 |
CircleOfConfusion | 0.030 mm |
Clarity | 0 |
ColorComponents | 3 |
ColorMode | RGB |
ColorNoiseReduction | 25 |
ColorSpace | Uncalibrated |
ColorTemperature | 5550 |
Contrast (2) | +25 |
Contrast | Normal |
ConvertToGrayscale | False |
CreateDate (1) | 2010:07:18 14:04:24.75+02:00 |
CreateDate | 2010:07:18 14:04:24 |
Creator | Tom Erik Smedal |
CreatorTool | ViewNX 1.3 W |
CustomRendered | Normal |
DateTimeDigitized | 2010:07:18 14:04:24.75+02:00 |
DateTimeOriginal (1) | 2010:07:18 14:04:24.75+02:00 |
DateTimeOriginal | 2010:07:18 14:04:24 |
Defringe | 0 |
DigitalZoomRatio | 1 |
DOF | inf (102.41 m - inf) |
ExifImageHeight | 960 |
ExifImageWidth | 1280 |
Exposure | 0.00 |
ExposureCompensation | 0 |
ExposureMode | Auto |
ExposureProgram | Shutter speed priority AE |
ExposureTime | 1/80 |
FillLight | 0 |
Flash | No Flash |
FlashFired | False |
FlashFunction | False |
FlashMode | Unknown |
FlashRedEyeMode | False |
FlashReturn | No return detection |
FNumber | 13.0 |
FocalLength | 200.0 mm |
FocalLength35efl | 200.0 mm (35 mm equivalent: 200.0 mm) |
FocalLengthIn35mmFormat | 200 mm |
Format | image/jpeg |
FOV | 10.3 deg |
GainControl | None |
GreenHue | 0 |
GreenSaturation | 0 |
HasCrop | False |
HasSettings | True |
HighlightRecovery | 0 |
HueAdjustmentAqua | 0 |
HueAdjustmentBlue | 0 |
HueAdjustmentGreen | 0 |
HueAdjustmentMagenta | 0 |
HueAdjustmentOrange | 0 |
HueAdjustmentPurple | 0 |
HueAdjustmentRed | 0 |
HueAdjustmentYellow | 0 |
HyperfocalDistance | 102.41 m |
ICCProfileName | Adobe RGB (1998) |
ImageHeight | 960 |
ImageNumber | 12782 |
ImageSize | 1280x960 |
ImageWidth | 1280 |
ISO | 100 |
Label | Red |
Lens | 70.0-200.0 mm f/2.8 |
LensID (1) | 162 |
LensID | AF-S Nikkor 70-200mm f/2.8G ED VR II |
LensInfo | 70-200mm f/2.8 |
LightSource | Unknown |
LightValue | 13.7 |
LuminanceAdjustmentAqua | 0 |
LuminanceAdjustmentBlue | 0 |
LuminanceAdjustmentGreen | 0 |
LuminanceAdjustmentMagenta | 0 |
LuminanceAdjustmentOrange | 0 |
LuminanceAdjustmentPurple | 0 |
LuminanceAdjustmentRed | 0 |
LuminanceAdjustmentYellow | 0 |
LuminanceSmoothing | 0 |
Make | NIKON CORPORATION |
MaxApertureValue | 2.8 |
Megapixels | 1.2 |
MeteringMode | Center-weighted average |
Model | NIKON D700 |
ModifyDate (1) | 2010:07:18 17:06:57+02:00 |
ModifyDate | 2010:07:18 17:06:57 |
Orientation | Horizontal (normal) |
ParametricDarks | 0 |
ParametricHighlights | 0 |
ParametricHighlightSplit | 75 |
ParametricLights | 0 |
ParametricMidtoneSplit | 50 |
ParametricShadows | 0 |
ParametricShadowSplit | 25 |
PostCropVignetteAmount | 0 |
ProfileDescription | Adobe RGB (1998) |
Rating | 0 |
RatingPercent | 0 |
RawFileName | _TES1817.NEF |
RedHue | 0 |
RedSaturation | 0 |
Saturation (2) | 0 |
Saturation | Normal |
SaturationAdjustmentAqua | 0 |
SaturationAdjustmentBlue | 0 |
SaturationAdjustmentGreen | 0 |
SaturationAdjustmentMagenta | 0 |
SaturationAdjustmentOrange | 0 |
SaturationAdjustmentPurple | 0 |
SaturationAdjustmentRed | 0 |
SaturationAdjustmentYellow | 0 |
ScaleFactor35efl | 1.0 |
SceneCaptureType | Standard |
SceneType | Directly photographed |
SensingMethod | One-chip color area |
SerialNumber | 2119068 |
Shadows | 5 |
ShadowTint | 0 |
SharpenDetail | 25 |
SharpenEdgeMasking | 0 |
SharpenRadius | +1.0 |
Sharpness (2) | 25 |
Sharpness | Normal |
ShutterSpeed | 1/80 |
ShutterSpeedValue | 1/80 |
SidecarForExtension | NEF |
Software | Adobe Photoshop CS4 Windows |
SplitToningBalance | 0 |
SplitToningHighlightHue | 0 |
SplitToningHighlightSaturation | 0 |
SplitToningShadowHue | 0 |
SplitToningShadowSaturation | 0 |
SubjectDistance | 4294967295 m |
SubjectDistanceRange | Unknown |
Tint | 0 |
ToneCurve | 0, 0, 32, 22, 64, 56, 128, 128, 192, 196, 255, 255 |
ToneCurveName | Medium Contrast |
Urgency | 1 (most urgent) |
URL_List | |
Version | 5.6 |
Vibrance | +20 |
VignetteAmount | 0 |
WhiteBalance (2) | As Shot |
WhiteBalance | Auto |