Felt | Verdi |
AlreadyApplied | True |
Aperture | 22.0 |
ApertureValue | 22.0 |
BitsPerSample | 8 |
BlueHue | 0 |
BlueSaturation | 0 |
Brightness | +75 |
CameraProfile | ACR 3.6 |
CFAPattern | [Green,Blue][Red,Green] |
ChromaticAberrationB | 0 |
ChromaticAberrationR | 0 |
CircleOfConfusion | 0.020 mm |
City | Oslo |
Clarity | 0 |
ColorComponents | 3 |
ColorMode | RGB |
ColorNoiseReduction | 0 |
ColorSpace | sRGB |
ColorTemperature | 4800 |
Contrast (2) | -10 |
Contrast | Normal |
ConvertToGrayscale | False |
CopyrightFlag | False |
Country | Norway |
Country-PrimaryLocationName | Norway |
CountryCode | NOR |
CreateDate (1) | 2010:07:24 19:20:58+02:00 |
CreateDate | 2010:07:24 13:28:35 |
CreatorTool | Microsoft Windows Live Photo Gallery14.0.8081.709 |
CustomRendered | Normal |
DateCreated | 2010:07:24 |
DateTimeDigitized | 2010:07:24 13:28:35+02:00 |
DateTimeOriginal (1) | 2010:07:24 13:28:35+02:00 |
DateTimeOriginal | 2010:07:24 13:28:35 |
Defringe | 0 |
DigitalZoomRatio | 1 |
ExifImageHeight (1) | 2592 |
ExifImageHeight | 2384 |
ExifImageWidth (1) | 3872 |
ExifImageWidth | 3856 |
Exposure | 0.00 |
ExposureCompensation | 0 |
ExposureMode | Auto |
ExposureProgram | Aperture-priority AE |
ExposureTime | 1/60 |
FillLight | 73 |
Flash | No Flash |
FlashFired | False |
FlashFunction | False |
FlashMode | Unknown |
FlashRedEyeMode | False |
FlashReturn | No return detection |
FNumber | 22.0 |
FocalLength | 200.0 mm |
FocalLength35efl | 200.0 mm (35 mm equivalent: 300.0 mm) |
FocalLengthIn35mmFormat | 300 mm |
Format | image/jpeg |
FOV | 6.9 deg |
GainControl | None |
GPSAltitude (2) | 195 m |
GPSAltitude | 195 m Above Sea Level |
GPSAltitudeRef | Above Sea Level |
GPSDateStamp | 2010:07:24 |
GPSDateTime | 2010:07:24 11:28:35Z |
GPSLatitude (2) | 59 deg 58' 23.15" |
GPSLatitude | 59 deg 58' 23.15" N |
GPSLatitudeRef | North |
GPSLongitude (2) | 10 deg 55' 29.24" |
GPSLongitude | 10 deg 55' 29.24" E |
GPSLongitudeRef | East |
GPSMapDatum | WGS-84 |
GPSPosition | 59 deg 58' 23.15" N, 10 deg 55' 29.24" E |
GPSSatellites | 0 |
GPSTimeStamp | 11:28:35 |
GPSVersionID | 2.2.0.0 |
GreenHue | 0 |
GreenSaturation | 0 |
HasCrop | False |
HasSettings | True |
HighlightRecovery | 0 |
HueAdjustmentAqua | 0 |
HueAdjustmentBlue | 0 |
HueAdjustmentGreen | 0 |
HueAdjustmentMagenta | 0 |
HueAdjustmentOrange | 0 |
HueAdjustmentPurple | 0 |
HueAdjustmentRed | 0 |
HueAdjustmentYellow | 0 |
HyperfocalDistance | 90.77 m |
ICCProfileName | sRGB IEC61966-2.1 |
ImageHeight | 2384 |
ImageNumber | 4799 |
ImageSize | 3856x2384 |
ImageWidth | 3856 |
ISO | 100 |
Keywords | Blomster, Steder/Norge/Østlandet/Oslo/Stovner/Vestli/Hjemme (Ragnhild Schibbyes vei 19) |
LastKeywordIPTC | Blomster, Steder/Norge/Østlandet/Oslo/Stovner/Vestli/Hjemme (Ragnhild Schibbyes vei 19) |
LastKeywordXMP | Blomster, Steder/Norge/Østlandet/Oslo/Stovner/Vestli/Hjemme (Ragnhild Schibbyes vei 19) |
Lens | 18.0-200.0 mm f/3.5-6.3 |
LensInfo | 18-200mm f/3.5-6.3 |
LightSource | Unknown |
LightValue | 14.8 |
Location | Vestli |
LuminanceAdjustmentAqua | 0 |
LuminanceAdjustmentBlue | 0 |
LuminanceAdjustmentGreen | 0 |
LuminanceAdjustmentMagenta | 0 |
LuminanceAdjustmentOrange | 0 |
LuminanceAdjustmentPurple | 0 |
LuminanceAdjustmentRed | 0 |
LuminanceAdjustmentYellow | 0 |
LuminanceSmoothing | 38 |
Make | NIKON CORPORATION |
MaxApertureValue | 6.3 |
Megapixels | 9.2 |
MeteringMode | Center-weighted average |
Model | NIKON D80 |
ModifyDate (1) | 2010:07:24 19:20:58+02:00 |
ModifyDate | 2010:07:24 19:48:44 |
Orientation | Horizontal (normal) |
OriginatingProgram | Microsoft Windows Live Photo Gallery14.0.8081.709 |
ParametricDarks | 0 |
ParametricHighlights | 0 |
ParametricHighlightSplit | 75 |
ParametricLights | 0 |
ParametricMidtoneSplit | 50 |
ParametricShadows | 0 |
ParametricShadowSplit | 25 |
ProfileDescription | sRGB IEC61966-2.1 |
Province-State | Oslo |
Rating | 0 |
RawFileName | DSC_4704.NEF |
RedHue | 0 |
RedSaturation | 0 |
ReferenceBlackWhite | 0, 255, 0, 255, 0, 255 |
Saturation (2) | +100 |
Saturation | Normal |
SaturationAdjustmentAqua | 0 |
SaturationAdjustmentBlue | 0 |
SaturationAdjustmentGreen | 0 |
SaturationAdjustmentMagenta | 0 |
SaturationAdjustmentOrange | 0 |
SaturationAdjustmentPurple | 0 |
SaturationAdjustmentRed | 0 |
SaturationAdjustmentYellow | 0 |
ScaleFactor35efl | 1.5 |
SceneCaptureType | Standard |
SceneType | Directly photographed |
SensingMethod | One-chip color area |
Shadows | 25 |
ShadowTint | 0 |
SharpenDetail | 25 |
SharpenEdgeMasking | 0 |
SharpenRadius | +1.0 |
Sharpness (2) | 25 |
Sharpness | Normal |
ShutterSpeed | 1/60 |
ShutterSpeedValue | 1/60 |
SidecarForExtension | NEF |
Software | Microsoft Windows Live Photo Gallery14.0.8081.709 |
SplitToningBalance | 0 |
SplitToningHighlightHue | 0 |
SplitToningHighlightSaturation | 0 |
SplitToningShadowHue | 0 |
SplitToningShadowSaturation | 0 |
State | Oslo |
Subject | Blomster, Steder/Norge/Østlandet/Oslo/Stovner/Vestli/Hjemme (Ragnhild Schibbyes vei 19) |
SubjectDistanceRange | Unknown |
Tint | 0 |
ToneCurve | 0, 0, 32, 22, 64, 56, 128, 128, 192, 196, 255, 255 |
ToneCurveName | Medium Contrast |
URL_List | |
UserComment | |
Version | 4.2 |
Vibrance | +43 |
VignetteAmount | 0 |
WhiteBalance (2) | Custom |
WhiteBalance | Auto |
XPKeywords | Blomster;Steder/Norge/Østlandet/Oslo/Stovner/Vestli/Hjemme (Ragnhild Schibbyes vei 19) |