Felt | Verdi |
AlreadyApplied | True |
Aperture | 2.8 |
ApertureValue | 2.8 |
BitsPerSample | 8 |
BlueHue | 0 |
BlueSaturation | 0 |
Brightness | +50 |
CameraProfile | Adobe Standard |
ChromaticAberrationB | 0 |
ChromaticAberrationR | 0 |
CircleOfConfusion | 0.019 mm |
Clarity | +68 |
ColorComponents | 3 |
ColorMode | RGB |
ColorNoiseReduction | 25 |
ColorNoiseReductionDetail | 50 |
ColorSpace | sRGB |
ColorTemperature | 4900 |
Contrast | +25 |
ConvertToGrayscale | False |
CreateDate (1) | 2011:04:18 20:41:34.00+02:00 |
CreateDate | 2011:04:18 20:41:34 |
CustomRendered | Normal |
DateCreated (1) | 2011:04:18 |
DateCreated | 2011:04:18 20:41:34 |
DateTimeOriginal | 2011:04:18 20:41:34 |
Defringe | 0 |
DOF | 0.011 m (1.565 - 1.575 m) |
ExifImageHeight | 2604 |
ExifImageWidth | 2550 |
Exposure | 0.00 |
ExposureCompensation | -1/2 |
ExposureMode | Auto |
ExposureProgram | Aperture-priority AE |
ExposureTime | 1/45 |
FillLight | 0 |
Firmware | 1.0.7 |
Flash | Off, Did not fire |
FlashCompensation | 0 |
FNumber | 2.8 |
FocalLength | 150.0 mm |
FocalLength35efl | 150.0 mm (35 mm equivalent: 237.7 mm) |
Format | image/jpeg |
FOV | 8.7 deg |
GrainAmount | 0 |
GreenHue | 0 |
GreenSaturation | 0 |
HasCrop | False |
HasSettings | True |
HighlightRecovery | 75 |
HueAdjustmentAqua | 0 |
HueAdjustmentBlue | 0 |
HueAdjustmentGreen | 0 |
HueAdjustmentMagenta | 0 |
HueAdjustmentOrange | 0 |
HueAdjustmentPurple | 0 |
HueAdjustmentRed | 0 |
HueAdjustmentYellow | 0 |
HyperfocalDistance | 423.78 m |
ICCProfileName | sRGB IEC61966-2.1 |
ImageHeight | 2604 |
ImageNumber | 0 |
ImageSize | 2550x2604 |
ImageWidth | 2550 |
ISO | 1250 |
Lens | 150mm |
LensID (1) | 173 |
LensID | Sigma APO Macro 150mm f/2.8 EX DG HSM |
LensInfo | 150mm f/? |
LightValue | 4.8 |
LuminanceAdjustmentAqua | 0 |
LuminanceAdjustmentBlue | 0 |
LuminanceAdjustmentGreen | 0 |
LuminanceAdjustmentMagenta | 0 |
LuminanceAdjustmentOrange | 0 |
LuminanceAdjustmentPurple | 0 |
LuminanceAdjustmentRed | 0 |
LuminanceAdjustmentYellow | 0 |
LuminanceSmoothing | 0 |
Make | Canon |
MaxApertureValue | 2.8 |
Megapixels | 6.6 |
MeteringMode | Spot |
Model | Canon EOS 50D |
ModifyDate (1) | 2011:04:19 09:22:28+02:00 |
ModifyDate | 2011:04:19 09:22:28 |
Orientation | Horizontal (normal) |
ParametricDarks | 0 |
ParametricHighlights | 0 |
ParametricHighlightSplit | 75 |
ParametricLights | 0 |
ParametricMidtoneSplit | 50 |
ParametricShadows | 0 |
ParametricShadowSplit | 25 |
PostCropVignetteAmount | 0 |
ProcessVersion | 5.7 |
ProfileDescription | sRGB IEC61966-2.1 |
Rating | 0 |
RawFileName | IMG_0715.CR2 |
RedHue | 0 |
RedSaturation | 0 |
Saturation | 0 |
SaturationAdjustmentAqua | 0 |
SaturationAdjustmentBlue | 0 |
SaturationAdjustmentGreen | 0 |
SaturationAdjustmentMagenta | 0 |
SaturationAdjustmentOrange | 0 |
SaturationAdjustmentPurple | 0 |
SaturationAdjustmentRed | 0 |
SaturationAdjustmentYellow | 0 |
ScaleFactor35efl | 1.6 |
SceneCaptureType | Standard |
SerialNumber | 2260714542 |
Shadows | 5 |
ShadowTint | 0 |
SharpenDetail | 25 |
SharpenEdgeMasking | 0 |
SharpenRadius | +1.0 |
Sharpness | 25 |
ShutterSpeed | 1/45 |
ShutterSpeedValue | 1/45 |
SidecarForExtension | CR2 |
Software | Adobe Photoshop CS5 Windows |
SplitToningBalance | 0 |
SplitToningHighlightHue | 0 |
SplitToningHighlightSaturation | 0 |
SplitToningShadowHue | 0 |
SplitToningShadowSaturation | 0 |
SubjectDistance | 1.57 m |
Tint | +14 |
ToneCurve | 0, 0, 32, 22, 64, 56, 128, 128, 192, 196, 255, 255 |
ToneCurveName | Medium Contrast |
URL_List | |
Version | 6.0 |
Vibrance | +57 |
VignetteAmount | 0 |
WhiteBalance (1) | As Shot |
WhiteBalance | Auto |