Felt | Verdi |
AlreadyApplied | True |
Aperture | 5.6 |
ApertureValue | 5.6 |
ApproximateFocusDistance | 4294967295 |
BitsPerSample | 8 |
BlueHue | 0 |
BlueSaturation | 0 |
Brightness | +50 |
By-line | Steinar Vik |
CameraProfile | Adobe Standard |
ChromaticAberrationB | 0 |
ChromaticAberrationR | 0 |
CircleOfConfusion | 0.019 mm |
Clarity | +20 |
ColorComponents | 3 |
ColorNoiseReduction | 33 |
ColorNoiseReductionDetail | 50 |
ColorTemperature | 5950 |
Contrast | +29 |
ConvertToGrayscale | False |
Copyright | Steinar Vik |
CopyrightFlag | True |
CopyrightNotice | Steinar Vik |
CreateDate (1) | 2011:06:26 19:46:57.55+02:00 |
CreateDate | 2011:06:26 19:46:57 |
Creator | Steinar Vik |
CreatorTool | Adobe Photoshop Lightroom |
CropAngle | 0.001432 |
CropBottom | 0.940117 |
CropConstrainToWarp | 0 |
CropHeight | 1466 |
CropLeft | 0.210882 |
CropRight | 0.914535 |
CropTop | 0.374366 |
CropUnit | pixels |
CropWidth | 2736 |
CustomRendered | Normal |
DateTimeDigitized | 2011:06:26 19:46:57.55+02:00 |
DateTimeOriginal (1) | 2011:06:26 19:46:57.55+02:00 |
DateTimeOriginal | 2011:06:26 19:46:57 |
Defringe | 0 |
DOF | inf (384.84 m - inf) |
ExifImageHeight | 1466 |
ExifImageWidth | 2736 |
Exposure | +0.35 |
ExposureCompensation | 0 |
ExposureMode | Manual |
ExposureProgram | Manual |
ExposureTime | 1/800 |
FillLight | 0 |
Firmware | 1.0.8 |
Flash | Off, Did not fire |
FlashCompensation | 0 |
FlashFired | False |
FlashFunction | False |
FlashMode | Off |
FlashRedEyeMode | False |
FlashReturn | No return detection |
FNumber | 5.6 |
FocalLength | 200.0 mm |
FocalLength35efl | 200.0 mm (35 mm equivalent: 323.8 mm) |
FOV | 6.4 deg |
GrainAmount | 0 |
GreenHue | 0 |
GreenSaturation | 0 |
HasCrop | True |
HasSettings | True |
HighlightRecovery | 0 |
HueAdjustmentAqua | 0 |
HueAdjustmentBlue | 0 |
HueAdjustmentGreen | 0 |
HueAdjustmentMagenta | 0 |
HueAdjustmentOrange | +15 |
HueAdjustmentPurple | 0 |
HueAdjustmentRed | 0 |
HueAdjustmentYellow | +1 |
HyperfocalDistance | 384.84 m |
ImageHeight | 1466 |
ImageNumber | 0 |
ImageSize | 2736x1466 |
ImageWidth | 2736 |
ISO | 1600 |
Keywords | Utsikt |
Lens | EF70-200mm f/4L IS USM |
LensID (1) | 242 |
LensID | Canon EF 70-200mm f/4L IS USM |
LensInfo | 70-200mm f/? |
LensManualDistortionAmount | 0 |
LensModel | EF70-200mm f/4L IS USM |
LensProfileEnable | 0 |
LensProfileSetup | LensDefaults |
LightValue | 10.6 |
LuminanceAdjustmentAqua | 0 |
LuminanceAdjustmentBlue | 0 |
LuminanceAdjustmentGreen | 0 |
LuminanceAdjustmentMagenta | 0 |
LuminanceAdjustmentOrange | -16 |
LuminanceAdjustmentPurple | 0 |
LuminanceAdjustmentRed | 0 |
LuminanceAdjustmentYellow | +13 |
LuminanceNoiseReductionContrast | 0 |
LuminanceNoiseReductionDetail | 50 |
LuminanceSmoothing | 28 |
Make | Canon |
Marked | True |
MaxApertureValue | 4.0 |
Megapixels | 4.0 |
MeteringMode | Spot |
Model | Canon EOS 40D |
ModifyDate (1) | 2011:06:27 19:10:46+02:00 |
ModifyDate | 2011:06:27 19:10:46 |
PaintCorrectionActive | true |
PaintCorrectionAmount | 1.000000 |
PaintCorrectionBrightness | 0.213000 |
PaintCorrectionClarity | 1.000000 |
PaintCorrectionContrast | 0.115000 |
PaintCorrectionExposure | 0.475000 |
PaintCorrectionHue | 240.000000 |
PaintCorrectionMaskCenterWeight | 0.184518 |
PaintCorrectionMaskFlow | 0.489000 |
PaintCorrectionMaskRadius (1) | 0.008833 |
PaintCorrectionMaskRadius (2) | 0.005876 |
PaintCorrectionMaskRadius (3) | 0.011943 |
PaintCorrectionMaskRadius (4) | 0.007830 |
PaintCorrectionMaskRadius | 0.004925 |
PaintCorrectionMaskValue | 0.565000 |
PaintCorrectionMaskWhat | Mask/Paint |
PaintCorrectionSaturation (1) | 1.000000 |
PaintCorrectionSaturation | 0.000000 |
PaintCorrectionSharpness | 1.000000 |
PaintCorrectionWhat | Correction |
ParametricDarks | 0 |
ParametricHighlights | -76 |
ParametricHighlightSplit | 75 |
ParametricLights | -26 |
ParametricMidtoneSplit | 50 |
ParametricShadows | 0 |
ParametricShadowSplit | 25 |
PerspectiveHorizontal | 0 |
PerspectiveRotate | 0.0 |
PerspectiveScale | 100 |
PerspectiveVertical | 0 |
PostCropVignetteAmount | 0 |
ProcessVersion | 5.7 |
ProfileDescription | sRGB IEC61966-2.1 |
RedHue | 0 |
RedSaturation | 0 |
Rights | Steinar Vik |
Saturation | 0 |
SaturationAdjustmentAqua | 0 |
SaturationAdjustmentBlue | 0 |
SaturationAdjustmentGreen | 0 |
SaturationAdjustmentMagenta | 0 |
SaturationAdjustmentOrange | +58 |
SaturationAdjustmentPurple | 0 |
SaturationAdjustmentRed | 0 |
SaturationAdjustmentYellow | +6 |
ScaleFactor35efl | 1.6 |
SceneCaptureType | Standard |
SensitivityType | Unknown |
SerialNumber | 330101319 |
Shadows | 3 |
ShadowTint | 0 |
SharpenDetail | 25 |
SharpenEdgeMasking | 0 |
SharpenRadius | +1.0 |
Sharpness | 51 |
ShutterSpeed | 1/800 |
ShutterSpeedValue | 1/800 |
SplitToningBalance | 0 |
SplitToningHighlightHue | 0 |
SplitToningHighlightSaturation | 0 |
SplitToningShadowHue | 0 |
SplitToningShadowSaturation | 0 |
Subject | Utsikt |
SubjectDistance | 4294967295 m |
Tint | -7 |
ToneCurve | 0, 0, 32, 22, 64, 56, 128, 128, 192, 196, 255, 255 |
ToneCurveName | Medium Contrast |
Version | 6.2 |
Vibrance | 0 |
VignetteAmount | 0 |
WhiteBalance (2) | As Shot |
WhiteBalance | Auto |