Felt | Verdi |
AlreadyApplied | True |
Aperture | 10.0 |
ApertureValue | 10.0 |
BitsPerSample | 8 |
BlueHue | 0 |
BlueSaturation | 0 |
Brightness | 0 |
CameraProfile | Embedded |
CFAPattern | [Green,Blue][Red,Green] |
ChromaticAberrationB | 0 |
ChromaticAberrationR | 0 |
CircleOfConfusion | 0.020 mm |
Clarity | 0 |
ColorComponents | 1 |
ColorMode | RGB |
ColorNoiseReduction | 0 |
ColorSpace (1) | Unknown (-1) |
ColorSpace | Uncalibrated |
Contrast (2) | 0 |
Contrast | Normal |
ConvertToGrayscale | False |
CopyrightFlag | False |
CreateDate (1) | 2011:03:03 11:21:34+01:00 |
CreateDate | 2011:03:02 15:19:33 |
CreatorTool | Adobe Photoshop CS3 Windows |
CustomRendered | Normal |
DateTimeDigitized | 2011:03:02 15:19:33.00+01:00 |
DateTimeOriginal (1) | 2011:03:02 15:19:33.00+01:00 |
DateTimeOriginal | 2011:03:02 15:19:33 |
Defringe | 0 |
DerivedFrom | |
DigitalZoomRatio | 1 |
DOF | 0.13 m (1.35 - 1.48 m) |
ExifImageHeight | 2848 |
ExifImageWidth | 4288 |
Exposure | +0.30 |
ExposureCompensation | -10/3 |
ExposureMode | Manual |
ExposureProgram | Manual |
ExposureTime | 1/13 |
FillLight | 7 |
Flash | No Flash |
FlashFired | False |
FlashFunction | False |
FlashMode | Unknown |
FlashRedEyeMode | False |
FlashReturn | No return detection |
FNumber | 10.0 |
FocalLength | 75.0 mm |
FocalLength35efl | 75.0 mm (35 mm equivalent: 112.0 mm) |
FocalLengthIn35mmFormat | 112 mm |
Format | image/jpeg |
FOV | 18.3 deg |
GainControl | Low gain up |
GreenHue | 0 |
GreenSaturation | 0 |
HasCrop | False |
HasSettings | True |
HighlightRecovery | 11 |
HueAdjustmentAqua | 0 |
HueAdjustmentBlue | 0 |
HueAdjustmentGreen | 0 |
HueAdjustmentMagenta | 0 |
HueAdjustmentOrange | 0 |
HueAdjustmentPurple | 0 |
HueAdjustmentRed | 0 |
HueAdjustmentYellow | 0 |
HyperfocalDistance | 27.96 m |
ICCProfileName | Adobe RGB (1998) |
ImageHeight | 2848 |
ImageNumber | 3141 |
ImageSize | 4288x2848 |
ImageWidth | 4288 |
IncrementalTemperature | 0 |
IncrementalTint | 0 |
ISO | 400 |
Lens | 18.0-105.0 mm f/3.5-5.6 |
LensID (1) | 158 |
LensID | AF-S DX VR Zoom-Nikkor 18-105mm f/3.5-5.6G ED |
LensInfo | 18-105mm f/3.5-5.6 |
LightSource | Unknown |
LightValue | 8.3 |
LuminanceAdjustmentAqua | 0 |
LuminanceAdjustmentBlue | 0 |
LuminanceAdjustmentGreen | 0 |
LuminanceAdjustmentMagenta | 0 |
LuminanceAdjustmentOrange | 0 |
LuminanceAdjustmentPurple | 0 |
LuminanceAdjustmentRed | 0 |
LuminanceAdjustmentYellow | 0 |
LuminanceSmoothing | 0 |
Make | NIKON CORPORATION |
MaxApertureValue | 5.5 |
Megapixels | 12.2 |
MeteringMode | Multi-segment |
Model | NIKON D90 |
ModifyDate (1) | 2011:03:03 11:21:34+01:00 |
ModifyDate | 2011:03:03 11:21:34 |
Orientation | Horizontal (normal) |
ParametricDarks | 0 |
ParametricHighlights | 0 |
ParametricHighlightSplit | 75 |
ParametricLights | 0 |
ParametricMidtoneSplit | 50 |
ParametricShadows | 0 |
ParametricShadowSplit | 25 |
PostCropVignetteAmount | 0 |
ProfileDescription | Adobe RGB (1998) |
Rating | 0 |
RawFileName | DSC_0422.JPG |
RedHue | 0 |
RedSaturation | 0 |
Saturation (2) | 0 |
Saturation | Normal |
SaturationAdjustmentAqua | 0 |
SaturationAdjustmentBlue | 0 |
SaturationAdjustmentGreen | 0 |
SaturationAdjustmentMagenta | 0 |
SaturationAdjustmentOrange | 0 |
SaturationAdjustmentPurple | 0 |
SaturationAdjustmentRed | 0 |
SaturationAdjustmentYellow | 0 |
ScaleFactor35efl | 1.5 |
SceneCaptureType | Standard |
SceneType | Directly photographed |
SensingMethod | One-chip color area |
SerialNumber | 6608964 |
Shadows | 13 |
ShadowTint | 0 |
SharpenDetail | 25 |
SharpenEdgeMasking | 0 |
SharpenRadius | +1.0 |
Sharpness (2) | 0 |
Sharpness | Normal |
ShutterSpeed | 1/13 |
ShutterSpeedValue | 1/13 |
Software | Adobe Photoshop CS3 Windows |
SplitToningBalance | 0 |
SplitToningHighlightHue | 0 |
SplitToningHighlightSaturation | 0 |
SplitToningShadowHue | 0 |
SplitToningShadowSaturation | 0 |
SubjectDistance | 1.41 m |
SubjectDistanceRange | Unknown |
ToneCurve | 0, 0, 255, 255 |
ToneCurveName | Linear |
URL_List | |
Version | 4.6 |
Vibrance | 0 |
VignetteAmount | 0 |
WhiteBalance (2) | As Shot |
WhiteBalance | Manual |