Felt | Verdi |
AlreadyApplied | True |
Aperture | 14.0 |
ApertureValue | 14.0 |
ApproximateFocusDistance | 6.67 |
AutoLateralCA | 0 |
BitsPerSample | 8 |
Blacks2012 | -35 |
BlueHue | 0 |
BlueSaturation | 0 |
Brightness | +50 |
CameraProfile | Adobe Standard |
CircleOfConfusion | 0.031 mm |
Clarity | 0 |
Clarity2012 | 0 |
ColorComponents | 1 |
ColorNoiseReduction | 25 |
ColorNoiseReductionDetail | 50 |
ColorTemperature | 5000 |
Contrast | +25 |
Contrast2012 | +30 |
ConvertToGrayscale | True |
CreateDate (1) | 2012:04:06 14:15:24.15 |
CreateDate | 2012:04:06 14:15:24 |
CreatorTool | Adobe Photoshop Lightroom 4.0 (Windows) |
CropAngle | 0 |
CropBottom | 0.971989 |
CropConstrainToWarp | 0 |
CropHeight | 3639 |
CropLeft | 0.013072 |
CropRight | 1 |
CropTop | 0 |
CropUnit | pixels |
CropWidth | 5543 |
CustomRendered | Normal |
DateCreated (1) | 2012:04:06 |
DateCreated | 2012:04:06 14:15:24.15 |
DateTimeOriginal | 2012:04:06 14:15:24 |
Defringe | 0 |
DOF | inf (2.55 m - inf) |
Exposure | 0.00 |
Exposure2012 | +0.10 |
ExposureCompensation | 0 |
ExposureMode | Manual |
ExposureProgram | Manual |
ExposureTime | 1/100 |
FillLight | 0 |
Firmware | 2.0.7 |
Flash | Off, Did not fire |
FlashCompensation | 0 |
FNumber | 14.0 |
FocalLength | 42.0 mm |
FocalLength35efl | 42.0 mm (35 mm equivalent: 41.0 mm) |
Format | image/jpeg |
FOV | 47.4 deg |
GrainAmount | 0 |
GrayMixerAqua | -14 |
GrayMixerBlue | +21 |
GrayMixerGreen | -29 |
GrayMixerMagenta | +5 |
GrayMixerOrange | -23 |
GrayMixerPurple | +23 |
GrayMixerRed | -13 |
GrayMixerYellow | -27 |
GreenHue | 0 |
GreenSaturation | 0 |
HasCrop | True |
HasSettings | True |
HighlightRecovery | 0 |
Highlights2012 | 0 |
HyperfocalDistance | 4.09 m |
ImageHeight | 3639 |
ImageNumber | 0 |
ImageSize | 5543x3639 |
ImageWidth | 5543 |
ISO | 160 |
Lens | EF24-70mm f/2.8L USM |
LensID (1) | 230 |
LensID | Canon EF 24-70mm f/2.8L USM |
LensInfo | 24-70mm f/? |
LensManualDistortionAmount | 0 |
LensModel | EF24-70mm f/2.8L USM |
LensProfileEnable | 0 |
LensProfileSetup | LensDefaults |
LightValue | 13.6 |
LuminanceSmoothing | 0 |
Make | Canon |
MaxApertureValue | 2.8 |
Megapixels | 20.2 |
MeteringMode | Multi-segment |
Model | Canon EOS 5D Mark II |
ModifyDate (1) | 2012:04:08 23:25:23+02:00 |
ModifyDate | 2012:04:08 23:25:23 |
PaintCorrectionActive | true |
PaintCorrectionAmount | 1.000000 |
PaintCorrectionBrightness | 0.000000 |
PaintCorrectionClarity2012 | 0.000000 |
PaintCorrectionContrast2012 | 0.000000 |
PaintCorrectionExposure2012 (1) | -0.350000 |
PaintCorrectionExposure2012 (2) | -0.175000 |
PaintCorrectionExposure2012 (3) | 0.312500 |
PaintCorrectionExposure2012 (4) | 0.187500 |
PaintCorrectionExposure2012 (5) | -1.000000 |
PaintCorrectionExposure2012 (6) | -0.200000 |
PaintCorrectionExposure2012 (8) | -0.086750 |
PaintCorrectionExposure2012 | -0.100000 |
PaintCorrectionHighlights2012 | 0.000000 |
PaintCorrectionHue (9) | 0.000000 |
PaintCorrectionHue | 240.000000 |
PaintCorrectionLuminanceNoise | 0.000000 |
PaintCorrectionMaskCenterWeight (17) | 0.032022 |
PaintCorrectionMaskCenterWeight | 0.037601 |
PaintCorrectionMaskFlow | 1.000000 |
PaintCorrectionMaskRadius (1) | 0.421582 |
PaintCorrectionMaskRadius (10) | 0.144304 |
PaintCorrectionMaskRadius (2) | 0.399440 |
PaintCorrectionMaskRadius (20) | 0.120988 |
PaintCorrectionMaskRadius (26) | 0.152300 |
PaintCorrectionMaskRadius (31) | 0.070498 |
PaintCorrectionMaskRadius (36) | 0.063732 |
PaintCorrectionMaskRadius (37) | 0.136420 |
PaintCorrectionMaskRadius (38) | 0.084364 |
PaintCorrectionMaskRadius (39) | 0.113440 |
PaintCorrectionMaskRadius (4) | 0.356498 |
PaintCorrectionMaskRadius (42) | 0.193956 |
PaintCorrectionMaskRadius (45) | 0.229294 |
PaintCorrectionMaskRadius (46) | 0.098678 |
PaintCorrectionMaskRadius (48) | 0.037237 |
PaintCorrectionMaskRadius (49) | 0.031121 |
PaintCorrectionMaskRadius (63) | 0.043464 |
PaintCorrectionMaskRadius (72) | 0.062803 |
PaintCorrectionMaskRadius (73) | 0.126774 |
PaintCorrectionMaskRadius (8) | 0.185401 |
PaintCorrectionMaskRadius (9) | 0.160407 |
PaintCorrectionMaskRadius | 0.104459 |
PaintCorrectionMaskValue | 1.000000 |
PaintCorrectionMaskWhat | Mask/Paint |
PaintCorrectionMoire | 0.000000 |
PaintCorrectionSaturation | 0.000000 |
PaintCorrectionShadows2012 | 0.000000 |
PaintCorrectionSharpness | 0.000000 |
PaintCorrectionTemperature | 0.000000 |
PaintCorrectionTint | 0.000000 |
PaintCorrectionWhat | Correction |
ParametricDarks | 0 |
ParametricHighlights | 0 |
ParametricHighlightSplit | 75 |
ParametricLights | 0 |
ParametricMidtoneSplit | 50 |
ParametricShadows | 0 |
ParametricShadowSplit | 25 |
PerspectiveHorizontal | 0 |
PerspectiveRotate | 0.0 |
PerspectiveScale | 100 |
PerspectiveVertical | 0 |
PostCropVignetteAmount | 0 |
ProcessVersion | 6.7 |
ProfileDescription | sRGB IEC61966-2.1 |
RedHue | 0 |
RedSaturation | 0 |
ScaleFactor35efl | 1.0 |
SceneCaptureType | Standard |
SerialNumber | 2331316328 |
Shadows | 5 |
Shadows2012 | -30 |
ShadowTint | 0 |
SharpenDetail | 25 |
SharpenEdgeMasking | 0 |
SharpenRadius | +1.0 |
Sharpness | 115 |
ShutterSpeed | 1/100 |
ShutterSpeedValue | 1/100 |
Software | Adobe Photoshop Lightroom 4.0 (Windows) |
SplitToningBalance | 0 |
SplitToningHighlightHue | 0 |
SplitToningHighlightSaturation | 0 |
SplitToningShadowHue | 0 |
SplitToningShadowSaturation | 0 |
Tint | -3 |
ToneCurve | 0, 0, 255, 255 |
ToneCurveBlue | 0, 0, 255, 255 |
ToneCurveGreen | 0, 0, 255, 255 |
ToneCurveName | Linear |
ToneCurveName2012 | Linear |
ToneCurvePV2012 | 0, 0, 255, 255 |
ToneCurvePV2012Blue | 0, 0, 255, 255 |
ToneCurvePV2012Green | 0, 0, 255, 255 |
ToneCurvePV2012Red | 0, 0, 255, 255 |
ToneCurveRed | 0, 0, 255, 255 |
Version | 7.0 |
VignetteAmount | 0 |
WhiteBalance (1) | As Shot |
WhiteBalance | Auto |
Whites2012 | +25 |