Felt | Verdi |
AlreadyApplied | True |
Aperture | 4.0 |
ApertureValue | 4.0 |
ApproximateFocusDistance | 3.72 |
AutoLateralCA | 0 |
BitsPerSample | 8 |
Blacks2012 | -100 |
BlueHue | 0 |
BlueSaturation | 0 |
Brightness | +50 |
CameraProfile | Adobe Standard |
CircleOfConfusion | 0.031 mm |
Clarity | 0 |
Clarity2012 | -4 |
ColorComponents | 1 |
ColorNoiseReduction | 25 |
ColorNoiseReductionDetail | 50 |
ColorTemperature | 50000 |
Contrast | +25 |
Contrast2012 | -46 |
ConvertToGrayscale | True |
CreateDate (1) | 2012:04:13 09:26:46.59 |
CreateDate | 2012:04:13 09:26:46 |
CreatorTool | Adobe Photoshop Lightroom 4.0 (Macintosh) |
CropAngle | 0 |
CropBottom | 1 |
CropConstrainToWarp | 0 |
CropHeight | 3744 |
CropLeft | 0.238551 |
CropRight | 0.905217 |
CropTop | 0 |
CropUnit | pixels |
CropWidth | 3744 |
CustomRendered | Normal |
DateCreated (1) | 2012:04:13 |
DateCreated | 2012:04:13 09:26:46.59 |
DateTimeOriginal | 2012:04:13 09:26:46 |
Defringe | 0 |
DOF | inf (1.44 m - inf) |
Exposure | 0.00 |
Exposure2012 | +2.20 |
ExposureCompensation | +2 |
ExposureMode | Auto |
ExposureProgram | Shutter speed priority AE |
ExposureTime | 1/30 |
FillLight | 0 |
Firmware | 2.0.9 |
Flash | Off, Did not fire |
FlashCompensation | 0 |
FNumber | 4.0 |
FocalLength | 17.0 mm |
FocalLength35efl | 17.0 mm (35 mm equivalent: 16.6 mm) |
Format | image/jpeg |
FOV | 94.7 deg |
GrainAmount | 0 |
GrayMixerAqua | -19 |
GrayMixerBlue | +9 |
GrayMixerGreen | -27 |
GrayMixerMagenta | +4 |
GrayMixerOrange | -18 |
GrayMixerPurple | +15 |
GrayMixerRed | -9 |
GrayMixerYellow | -22 |
GreenHue | 0 |
GreenSaturation | 0 |
HasCrop | True |
HasSettings | True |
HighlightRecovery | 0 |
Highlights2012 | 0 |
HyperfocalDistance | 2.35 m |
ImageHeight | 3744 |
ImageNumber | 0 |
ImageSize | 3744x3744 |
ImageWidth | 3744 |
ISO | 3200 |
Lens | EF17-40mm f/4L USM |
LensID (1) | 231 |
LensID | Canon EF 17-40mm f/4L USM |
LensInfo | 17-40mm f/? |
LensManualDistortionAmount | 0 |
LensModel | EF17-40mm f/4L USM |
LensProfileEnable | 0 |
LensProfileSetup | LensDefaults |
LightValue | 3.9 |
LuminanceNoiseReductionContrast | 0 |
LuminanceNoiseReductionDetail | 50 |
LuminanceSmoothing | 85 |
Make | Canon |
MaxApertureValue | 4.0 |
Megapixels | 14.0 |
MeteringMode | Center-weighted average |
Model | Canon EOS 5D Mark II |
ModifyDate (1) | 2012:04:14 12:38:24+02:00 |
ModifyDate | 2012:04:14 12:38:24 |
ParametricDarks | 0 |
ParametricHighlights | 0 |
ParametricHighlightSplit | 75 |
ParametricLights | -28 |
ParametricMidtoneSplit | 50 |
ParametricShadows | 0 |
ParametricShadowSplit | 25 |
PerspectiveHorizontal | 0 |
PerspectiveRotate | 0.0 |
PerspectiveScale | 100 |
PerspectiveVertical | 0 |
PostCropVignetteAmount | -87 |
PostCropVignetteFeather | 50 |
PostCropVignetteHighlightContrast | 0 |
PostCropVignetteMidpoint | 50 |
PostCropVignetteRoundness | 0 |
PostCropVignetteStyle | 1 |
ProcessVersion | 6.7 |
ProfileDescription | sRGB IEC61966-2.1 |
RedHue | 0 |
RedSaturation | 0 |
ScaleFactor35efl | 1.0 |
SceneCaptureType | Standard |
SerialNumber | 3661702666 |
Shadows | 5 |
Shadows2012 | 0 |
ShadowTint | 0 |
SharpenDetail | 25 |
SharpenEdgeMasking | 0 |
SharpenRadius | +1.0 |
Sharpness | 25 |
ShutterSpeed | 1/30 |
ShutterSpeedValue | 1/30 |
Software | Adobe Photoshop Lightroom 4.0 (Macintosh) |
SplitToningBalance | 0 |
SplitToningHighlightHue | 0 |
SplitToningHighlightSaturation | 0 |
SplitToningShadowHue | 0 |
SplitToningShadowSaturation | 0 |
Tint | +9 |
ToneCurve | 0, 0, 255, 255 |
ToneCurveBlue | 0, 0, 255, 255 |
ToneCurveGreen | 0, 0, 255, 255 |
ToneCurveName | Linear |
ToneCurveName2012 | Linear |
ToneCurvePV2012 | 0, 0, 255, 255 |
ToneCurvePV2012Blue | 0, 0, 255, 255 |
ToneCurvePV2012Green | 0, 0, 255, 255 |
ToneCurvePV2012Red | 0, 0, 255, 255 |
ToneCurveRed | 0, 0, 255, 255 |
Version | 7.0 |
VignetteAmount | 0 |
WhiteBalance (1) | Custom |
WhiteBalance | Auto |
Whites2012 | -43 |