Felt | Verdi |
AlreadyApplied | True |
Aperture | 2.8 |
ApertureValue | 2.8 |
ApproximateFocusDistance | 4294967295 |
Artist | Photographer: Don Johansson |
AuthorsPosition | Photographer |
AutoLateralCA | 0 |
BitsPerSample | 8 |
Blacks2012 | +16 |
BlueHue | 0 |
BlueSaturation | 0 |
By-line | Photographer: Don Johansson |
By-lineTitle | Photographer |
CameraProfile | Adobe Standard |
Caption-Abstract | Northern light. |
CircleOfConfusion | 0.031 mm |
Clarity2012 | +26 |
ColorComponents | 3 |
ColorNoiseReduction | 73 |
ColorNoiseReductionDetail | 81 |
ColorTemperature | 3850 |
Contrast2012 | +60 |
ConvertToGrayscale | False |
Copyright | © Don Johansson |
CopyrightFlag | True |
CopyrightNotice | © Don Johansson |
CreateDate (1) | 2012:10:13 23:10:14.03 |
CreateDate | 2012:10:13 23:10:14 |
Creator | Photographer: Don Johansson |
CreatorAddress | Øvre Skeide |
CreatorCity | Ulsteinvik |
CreatorCountry | Norway |
CreatorPostalCode | 6065 |
CreatorRegion | More & Romsdal |
CreatorTool | Adobe Photoshop Lightroom 4.1 (Macintosh) |
CreatorWorkEmail | don.johansson@tussa.com |
CreatorWorkTelephone | +4791167937 |
CropAngle | 1.68699 |
CropBottom | 1 |
CropConstrainToWarp | 0 |
CropHeight | 667 |
CropLeft | 0.030557 |
CropRight | 0.969443 |
CropTop | 0 |
CropUnit | pixels |
CropWidth | 1000 |
CustomRendered | Normal |
DateCreated (1) | 2012:10:13 |
DateCreated | 2012:10:13 23:10:14.03 |
DateTimeOriginal | 2012:10:13 23:10:14 |
DefringeGreenAmount | 0 |
DefringeGreenHueHi | 60 |
DefringeGreenHueLo | 40 |
DefringePurpleAmount | 0 |
DefringePurpleHueHi | 70 |
DefringePurpleHueLo | 30 |
Description | Northern light. |
DOF | inf (3.35 m - inf) |
Exposure2012 | +0.60 |
ExposureCompensation | 0 |
ExposureMode | Manual |
ExposureProgram | Manual |
ExposureTime | 20 |
Firmware | 2.1.1 |
Flash | Off, Did not fire |
FlashCompensation | 0 |
FNumber | 2.8 |
FocalLength | 17.0 mm |
FocalLength35efl | 17.0 mm (35 mm equivalent: 16.6 mm) |
Format | image/jpeg |
FOV | 94.7 deg |
GrainAmount | 0 |
GreenHue | 0 |
GreenSaturation | 0 |
HasCrop | True |
HasSettings | True |
Highlights2012 | +12 |
HueAdjustmentAqua | 0 |
HueAdjustmentBlue | 0 |
HueAdjustmentGreen | 0 |
HueAdjustmentMagenta | 0 |
HueAdjustmentOrange | 0 |
HueAdjustmentPurple | 0 |
HueAdjustmentRed | 0 |
HueAdjustmentYellow | 0 |
HyperfocalDistance | 3.35 m |
ImageDescription | Northern light. |
ImageHeight | 1000 |
ImageNumber | 0 |
ImageSize | 667x1000 |
ImageWidth | 667 |
ISO | 1000 |
Lens | EF16-35mm f/2.8L II USM |
LensID (1) | 246 |
LensID | Canon EF 16-35mm f/2.8L II USM |
LensInfo | 16-35mm f/? |
LensManualDistortionAmount | 0 |
LensModel | EF16-35mm f/2.8L II USM |
LensProfileEnable | 0 |
LensProfileSetup | LensDefaults |
LightValue | -4.7 |
LuminanceAdjustmentAqua | 0 |
LuminanceAdjustmentBlue | 0 |
LuminanceAdjustmentGreen | 0 |
LuminanceAdjustmentMagenta | 0 |
LuminanceAdjustmentOrange | 0 |
LuminanceAdjustmentPurple | 0 |
LuminanceAdjustmentRed | 0 |
LuminanceAdjustmentYellow | 0 |
LuminanceNoiseReductionContrast | 53 |
LuminanceNoiseReductionDetail | 77 |
LuminanceSmoothing | 86 |
Make | Canon |
Marked | True |
MaxApertureValue | 2.8 |
Megapixels | 0.667 |
MeteringMode | Multi-segment |
Model | Canon EOS 5D Mark II |
ModifyDate (1) | 2012:10:17 22:36:31+02:00 |
ModifyDate | 2012:10:17 22:36:31 |
ObjectName | Aurora Borealis |
OwnerName | Don Johansson |
ParametricDarks | 0 |
ParametricHighlights | 0 |
ParametricHighlightSplit | 75 |
ParametricLights | 0 |
ParametricMidtoneSplit | 50 |
ParametricShadows | 0 |
ParametricShadowSplit | 25 |
PerspectiveHorizontal | 0 |
PerspectiveRotate | 0.0 |
PerspectiveScale | 100 |
PerspectiveVertical | 0 |
PostCropVignetteAmount | 0 |
ProcessVersion | 6.7 |
ProfileDescription | Adobe RGB (1998) |
Rating | 5 |
RedHue | 0 |
RedSaturation | 0 |
Rights | © Don Johansson |
Saturation | +19 |
SaturationAdjustmentAqua | 0 |
SaturationAdjustmentBlue | 0 |
SaturationAdjustmentGreen | 0 |
SaturationAdjustmentMagenta | 0 |
SaturationAdjustmentOrange | 0 |
SaturationAdjustmentPurple | 0 |
SaturationAdjustmentRed | 0 |
SaturationAdjustmentYellow | 0 |
ScaleFactor35efl | 1.0 |
SceneCaptureType | Standard |
SerialNumber | 1831120290 |
Shadows2012 | +33 |
ShadowTint | 0 |
SharpenDetail | 51 |
SharpenEdgeMasking | 42 |
SharpenRadius | +1.6 |
Sharpness | 52 |
ShutterSpeed | 20 |
ShutterSpeedValue | 20 |
Software | Adobe Photoshop Lightroom 4.1 (Macintosh) |
SplitToningBalance | 0 |
SplitToningHighlightHue | 0 |
SplitToningHighlightSaturation | 0 |
SplitToningShadowHue | 0 |
SplitToningShadowSaturation | 0 |
Tint | +27 |
Title | Aurora Borealis |
ToneCurveName2012 | Linear |
ToneCurvePV2012 | 0, 0, 255, 255 |
ToneCurvePV2012Blue | 0, 0, 255, 255 |
ToneCurvePV2012Green | 0, 0, 255, 255 |
ToneCurvePV2012Red | 0, 0, 255, 255 |
UsageTerms | © Don Johansson |
Version | 7.1 |
Vibrance | +15 |
VignetteAmount | 0 |
WhiteBalance (1) | Custom |
WhiteBalance | Auto |
Whites2012 | +25 |