Felt | Verdi |
2012-12-29T17:41:01+01:00 File L:\pus\09des2012\blÄ.jpg saved
AlreadyApplied | True |
Aperture | 6.3 |
ApertureValue | 6.3 |
ApproximateFocusDistance | 2 |
Artist | B.SKOGSET |
AutoLateralCA | 0 |
BitsPerSample | 8 |
Blacks2012 | +19 |
BlueHue | 0 |
BlueSaturation | 0 |
By-line | B.SKOGSET |
CameraProfile | Adobe Standard |
CircleOfConfusion | 0.020 mm |
Clarity2012 | +22 |
ColorComponents | 3 |
ColorMode | RGB |
ColorNoiseReduction | 25 |
ColorNoiseReductionDetail | 50 |
ColorSpace | Uncalibrated |
ColorTemperature | 7400 |
Contrast | Normal |
Contrast2012 | +20 |
ConvertToGrayscale | False |
Copyright | ts |
CopyrightNotice | ts |
CreateDate | 2012:12:09 12:39:39 |
Creator | B.SKOGSET, ts |
CreatorTool | K-5 Ver 1.13 |
CropAngle | 0 |
CropBottom | 0.974265 |
CropConstrainToWarp | 1 |
CropLeft | 0.139988 |
CropRight | 0.843579 |
CropTop | 0.147059 |
CustomRendered | Normal |
DateCreated (1) | 2012:12:09 |
DateCreated | 2012:12:09 12:39:39+01:00 |
DateTimeOriginal | 2012:12:09 12:39:39 |
DefringeGreenAmount | 0 |
DefringeGreenHueHi | 60 |
DefringeGreenHueLo | 40 |
DefringePurpleAmount | 0 |
DefringePurpleHueHi | 70 |
DefringePurpleHueLo | 30 |
DOF | 0.010 m (1.995 - 2.005 m) |
ExifImageHeight | 2700 |
ExifImageWidth | 3371 |
Exposure2012 | +0.65 |
ExposureCompensation | +0.3 |
ExposureMode | Manual |
ExposureProgram | Not Defined |
ExposureTime | 1/250 |
Flash | Off, Did not fire |
FNumber | 6.3 |
FocalLength | 300.0 mm |
FocalLength35efl | 300.0 mm (35 mm equivalent: 450.0 mm) |
FocalLengthIn35mmFormat | 450 mm |
Format | image/jpeg |
FOV | 4.6 deg |
GrainAmount | 0 |
GreenHue | 0 |
GreenSaturation | 0 |
HasCrop | True |
HasSettings | True |
Highlights2012 | +13 |
HueAdjustmentAqua | 0 |
HueAdjustmentBlue | 0 |
HueAdjustmentGreen | 0 |
HueAdjustmentMagenta | 0 |
HueAdjustmentOrange | 0 |
HueAdjustmentPurple | 0 |
HueAdjustmentRed | 0 |
HueAdjustmentYellow | 0 |
HyperfocalDistance | 713.19 m |
ICCProfileName | Adobe RGB (1998) |
ImageHeight | 2700 |
ImageSize | 3371x2700 |
ImageWidth | 3371 |
ISO | 1600 |
Lens | smc PENTAX-DA 55-300mm F4-5.8 ED |
LensID (1) | 7 236 |
LensID | smc PENTAX-DA 55-300mm F4-5.8 ED |
LensInfo | 55-300mm f/4-5.8 |
LensManualDistortionAmount | 0 |
LensModel | smc PENTAX-DA 55-300mm F4-5.8 ED |
LensProfileChromaticAberrationScale | 100 |
LensProfileDistortionScale | 100 |
LensProfileEnable | 1 |
LensProfileFilename | PENTAX (smc PENTAX-DA 55-300mm F4-5.8 ED) - RAW.lcp |
LensProfileName | Adobe (smc PENTAX-DA 55-300mm F4-5.8 ED) |
LensProfileSetup | LensDefaults |
LensProfileVignettingScale | 100 |
LightValue | 9.3 |
LuminanceAdjustmentAqua | 0 |
LuminanceAdjustmentBlue | 0 |
LuminanceAdjustmentGreen | 0 |
LuminanceAdjustmentMagenta | 0 |
LuminanceAdjustmentOrange | 0 |
LuminanceAdjustmentPurple | 0 |
LuminanceAdjustmentRed | 0 |
LuminanceAdjustmentYellow | 0 |
LuminanceSmoothing | 0 |
Make | PENTAX |
Megapixels | 9.1 |
MeteringMode | Center-weighted average |
Model | PENTAX K-5 |
ModifyDate (1) | 2012:12:29 17:41:01+01:00 |
ModifyDate | 2012:12:29 17:41:01 |
Orientation | Horizontal (normal) |
ParametricDarks | 0 |
ParametricHighlights | -10 |
ParametricHighlightSplit | 75 |
ParametricLights | 0 |
ParametricMidtoneSplit | 50 |
ParametricShadows | +8 |
ParametricShadowSplit | 25 |
PerspectiveHorizontal | 0 |
PerspectiveRotate | 0.0 |
PerspectiveScale | 100 |
PerspectiveVertical | 0 |
PostCropVignetteAmount | 0 |
ProcessVersion | 6.7 |
ProfileDescription | Adobe RGB (1998) |
Rating | 0 |
RawFileName | _IGP5212.DNG |
RedHue | 0 |
RedSaturation | 0 |
Rights | ts |
Saturation (1) | +8 |
Saturation | Normal |
SaturationAdjustmentAqua | 0 |
SaturationAdjustmentBlue | 0 |
SaturationAdjustmentGreen | 0 |
SaturationAdjustmentMagenta | -6 |
SaturationAdjustmentOrange | 0 |
SaturationAdjustmentPurple | -7 |
SaturationAdjustmentRed | 0 |
SaturationAdjustmentYellow | -14 |
ScaleFactor35efl | 1.5 |
SceneCaptureType | Standard |
SensingMethod | One-chip color area |
Shadows2012 | +28 |
ShadowTint | 0 |
SharpenDetail | 25 |
SharpenEdgeMasking | 0 |
SharpenRadius | +1.0 |
Sharpness (1) | 25 |
Sharpness | Normal |
ShutterSpeed | 1/250 |
ShutterSpeedValue | 1/250 |
Software | Adobe Photoshop CS6 (Windows) |
SplitToningBalance | 0 |
SplitToningHighlightHue | 0 |
SplitToningHighlightSaturation | 0 |
SplitToningShadowHue | 0 |
SplitToningShadowSaturation | 0 |
SubjectDistanceRange | Close |
Tint | +14 |
ToneCurveName2012 | Linear |
ToneCurvePV2012 | 0, 0, 255, 255 |
ToneCurvePV2012Blue | 0, 0, 255, 255 |
ToneCurvePV2012Green | 0, 0, 255, 255 |
ToneCurvePV2012Red | 0, 0, 255, 255 |
URL_List | |
Version | 7.1 |
Vibrance | +10 |
VignetteAmount | 0 |
WhiteBalance (1) | Custom |
WhiteBalance | Manual |
Whites2012 | -25 |