Felt | Verdi |
AlreadyApplied | True |
Aperture | 11.0 |
ApertureValue | 11.0 |
ApproximateFocusDistance | 3.39 |
AutoLateralCA | 0 |
BitsPerSample | 8 |
Blacks2012 | -23 |
BlueHue | 0 |
BlueSaturation | 0 |
CameraProfile | Embedded |
CircleOfConfusion | 0.019 mm |
Clarity2012 | +12 |
ColorComponents | 3 |
ColorNoiseReduction | 0 |
Contrast2012 | +2 |
ConvertToGrayscale | False |
CreateDate (1) | 2012:10:17 08:31:55.00 |
CreateDate | 2012:10:17 08:31:55 |
CreatorTool | Adobe Photoshop Lightroom 4.1 (Windows) |
CropAngle | -0.887538 |
CropBottom | 0.977661 |
CropConstrainToWarp | 0 |
CropHeight | 2251 |
CropLeft | 0.004424 |
CropRight | 0.97585 |
CropTop | 0.022905 |
CropUnit | pixels |
CropWidth | 3322 |
CustomRendered | Normal |
DateCreated (1) | 2012:10:17 |
DateCreated | 2012:10:17 08:31:55.00 |
DateTimeOriginal | 2012:10:17 08:31:55 |
DefringeGreenAmount | 0 |
DefringeGreenHueHi | 60 |
DefringeGreenHueLo | 40 |
DefringePurpleAmount | 0 |
DefringePurpleHueHi | 70 |
DefringePurpleHueLo | 30 |
DOF | inf (1.52 m - inf) |
Exposure2012 | +1.07 |
ExposureCompensation | 0 |
ExposureMode | Manual |
ExposureProgram | Manual |
ExposureTime | 1/13 |
Firmware | 1.2.5 |
Flash | Off, Did not fire |
FlashCompensation | 0 |
FNumber | 11.0 |
FocalLength | 24.0 mm |
FocalLength35efl | 24.0 mm (35 mm equivalent: 37.7 mm) |
Format | image/jpeg |
FOV | 51.1 deg |
GradientBasedCorrActive | true |
GradientBasedCorrAmount | 1.000000 |
GradientBasedCorrBrightness | 0.000000 |
GradientBasedCorrClarity2012 (1) | 0.310340 |
GradientBasedCorrClarity2012 (2) | 0.195400 |
GradientBasedCorrClarity2012 | 0.402300 |
GradientBasedCorrContrast2012 (1) | 0.057470 |
GradientBasedCorrContrast2012 (2) | 0.000000 |
GradientBasedCorrContrast2012 | 0.172410 |
GradientBasedCorrDefringe | 0.000000 |
GradientBasedCorrExposure2012 (1) | -0.126500 |
GradientBasedCorrExposure2012 (2) | 0.103500 |
GradientBasedCorrExposure2012 | -0.172500 |
GradientBasedCorrHighlights2012 (2) | 0.000000 |
GradientBasedCorrHighlights2012 | 0.126440 |
GradientBasedCorrHue | 0.000000 |
GradientBasedCorrLuminanceNoise | 0.000000 |
GradientBasedCorrMaskFullX (1) | 0.520001 |
GradientBasedCorrMaskFullX (2) | 0.501193 |
GradientBasedCorrMaskFullX | 0.489578 |
GradientBasedCorrMaskFullY (1) | 0.410200 |
GradientBasedCorrMaskFullY (2) | 0.416595 |
GradientBasedCorrMaskFullY | 0.157635 |
GradientBasedCorrMaskValue | 1.000000 |
GradientBasedCorrMaskWhat | Mask/Gradient |
GradientBasedCorrMaskZeroX (1) | 0.500791 |
GradientBasedCorrMaskZeroX (2) | 0.506598 |
GradientBasedCorrMaskZeroX | 0.489824 |
GradientBasedCorrMaskZeroY (1) | 0.570058 |
GradientBasedCorrMaskZeroY (2) | 0.362835 |
GradientBasedCorrMaskZeroY | 0.205624 |
GradientBasedCorrMoire | 0.000000 |
GradientBasedCorrSaturation (3) | 0.103450 |
GradientBasedCorrSaturation | 0.000000 |
GradientBasedCorrShadows2012 (1) | -0.195400 |
GradientBasedCorrShadows2012 (2) | -0.172410 |
GradientBasedCorrShadows2012 | -0.126440 |
GradientBasedCorrSharpness (2) | 0.195400 |
GradientBasedCorrSharpness | 0.000000 |
GradientBasedCorrTemperature (2) | 0.080460 |
GradientBasedCorrTemperature | 0.034480 |
GradientBasedCorrTint (2) | -0.057470 |
GradientBasedCorrTint | 0.000000 |
GradientBasedCorrWhat | Correction |
GrainAmount | 0 |
GreenHue | 0 |
GreenSaturation | 0 |
HasCrop | True |
HasSettings | True |
Highlights2012 | -38 |
HueAdjustmentAqua | 0 |
HueAdjustmentBlue | 0 |
HueAdjustmentGreen | 0 |
HueAdjustmentMagenta | 0 |
HueAdjustmentOrange | 0 |
HueAdjustmentPurple | 0 |
HueAdjustmentRed | 0 |
HueAdjustmentYellow | 0 |
HyperfocalDistance | 2.74 m |
ImageHeight | 2251 |
ImageNumber | 0 |
ImageSize | 3322x2251 |
ImageWidth | 3322 |
IncrementalTemperature | +26 |
IncrementalTint | -7 |
ISO | 200 |
Lens | EF24-105mm f/4L IS USM |
LensID (1) | 237 |
LensID | Canon EF 24-105mm f/4L IS USM |
LensInfo | 24-105mm f/? |
LensManualDistortionAmount | 0 |
LensModel | EF24-105mm f/4L IS USM |
LensProfileEnable | 0 |
LensProfileSetup | LensDefaults |
LightValue | 9.6 |
LuminanceAdjustmentAqua | 0 |
LuminanceAdjustmentBlue | 0 |
LuminanceAdjustmentGreen | 0 |
LuminanceAdjustmentMagenta | 0 |
LuminanceAdjustmentOrange | 0 |
LuminanceAdjustmentPurple | 0 |
LuminanceAdjustmentRed | 0 |
LuminanceAdjustmentYellow | 0 |
LuminanceSmoothing | 0 |
Make | Canon |
MaxApertureValue | 4.0 |
Megapixels | 7.5 |
MeteringMode | Spot |
Model | Canon EOS 7D |
ModifyDate (1) | 2013:01:06 19:44:12+01:00 |
ModifyDate | 2013:01:06 19:44:12 |
PaintCorrectionActive | true |
PaintCorrectionAmount | 1.000000 |
PaintCorrectionBrightness | 0.000000 |
PaintCorrectionClarity2012 | 0.000000 |
PaintCorrectionContrast2012 (1) | 0.000000 |
PaintCorrectionContrast2012 | 0.149430 |
PaintCorrectionDefringe | 0.000000 |
PaintCorrectionExposure2012 (1) | 0.034500 |
PaintCorrectionExposure2012 | -0.057500 |
PaintCorrectionHighlights2012 | 0.000000 |
PaintCorrectionHue | 0.000000 |
PaintCorrectionLuminanceNoise | 0.000000 |
PaintCorrectionMaskCenterWeight | 0.000000 |
PaintCorrectionMaskFlow | 0.677000 |
PaintCorrectionMaskRadius (1) | 0.058984 |
PaintCorrectionMaskRadius | 0.090027 |
PaintCorrectionMaskValue | 1.000000 |
PaintCorrectionMaskWhat | Mask/Paint |
PaintCorrectionMoire | 0.000000 |
PaintCorrectionSaturation | 0.000000 |
PaintCorrectionShadows2012 (1) | 0.000000 |
PaintCorrectionShadows2012 | 0.310340 |
PaintCorrectionSharpness (1) | 0.000000 |
PaintCorrectionSharpness | 0.310340 |
PaintCorrectionTemperature | 0.034480 |
PaintCorrectionTint (1) | 0.000000 |
PaintCorrectionTint | -1.000000 |
PaintCorrectionWhat | Correction |
ParametricDarks | -10 |
ParametricHighlights | -28 |
ParametricHighlightSplit | 75 |
ParametricLights | +9 |
ParametricMidtoneSplit | 50 |
ParametricShadows | +48 |
ParametricShadowSplit | 25 |
PerspectiveHorizontal | 0 |
PerspectiveRotate | 0.0 |
PerspectiveScale | 100 |
PerspectiveVertical | 0 |
PostCropVignetteAmount | -29 |
PostCropVignetteFeather | 49 |
PostCropVignetteHighlightContrast | 0 |
PostCropVignetteMidpoint | 60 |
PostCropVignetteRoundness | +95 |
PostCropVignetteStyle | 1 |
ProcessVersion | 6.7 |
ProfileDescription | sRGB IEC61966-2.1 |
RedHue | 0 |
RedSaturation | 0 |
Saturation | +5 |
SaturationAdjustmentAqua | 0 |
SaturationAdjustmentBlue | 0 |
SaturationAdjustmentGreen | 0 |
SaturationAdjustmentMagenta | 0 |
SaturationAdjustmentOrange | 0 |
SaturationAdjustmentPurple | 0 |
SaturationAdjustmentRed | 0 |
SaturationAdjustmentYellow | 0 |
ScaleFactor35efl | 1.6 |
SceneCaptureType | Standard |
SerialNumber | 3081225201 |
Shadows2012 | +7 |
ShadowTint | 0 |
SharpenDetail | 31 |
SharpenEdgeMasking | 0 |
SharpenRadius | +2.0 |
Sharpness | 41 |
ShutterSpeed | 1/13 |
ShutterSpeedValue | 1/13 |
Software | Adobe Photoshop Lightroom 4.1 (Windows) |
SplitToningBalance | 0 |
SplitToningHighlightHue | 0 |
SplitToningHighlightSaturation | 0 |
SplitToningShadowHue | 0 |
SplitToningShadowSaturation | 0 |
ToneCurveName2012 | Linear |
ToneCurvePV2012 | 0, 0, 255, 255 |
ToneCurvePV2012Blue | 0, 0, 255, 255 |
ToneCurvePV2012Green | 0, 0, 255, 255 |
ToneCurvePV2012Red | 0, 0, 255, 255 |
Version | 7.1 |
Vibrance | +2 |
VignetteAmount | 0 |
WhiteBalance (1) | Custom |
WhiteBalance | Manual |
Whites2012 | +10 |