Felt | Verdi |
AlreadyApplied | True |
Aperture | 8.0 |
ApertureValue | 8.0 |
Artist | Joachim Hillestad |
AutoLateralCA | 1 |
BitsPerSample | 8 |
Blacks2012 | +8 |
BlueHue | 0 |
BlueSaturation | 0 |
By-line | Joachim Hillestad |
CameraProfile | Adobe Standard |
Clarity2012 | +19 |
ColorComponents | 3 |
ColorNoiseReduction | 25 |
ColorNoiseReductionDetail | 50 |
ColorTemperature | 5500 |
Contrast2012 | +12 |
ConvertToGrayscale | False |
Copyright | Joachim Hillestad |
CopyrightFlag | True |
CopyrightNotice | Joachim Hillestad |
CreateDate (1) | 2009:09:13 15:54:54+02:00 |
CreateDate | 2009:09:13 15:54:54 |
Creator | Joachim Hillestad |
CreatorAddress | Heddekroken 1 |
CreatorCity | Stavanger |
CreatorCountry | Norway |
CreatorPostalCode | 4034 |
CreatorRegion | Rogaland |
CreatorTool | Adobe Photoshop Lightroom 4.3 (Windows) |
CreatorWorkEmail | jhillest@lyse.net |
CreatorWorkTelephone | 40203893 |
CreatorWorkURL | http://joahill.net |
CropAngle | 0 |
CropBottom | 0.910395 |
CropConstrainToWarp | 0 |
CropHeight | 720 |
CropLeft | 0.061766 |
CropRight | 0.925809 |
CropTop | 0.181358 |
CropUnit | pixels |
CropWidth | 1280 |
DateCreated (1) | 2009:09:13 |
DateCreated | 2009:09:13 15:54:54+02:00 |
DateTimeOriginal | 2009:09:13 15:54:54 |
DefringeGreenAmount | 0 |
DefringeGreenHueHi | 60 |
DefringeGreenHueLo | 40 |
DefringePurpleAmount | 0 |
DefringePurpleHueHi | 70 |
DefringePurpleHueLo | 30 |
DerivedFrom | |
Exposure2012 | +0.30 |
ExposureCompensation | 0 |
ExposureProgram | Manual |
ExposureTime | 1/2000 |
Firmware | 2.0.1 |
Flash | No Flash |
FNumber | 8.0 |
FocalLength | 135.0 mm |
FocalLength35efl | 135.0 mm |
Format | image/jpeg |
GradientBasedCorrActive | true |
GradientBasedCorrAmount | 1.000000 |
GradientBasedCorrBrightness | 0.000000 |
GradientBasedCorrClarity2012 | 0.000000 |
GradientBasedCorrContrast2012 (1) | -0.408430 |
GradientBasedCorrContrast2012 | 0.718070 |
GradientBasedCorrDefringe | 0.000000 |
GradientBasedCorrExposure2012 (1) | -0.498750 |
GradientBasedCorrExposure2012 | 0.000000 |
GradientBasedCorrHighlights2012 | 0.000000 |
GradientBasedCorrHue | 0.000000 |
GradientBasedCorrLuminanceNoise | 0.000000 |
GradientBasedCorrMaskFullX (1) | 0.509361 |
GradientBasedCorrMaskFullX | 0.485283 |
GradientBasedCorrMaskFullY (1) | 0.311100 |
GradientBasedCorrMaskFullY | 0.739870 |
GradientBasedCorrMaskValue | 1.000000 |
GradientBasedCorrMaskWhat | Mask/Gradient |
GradientBasedCorrMaskZeroX (1) | 0.509358 |
GradientBasedCorrMaskZeroX | 0.473675 |
GradientBasedCorrMaskZeroY (1) | 0.437520 |
GradientBasedCorrMaskZeroY | 0.612200 |
GradientBasedCorrMoire | 0.000000 |
GradientBasedCorrSaturation (1) | 0.409640 |
GradientBasedCorrSaturation | 0.000000 |
GradientBasedCorrShadows2012 (1) | 0.000000 |
GradientBasedCorrShadows2012 | -0.378310 |
GradientBasedCorrSharpness | -1.000000 |
GradientBasedCorrTemperature | 0.000000 |
GradientBasedCorrTint | 0.000000 |
GradientBasedCorrWhat | Correction |
GrainAmount | 0 |
GreenHue | 0 |
GreenSaturation | 0 |
HasCrop | True |
HasSettings | True |
Highlights2012 | -45 |
HueAdjustmentAqua | 0 |
HueAdjustmentBlue | 0 |
HueAdjustmentGreen | 0 |
HueAdjustmentMagenta | 0 |
HueAdjustmentOrange | 0 |
HueAdjustmentPurple | 0 |
HueAdjustmentRed | 0 |
HueAdjustmentYellow | 0 |
ImageHeight | 720 |
ImageSize | 1280x720 |
ImageWidth | 1280 |
ISO | 800 |
Keywords | Creatures, Dragonfly, Insect |
Lens | 28.0-135.0 mm |
LensInfo | 28-135mm f/? |
LensManualDistortionAmount | 0 |
LensModel | 28.0-135.0 mm |
LensProfileChromaticAberrationScale | 100 |
LensProfileDistortionScale | 100 |
LensProfileEnable | 1 |
LensProfileFilename | Canon EOS-1Ds Mark III (Canon EF 28-135mm f3.5-5.6 IS USM) - RAW.lcp |
LensProfileName | Adobe (Canon EF 28-135mm f/3.5-5.6 IS USM) |
LensProfileSetup | Custom |
LensProfileVignettingScale | 100 |
LightValue | 14.0 |
LuminanceAdjustmentAqua | 0 |
LuminanceAdjustmentBlue | 0 |
LuminanceAdjustmentGreen | 0 |
LuminanceAdjustmentMagenta | 0 |
LuminanceAdjustmentOrange | 0 |
LuminanceAdjustmentPurple | 0 |
LuminanceAdjustmentRed | 0 |
LuminanceAdjustmentYellow | 0 |
LuminanceNoiseReductionContrast | 0 |
LuminanceNoiseReductionDetail | 50 |
LuminanceSmoothing | 30 |
Make | Canon |
Marked | True |
MaxApertureValue | 5.6 |
Megapixels | 0.922 |
MeteringMode | Center-weighted average |
Model | Canon EOS 10D |
ModifyDate (1) | 2013:02:16 18:23:15+01:00 |
ModifyDate | 2013:02:16 18:23:15 |
OwnerName | Joachim Hillestad |
PaintCorrectionActive | true |
PaintCorrectionAmount | 1.000000 |
PaintCorrectionBrightness | 0.000000 |
PaintCorrectionClarity2012 | 0.000000 |
PaintCorrectionContrast2012 | 0.433730 |
PaintCorrectionDefringe | 0.000000 |
PaintCorrectionExposure2012 | -0.125000 |
PaintCorrectionHighlights2012 | -0.373490 |
PaintCorrectionHue | 0.000000 |
PaintCorrectionLuminanceNoise | -0.002410 |
PaintCorrectionMaskCenterWeight (1) | 0.000000 |
PaintCorrectionMaskCenterWeight | 0.049246 |
PaintCorrectionMaskFlow (1) | 1.000000 |
PaintCorrectionMaskFlow | 0.847000 |
PaintCorrectionMaskRadius (1) | 0.143159 |
PaintCorrectionMaskRadius (10) | 0.153590 |
PaintCorrectionMaskRadius (11) | 0.056581 |
PaintCorrectionMaskRadius (12) | 0.081673 |
PaintCorrectionMaskRadius (13) | 0.153228 |
PaintCorrectionMaskRadius (14) | 0.152358 |
PaintCorrectionMaskRadius (15) | 0.089106 |
PaintCorrectionMaskRadius (16) | 0.081387 |
PaintCorrectionMaskRadius (17) | 0.088843 |
PaintCorrectionMaskRadius (2) | 0.143194 |
PaintCorrectionMaskRadius (3) | 0.144596 |
PaintCorrectionMaskRadius (4) | 0.120278 |
PaintCorrectionMaskRadius (5) | 0.120616 |
PaintCorrectionMaskRadius (6) | 0.119836 |
PaintCorrectionMaskRadius (7) | 0.120783 |
PaintCorrectionMaskRadius (8) | 0.120394 |
PaintCorrectionMaskRadius (9) | 0.062947 |
PaintCorrectionMaskRadius | 0.071539 |
PaintCorrectionMaskValue (2) | 1.000000 |
PaintCorrectionMaskValue | 0.000000 |
PaintCorrectionMaskWhat | Mask/Paint |
PaintCorrectionMoire | 0.000000 |
PaintCorrectionSaturation | 0.000000 |
PaintCorrectionShadows2012 | 0.349400 |
PaintCorrectionSharpness | 0.072290 |
PaintCorrectionTemperature | 0.000000 |
PaintCorrectionTint | 0.000000 |
PaintCorrectionWhat | Correction |
ParametricDarks | 0 |
ParametricHighlights | 0 |
ParametricHighlightSplit | 75 |
ParametricLights | 0 |
ParametricMidtoneSplit | 50 |
ParametricShadows | 0 |
ParametricShadowSplit | 25 |
PerspectiveHorizontal | 0 |
PerspectiveRotate | 0.0 |
PerspectiveScale | 100 |
PerspectiveVertical | 0 |
PostCropVignetteAmount | -60 |
PostCropVignetteFeather | 60 |
PostCropVignetteHighlightContrast | 0 |
PostCropVignetteMidpoint | 50 |
PostCropVignetteRoundness | 0 |
PostCropVignetteStyle | 1 |
ProcessVersion | 6.7 |
ProfileDescription | sRGB IEC61966-2.1 |
Rating | 5 |
RedHue | 0 |
RedSaturation | 0 |
Rights | Joachim Hillestad |
Saturation | +46 |
SaturationAdjustmentAqua | +34 |
SaturationAdjustmentBlue | +76 |
SaturationAdjustmentGreen | 0 |
SaturationAdjustmentMagenta | 0 |
SaturationAdjustmentOrange | -1 |
SaturationAdjustmentPurple | 0 |
SaturationAdjustmentRed | 0 |
SaturationAdjustmentYellow | -26 |
SerialNumber | 0530207873 |
Shadows2012 | +36 |
ShadowTint | 0 |
SharpenDetail | 42 |
SharpenEdgeMasking | 92 |
SharpenRadius | +2.3 |
Sharpness | 70 |
ShutterSpeed | 1/2000 |
ShutterSpeedValue | 1/2000 |
Software | Adobe Photoshop Lightroom 4.3 (Windows) |
SplitToningBalance | 0 |
SplitToningHighlightHue | 0 |
SplitToningHighlightSaturation | 0 |
SplitToningShadowHue | 0 |
SplitToningShadowSaturation | 0 |
Subject | Creatures, Dragonfly, Insect |
Tint | +10 |
ToneCurveName2012 | Linear |
ToneCurvePV2012 | 0, 0, 255, 255 |
ToneCurvePV2012Blue | 0, 0, 255, 255 |
ToneCurvePV2012Green | 0, 0, 255, 255 |
ToneCurvePV2012Red | 0, 0, 255, 255 |
Version | 7.3 |
Vibrance | +98 |
VignetteAmount | 0 |
WhiteBalance | Daylight |
Whites2012 | +37 |