Felt | Verdi |
AlreadyApplied | True |
Aperture | 7.1 |
ApertureValue | 7.1 |
ApproximateFocusDistance | 2.51 |
Artist | Glenn Jakobsen |
AutoLateralCA | 0 |
BitsPerSample | 8 |
Blacks2012 | -9 |
BlueHue | 0 |
BlueSaturation | 0 |
By-line | Glenn Jakobsen |
CameraProfile | Embedded |
CFAPattern | [Red,Green][Green,Blue] |
CircleOfConfusion | 0.030 mm |
Clarity2012 | +12 |
ColorComponents | 3 |
ColorNoiseReduction | 0 |
Contrast | Normal |
Contrast2012 | +22 |
ConvertToGrayscale | False |
Copyright | Foto:GlennJakobsen |
CopyrightNotice | Foto:GlennJakobsen |
CreateDate (1) | 2013:07:06 18:29:55.50 |
CreateDate | 2013:07:06 18:29:55 |
Creator | Glenn Jakobsen |
CreatorTool | Adobe Photoshop Lightroom 5.0 (Windows) |
CropAngle | 0.797634 |
CropBottom | 1 |
CropConstrainToWarp | 0 |
CropLeft | 0.014784 |
CropRight | 0.985216 |
CropTop | 0 |
CustomRendered | Normal |
DateCreated (1) | 2013:07:06 |
DateCreated | 2013:07:06 18:29:55.50 |
DateTimeOriginal | 2013:07:06 18:29:55 |
DefringeGreenAmount | 0 |
DefringeGreenHueHi | 60 |
DefringeGreenHueLo | 40 |
DefringePurpleAmount | 0 |
DefringePurpleHueHi | 70 |
DefringePurpleHueLo | 30 |
DigitalZoomRatio | 1 |
DOF | inf (0.88 m - inf) |
Exposure2012 | 0.00 |
ExposureCompensation | 0 |
ExposureMode | Auto |
ExposureProgram | Aperture-priority AE |
ExposureTime | 1/200 |
Flash | No Flash |
FNumber | 7.1 |
FocalLength | 17.0 mm |
FocalLength35efl | 17.0 mm (35 mm equivalent: 17.0 mm) |
FocalLengthIn35mmFormat | 17 mm |
Format | image/jpeg |
FOV | 93.3 deg |
GainControl | Low gain up |
GrainAmount | 0 |
GreenHue | 0 |
GreenSaturation | 0 |
HasCrop | True |
HasSettings | True |
Highlights2012 | -60 |
HueAdjustmentAqua | 0 |
HueAdjustmentBlue | 0 |
HueAdjustmentGreen | 0 |
HueAdjustmentMagenta | 0 |
HueAdjustmentOrange | 0 |
HueAdjustmentPurple | 0 |
HueAdjustmentRed | 0 |
HueAdjustmentYellow | 0 |
HyperfocalDistance | 1.35 m |
ImageHeight | 1153 |
ImageNumber | 33453 |
ImageSize | 1733x1153 |
ImageWidth | 1733 |
IncrementalTemperature | +7 |
IncrementalTint | +5 |
ISO | 640 |
Lens | 17.0-35.0 mm f/2.8-4.0 |
LensID (1) | 38 |
LensID | Sigma 17-35mm F2.8-4 EX Aspherical |
LensInfo | 17-35mm f/2.8-4 |
LensManualDistortionAmount | 0 |
LensModel | 17.0-35.0 mm f/2.8-4.0 |
LensProfileEnable | 0 |
LensProfileSetup | LensDefaults |
LightSource | Unknown |
LightValue | 10.6 |
LuminanceAdjustmentAqua | 0 |
LuminanceAdjustmentBlue | 0 |
LuminanceAdjustmentGreen | 0 |
LuminanceAdjustmentMagenta | 0 |
LuminanceAdjustmentOrange | 0 |
LuminanceAdjustmentPurple | 0 |
LuminanceAdjustmentRed | 0 |
LuminanceAdjustmentYellow | 0 |
LuminanceSmoothing | 0 |
Make | NIKON CORPORATION |
MaxApertureValue | 2.8 |
Megapixels | 2.0 |
MeteringMode | Multi-segment |
Model | NIKON D700 |
ModifyDate (1) | 2013:07:07 20:37:37+02:00 |
ModifyDate | 2013:07:07 20:37:37 |
PaintCorrectionActive | true |
PaintCorrectionAmount | 1.000000 |
PaintCorrectionBrightness | 0.000000 |
PaintCorrectionClarity2012 (1) | -0.857140 |
PaintCorrectionClarity2012 | 0.000000 |
PaintCorrectionContrast2012 (1) | 0.224490 |
PaintCorrectionContrast2012 | 0.142860 |
PaintCorrectionDefringe | 0.000000 |
PaintCorrectionExposure2012 (1) | 0.061250 |
PaintCorrectionExposure2012 (2) | -0.081750 |
PaintCorrectionExposure2012 | 0.000000 |
PaintCorrectionHighlights2012 | 0.000000 |
PaintCorrectionHue | 0.000000 |
PaintCorrectionLuminanceNoise | 0.000000 |
PaintCorrectionMaskCenterWeight (3) | 0.000000 |
PaintCorrectionMaskCenterWeight | 0.033437 |
PaintCorrectionMaskFlow (5) | 1.000000 |
PaintCorrectionMaskFlow | 0.970000 |
PaintCorrectionMaskRadius (6) | 0.091983 |
PaintCorrectionMaskRadius | 0.098609 |
PaintCorrectionMaskValue (3) | 0.000000 |
PaintCorrectionMaskValue | 0.652000 |
PaintCorrectionMaskWhat | Mask/Paint |
PaintCorrectionMoire | 0.000000 |
PaintCorrectionSaturation (3) | 0.061220 |
PaintCorrectionSaturation (5) | 0.122450 |
PaintCorrectionSaturation | 0.000000 |
PaintCorrectionShadows2012 | 0.000000 |
PaintCorrectionSharpness (1) | -0.183670 |
PaintCorrectionSharpness | 0.000000 |
PaintCorrectionTemperature (1) | -0.285710 |
PaintCorrectionTemperature (2) | -1.000000 |
PaintCorrectionTemperature | 0.000000 |
PaintCorrectionTint (2) | 0.000000 |
PaintCorrectionTint | -0.448980 |
PaintCorrectionWhat | Correction |
ParametricDarks | 0 |
ParametricHighlights | 0 |
ParametricHighlightSplit | 75 |
ParametricLights | 0 |
ParametricMidtoneSplit | 50 |
ParametricShadows | 0 |
ParametricShadowSplit | 25 |
PerspectiveAspect | 0 |
PerspectiveHorizontal | 0 |
PerspectiveRotate | 0.0 |
PerspectiveScale | 100 |
PerspectiveUpright | 0 |
PerspectiveVertical | 0 |
PostCropVignetteAmount | -54 |
PostCropVignetteFeather | 50 |
PostCropVignetteHighlightContrast | 0 |
PostCropVignetteMidpoint | 50 |
PostCropVignetteRoundness | 0 |
PostCropVignetteStyle | 1 |
ProcessVersion | 6.7 |
ProfileDescription | sRGB IEC61966-2.1 |
RedHue | 0 |
RedSaturation | 0 |
Rights | Foto:GlennJakobsen |
Saturation (1) | +12 |
Saturation | Normal |
SaturationAdjustmentAqua | 0 |
SaturationAdjustmentBlue | 0 |
SaturationAdjustmentGreen | 0 |
SaturationAdjustmentMagenta | 0 |
SaturationAdjustmentOrange | 0 |
SaturationAdjustmentPurple | 0 |
SaturationAdjustmentRed | 0 |
SaturationAdjustmentYellow | 0 |
ScaleFactor35efl | 1.0 |
SceneCaptureType | Standard |
SceneType | Directly photographed |
SensingMethod | One-chip color area |
SerialNumber | 2174959 |
Shadows2012 | +73 |
ShadowTint | 0 |
SharpenDetail | 25 |
SharpenEdgeMasking | 0 |
SharpenRadius | +1.0 |
Sharpness (1) | 0 |
Sharpness | Normal |
ShutterSpeed | 1/200 |
ShutterSpeedValue | 1/200 |
Software | Adobe Photoshop Lightroom 5.0 (Windows) |
SplitToningBalance | 0 |
SplitToningHighlightHue | 0 |
SplitToningHighlightSaturation | 0 |
SplitToningShadowHue | 0 |
SplitToningShadowSaturation | 0 |
SubjectDistanceRange | Unknown |
ToneCurveName2012 | Linear |
ToneCurvePV2012 | 0, 0, 255, 255 |
ToneCurvePV2012Blue | 0, 0, 255, 255 |
ToneCurvePV2012Green | 0, 0, 255, 255 |
ToneCurvePV2012Red | 0, 0, 255, 255 |
Version | 8.1 |
Vibrance | +9 |
VignetteAmount | 0 |
WhiteBalance (1) | Custom |
WhiteBalance | Auto |
Whites2012 | -20 |