Felt | Verdi |
AlreadyApplied | True |
Aperture | 6.3 |
ApertureValue | 6.3 |
ApproximateFocusDistance | 82 |
Artist | Rolf Selvik |
AutoLateralCA | 0 |
BitsPerSample | 8 |
Blacks2012 | +7 |
BlueHue | 0 |
BlueSaturation | 0 |
By-line | Rolf Selvik |
CameraProfile | Adobe Standard |
Caption-Abstract | Pattedyr, Reinsdyr, Villrein,brunst, høst, |
CircleOfConfusion | 0.027 mm |
Clarity2012 | +7 |
ColorComponents | 3 |
ColorNoiseReduction | 25 |
ColorNoiseReductionDetail | 50 |
ColorTemperature | 4857 |
Contrast2012 | 0 |
ConvertToGrayscale | False |
Copyright | Rolf Selvik |
CopyrightNotice | Rolf Selvik |
CreateDate (1) | 2010:09:19 17:05:21.37+02:00 |
CreateDate | 2010:09:19 17:05:21 |
Creator | Rolf Selvik |
CreatorTool | Adobe Photoshop Lightroom 4.3 (Windows) |
CustomRendered | Normal |
DateCreated (1) | 2010:09:19 |
DateCreated | 2010:09:19 17:05:21.37+02:00 |
DateTimeOriginal | 2010:09:19 17:05:21 |
DefringeGreenAmount | 0 |
DefringeGreenHueHi | 60 |
DefringeGreenHueLo | 40 |
DefringePurpleAmount | 0 |
DefringePurpleHueHi | 70 |
DefringePurpleHueLo | 30 |
DerivedFrom | |
Description | Pattedyr, Reinsdyr, Villrein,brunst, høst, |
DOF | 14.40 m (75.43 - 89.83 m) |
Exposure2012 | -0.29 |
ExposureCompensation | -1/3 |
ExposureMode | Auto |
ExposureProgram | Program AE |
ExposureTime | 1/320 |
Firmware | 1.0.4 |
Flash | Off, Did not fire |
FlashCompensation | 0 |
FNumber | 6.3 |
FocalLength | 400.0 mm |
FocalLength35efl | 400.0 mm (35 mm equivalent: 443.2 mm) |
Format | image/jpeg |
FOV | 4.7 deg |
GrainAmount | 0 |
GreenHue | 0 |
GreenSaturation | 0 |
HasCrop | False |
HasSettings | True |
Highlights2012 | 0 |
HueAdjustmentAqua | 0 |
HueAdjustmentBlue | 0 |
HueAdjustmentGreen | 0 |
HueAdjustmentMagenta | 0 |
HueAdjustmentOrange | 0 |
HueAdjustmentPurple | 0 |
HueAdjustmentRed | 0 |
HueAdjustmentYellow | 0 |
HyperfocalDistance | 936.65 m |
ImageDescription | Pattedyr, Reinsdyr, Villrein,brunst, høst, |
ImageHeight | 720 |
ImageNumber | 0 |
ImageSize | 1080x720 |
ImageWidth | 1080 |
ISO | 800 |
Lens | EF100-400mm f/4.5-5.6L IS USM |
LensID (1) | 183 |
LensID | Canon EF 100-400mm f/4.5-5.6L IS USM |
LensInfo | 100-400mm f/? |
LensManualDistortionAmount | 0 |
LensModel | EF100-400mm f/4.5-5.6L IS USM |
LensProfileEnable | 0 |
LensProfileSetup | LensDefaults |
LightValue | 10.6 |
LuminanceAdjustmentAqua | 0 |
LuminanceAdjustmentBlue | 0 |
LuminanceAdjustmentGreen | 0 |
LuminanceAdjustmentMagenta | 0 |
LuminanceAdjustmentOrange | 0 |
LuminanceAdjustmentPurple | 0 |
LuminanceAdjustmentRed | 0 |
LuminanceAdjustmentYellow | 0 |
LuminanceSmoothing | 0 |
Make | Canon |
MaxApertureValue | 5.7 |
Megapixels | 0.778 |
MeteringMode | Multi-segment |
Model | Canon EOS-1D Mark IV |
ModifyDate (1) | 2013:08:27 21:15:20+02:00 |
ModifyDate | 2013:08:27 21:15:20 |
ObjectName | Reinsdyrbukk i brunsttid |
ParametricDarks | 0 |
ParametricHighlights | 0 |
ParametricHighlightSplit | 75 |
ParametricLights | +36 |
ParametricMidtoneSplit | 50 |
ParametricShadows | 0 |
ParametricShadowSplit | 25 |
PerspectiveHorizontal | 0 |
PerspectiveRotate | 0.0 |
PerspectiveScale | 100 |
PerspectiveVertical | 0 |
PostCropVignetteAmount | 0 |
ProcessVersion | 6.7 |
ProfileDescription | sRGB IEC61966-2.1 |
RedHue | 0 |
RedSaturation | 0 |
Rights | Rolf Selvik |
Saturation | 0 |
SaturationAdjustmentAqua | 0 |
SaturationAdjustmentBlue | 0 |
SaturationAdjustmentGreen | 0 |
SaturationAdjustmentMagenta | 0 |
SaturationAdjustmentOrange | 0 |
SaturationAdjustmentPurple | 0 |
SaturationAdjustmentRed | 0 |
SaturationAdjustmentYellow | 0 |
ScaleFactor35efl | 1.1 |
SceneCaptureType | Standard |
SerialNumber | 330200514 |
Shadows2012 | 0 |
ShadowTint | 0 |
SharpenDetail | 25 |
SharpenEdgeMasking | 0 |
SharpenRadius | +1.0 |
Sharpness | 77 |
ShutterSpeed | 1/320 |
ShutterSpeedValue | 1/320 |
Software | Adobe Photoshop Lightroom 4.3 (Windows) |
SplitToningBalance | 0 |
SplitToningHighlightHue | 0 |
SplitToningHighlightSaturation | 0 |
SplitToningShadowHue | 0 |
SplitToningShadowSaturation | 0 |
SubjectDistance | 82 m |
Tint | +15 |
Title | Reinsdyrbukk i brunsttid |
ToneCurveName2012 | Linear |
ToneCurvePV2012 | 0, 0, 255, 255 |
ToneCurvePV2012Blue | 0, 0, 255, 255 |
ToneCurvePV2012Green | 0, 0, 255, 255 |
ToneCurvePV2012Red | 0, 0, 255, 255 |
Version | 7.3 |
Vibrance | +19 |
VignetteAmount | 0 |
WhiteBalance (1) | Custom |
WhiteBalance | Auto |
Whites2012 | -13 |