Felt | Verdi |
AlreadyApplied | True |
Aperture | 1.8 |
ApertureValue | 1.8 |
Artist | John Andre Aasen |
BitsPerSample (1) | 16, 16, 16 |
BitsPerSample (2) | 16 16 16 |
BitsPerSample | 8 |
BlueHue | 0 |
BlueSaturation | 0 |
Brightness | +50 |
By-line | John Andre Aasen |
CameraProfile | Adobe Standard |
ChromaticAberrationB | 0 |
ChromaticAberrationR | 0 |
CircleOfConfusion | 0.031 mm |
Clarity | 0 |
ColorComponents | 3 |
ColorMode | RGB |
ColorNoiseReduction | 25 |
ColorSpace | sRGB |
ColorTemperature | 5500 |
Contrast | +25 |
ConvertToGrayscale | False |
Copyright | www.phokus.no |
CopyrightNotice | www.phokus.no |
CreateDate | 2013:12:30 14:27:11 |
Creator | John Andre Aasen |
CreatorTool | Adobe Photoshop CS4 Macintosh |
CustomRendered | Normal |
DateCreated | 2013:12:30 |
DateTimeDigitized | 2013:12:30 14:27:11+01:00 |
DateTimeOriginal (1) | 2013:12:30 14:27:11+01:00 |
DateTimeOriginal | 2013:12:30 14:27:11 |
Defringe | 0 |
ExifImageHeight | 960 |
ExifImageWidth | 722 |
Exposure | 0.00 |
ExposureCompensation | 0 |
ExposureMode | Manual |
ExposureProgram | Manual |
ExposureTime | 1/80 |
FillLight | 14 |
Firmware | 1.1.0 |
Flash | Off, Did not fire |
FlashCompensation | 0 |
FlashFired | False |
FlashFunction | False |
FlashMode | Off |
FlashRedEyeMode | False |
FlashReturn | No return detection |
FNumber | 1.8 |
FocalLength | 50.0 mm |
FocalLength35efl | 50.0 mm (35 mm equivalent: 48.8 mm) |
Format | image/jpeg |
FOV | 40.5 deg |
GreenHue | 0 |
GreenSaturation | 0 |
HasCrop | False |
HasSettings | True |
HighlightRecovery | 0 |
HueAdjustmentAqua | 0 |
HueAdjustmentBlue | 0 |
HueAdjustmentGreen | 0 |
HueAdjustmentMagenta | 0 |
HueAdjustmentOrange | 0 |
HueAdjustmentPurple | 0 |
HueAdjustmentRed | 0 |
HueAdjustmentYellow | 0 |
HyperfocalDistance | 45.11 m |
ICCProfileName | sRGB IEC61966-2.1 |
ImageHeight (2) | 5906 |
ImageHeight | 960 |
ImageNumber | 0 |
ImageSize | 722x960 |
ImageWidth (2) | 4439 |
ImageWidth | 722 |
ISO | 100 |
Lens | EF50mm f/1.4 USM |
LensID (1) | 198 |
LensID | Canon EF 50mm f/1.4 USM |
LensInfo | 50mm f/? |
LightValue | 8.0 |
LuminanceAdjustmentAqua | 0 |
LuminanceAdjustmentBlue | 0 |
LuminanceAdjustmentGreen | 0 |
LuminanceAdjustmentMagenta | 0 |
LuminanceAdjustmentOrange | 0 |
LuminanceAdjustmentPurple | 0 |
LuminanceAdjustmentRed | 0 |
LuminanceAdjustmentYellow | 0 |
LuminanceSmoothing | 0 |
Make | Canon |
MaxApertureValue | 1.4 |
Megapixels | 0.693 |
MeteringMode | Multi-segment |
Model | Canon EOS 5D Mark II |
ModifyDate (1) | 2014:01:19 12:38:11+01:00 |
ModifyDate | 2014:01:19 12:38:11 |
Orientation | Horizontal (normal) |
ParametricDarks | 0 |
ParametricHighlights | 0 |
ParametricHighlightSplit | 75 |
ParametricLights | 0 |
ParametricMidtoneSplit | 50 |
ParametricShadows | 0 |
ParametricShadowSplit | 25 |
PhotometricInterpretation | RGB |
PlanarConfiguration | Chunky |
PostCropVignetteAmount | 0 |
ProfileDescription | sRGB IEC61966-2.1 |
Rating | 3 |
RawFileName | Joana_II_0139.CR2 |
RedHue | 0 |
RedSaturation | 0 |
Rights | www.phokus.no |
SamplesPerPixel | 3 |
Saturation | 0 |
SaturationAdjustmentAqua | 0 |
SaturationAdjustmentBlue | 0 |
SaturationAdjustmentGreen | 0 |
SaturationAdjustmentMagenta | 0 |
SaturationAdjustmentOrange | 0 |
SaturationAdjustmentPurple | 0 |
SaturationAdjustmentRed | 0 |
SaturationAdjustmentYellow | 0 |
ScaleFactor35efl | 1.0 |
SceneCaptureType | Standard |
SerialNumber | 1230824744 |
Shadows | 5 |
ShadowTint | 0 |
SharpenDetail | 25 |
SharpenEdgeMasking | 0 |
SharpenRadius | +1.0 |
Sharpness | 25 |
ShutterSpeed | 1/80 |
ShutterSpeedValue | 1/80 |
SidecarForExtension | CR2 |
Software | Adobe Photoshop CS4 Macintosh |
SplitToningBalance | 0 |
SplitToningHighlightHue | 0 |
SplitToningHighlightSaturation | 0 |
SplitToningShadowHue | 0 |
SplitToningShadowSaturation | 0 |
Tint | -1 |
ToneCurve | 0, 0, 32, 22, 64, 56, 128, 128, 192, 196, 255, 255 |
ToneCurveName | Medium Contrast |
URL_List | |
Version | 5.5 |
Vibrance | 0 |
VignetteAmount | 0 |
WhiteBalance (1) | As Shot |
WhiteBalance | Manual |