Felt | Verdi |
AlreadyApplied | True |
Aperture | 8.0 |
ApertureValue | 8.0 |
ApproximateFocusDistance | 4.73 |
Artist | Jovan "Photojovan" Radjenovic |
AuthorsPosition | Photographer |
AutoLateralCA | 0 |
AutoWhiteVersion | 134348800 |
BitsPerSample | 8 |
Blacks2012 | -12 |
BlueHue | 0 |
BlueSaturation | 0 |
By-line | Jovan "Photojovan" Radjenovic |
By-lineTitle | Photographer |
CameraProfile | Embedded |
CaptionWriter | Jovan "Photojovan" Radjenovic |
CFAPattern | [Red,Green][Green,Blue] |
CircGradBasedCorrActive | true |
CircGradBasedCorrAmount | 1.000000 |
CircGradBasedCorrBrightness | 0.000000 |
CircGradBasedCorrClarity2012 (2) | -0.300000 |
CircGradBasedCorrClarity2012 | 0.000000 |
CircGradBasedCorrContrast2012 (1) | 0.000000 |
CircGradBasedCorrContrast2012 (3) | 0.200000 |
CircGradBasedCorrContrast2012 (6) | 0.100000 |
CircGradBasedCorrContrast2012 (7) | -0.300000 |
CircGradBasedCorrContrast2012 | -0.100000 |
CircGradBasedCorrDefringe | 0.000000 |
CircGradBasedCorrExposure2012 (1) | -0.050000 |
CircGradBasedCorrExposure2012 (3) | 0.000000 |
CircGradBasedCorrExposure2012 (5) | 0.050000 |
CircGradBasedCorrExposure2012 (6) | -0.025000 |
CircGradBasedCorrExposure2012 (7) | -0.075000 |
CircGradBasedCorrExposure2012 | 0.025000 |
CircGradBasedCorrHighlights2012 (1) | -0.500000 |
CircGradBasedCorrHighlights2012 (3) | -0.200000 |
CircGradBasedCorrHighlights2012 (5) | 0.100000 |
CircGradBasedCorrHighlights2012 (6) | -0.100000 |
CircGradBasedCorrHighlights2012 (7) | -0.300000 |
CircGradBasedCorrHighlights2012 | 0.000000 |
CircGradBasedCorrHue | 0.000000 |
CircGradBasedCorrLuminanceNoise | 0.000000 |
CircGradBasedCorrMaskAngle (1) | 11.430500 |
CircGradBasedCorrMaskAngle (2) | -37.551400 |
CircGradBasedCorrMaskAngle (3) | 14.023700 |
CircGradBasedCorrMaskAngle (5) | -23.090200 |
CircGradBasedCorrMaskAngle (6) | 0.000000 |
CircGradBasedCorrMaskAngle | 34.870100 |
CircGradBasedCorrMaskBottom (1) | 0.157103 |
CircGradBasedCorrMaskBottom (2) | 0.262921 |
CircGradBasedCorrMaskBottom (3) | 0.283159 |
CircGradBasedCorrMaskBottom (4) | 0.470338 |
CircGradBasedCorrMaskBottom (5) | 0.517963 |
CircGradBasedCorrMaskBottom (6) | 0.194134 |
CircGradBasedCorrMaskBottom (7) | 0.048115 |
CircGradBasedCorrMaskBottom | 0.418581 |
CircGradBasedCorrMaskFeather (4) | +100 |
CircGradBasedCorrMaskFeather | +80 |
CircGradBasedCorrMaskFlipped | true |
CircGradBasedCorrMaskLeft (1) | 0.670228 |
CircGradBasedCorrMaskLeft (2) | 0.629859 |
CircGradBasedCorrMaskLeft (3) | 0.321939 |
CircGradBasedCorrMaskLeft (4) | 0.445584 |
CircGradBasedCorrMaskLeft (5) | -0.690040 |
CircGradBasedCorrMaskLeft (6) | 0.546557 |
CircGradBasedCorrMaskLeft (7) | 0.333333 |
CircGradBasedCorrMaskLeft | 0.415337 |
CircGradBasedCorrMaskMidpoint | +50 |
CircGradBasedCorrMaskRight (1) | 0.774840 |
CircGradBasedCorrMaskRight (2) | 0.721807 |
CircGradBasedCorrMaskRight (3) | 0.366917 |
CircGradBasedCorrMaskRight (4) | 0.569543 |
CircGradBasedCorrMaskRight (5) | 0.632065 |
CircGradBasedCorrMaskRight (6) | 1.388910 |
CircGradBasedCorrMaskRight (7) | 0.669753 |
CircGradBasedCorrMaskRight | 0.473551 |
CircGradBasedCorrMaskRoundness | 0 |
CircGradBasedCorrMaskTop (1) | 0.109262 |
CircGradBasedCorrMaskTop (2) | 0.242722 |
CircGradBasedCorrMaskTop (3) | 0.103598 |
CircGradBasedCorrMaskTop (4) | 0.399221 |
CircGradBasedCorrMaskTop (5) | 0.274028 |
CircGradBasedCorrMaskTop (6) | -0.141708 |
CircGradBasedCorrMaskTop (7) | -0.049720 |
CircGradBasedCorrMaskTop | 0.361863 |
CircGradBasedCorrMaskValue | 1.000000 |
CircGradBasedCorrMaskVersion | +2 |
CircGradBasedCorrMaskWhat | Mask/CircularGradient |
CircGradBasedCorrMoire | 0.000000 |
CircGradBasedCorrSaturation (15) | -0.100000 |
CircGradBasedCorrSaturation (7) | -0.200000 |
CircGradBasedCorrSaturation | 0.000000 |
CircGradBasedCorrShadows2012 (1) | -0.200000 |
CircGradBasedCorrShadows2012 (6) | -0.100000 |
CircGradBasedCorrShadows2012 (7) | -0.300000 |
CircGradBasedCorrShadows2012 | 0.100000 |
CircGradBasedCorrSharpness (6) | -1.000000 |
CircGradBasedCorrSharpness | 0.000000 |
CircGradBasedCorrTemperature | 0.000000 |
CircGradBasedCorrTint | 0.000000 |
CircGradBasedCorrWhat | Correction |
CircleOfConfusion | 0.030 mm |
Clarity2012 | -20 |
ColorComponents | 3 |
ColorNoiseReduction | 0 |
ColorSpace | sRGB |
Contrast | Normal |
Contrast2012 | +15 |
ConvertToGrayscale | True |
Copyright | jovan©radjenovic 2014 |
CopyrightFlag | True |
CopyrightNotice | jovan©radjenovic 2014 |
CreateDate | 2014:02:08 19:20:32 |
Creator | Jovan "Photojovan" Radjenovic |
CreatorAddress | Sandeidgata 46 |
CreatorCity | Stavanger |
CreatorCountry | Norway |
CreatorPostalCode | 4014 |
CreatorRegion | Rogland |
CreatorTool | Adobe Photoshop Lightroom 5.3 (Windows) |
CreatorWorkEmail | artist@photojovan.com |
CreatorWorkTelephone | +47 99 89 00 86 |
CreatorWorkURL | www.photojovan.com |
CustomRendered | Normal |
DateCreated (1) | 2014:02:08 |
DateCreated | 2014:02:08 19:20:32.009 |
DateTimeOriginal | 2014:02:08 19:20:32 |
DigitalZoomRatio | 1 |
DOF | 1.50 m (4.10 - 5.59 m) |
Exposure2012 | 0.00 |
ExposureCompensation | 0 |
ExposureMode | Manual |
ExposureProgram | Manual |
ExposureTime | 1/250 |
Flash | Off, Did not fire |
FNumber | 8.0 |
FocalLength | 85.0 mm |
FocalLength35efl | 85.0 mm (35 mm equivalent: 85.0 mm) |
FocalLengthIn35mmFormat | 85 mm |
Format | image/jpeg |
FOV | 23.9 deg |
GainControl | None |
GradientBasedCorrActive | true |
GradientBasedCorrAmount | 1.000000 |
GradientBasedCorrBrightness | 0.000000 |
GradientBasedCorrClarity2012 | -0.200000 |
GradientBasedCorrContrast2012 | 0.000000 |
GradientBasedCorrDefringe | 0.000000 |
GradientBasedCorrExposure2012 | -0.050000 |
GradientBasedCorrHighlights2012 | -0.300000 |
GradientBasedCorrHue | 0.000000 |
GradientBasedCorrLuminanceNoise | 0.000000 |
GradientBasedCorrMaskFullX | 0.502171 |
GradientBasedCorrMaskFullY | -0.000752 |
GradientBasedCorrMaskValue | 1.000000 |
GradientBasedCorrMaskWhat | Mask/Gradient |
GradientBasedCorrMaskZeroX | 0.502171 |
GradientBasedCorrMaskZeroY | 0.178853 |
GradientBasedCorrMoire | 0.000000 |
GradientBasedCorrSaturation (1) | -0.100000 |
GradientBasedCorrSaturation | 0.000000 |
GradientBasedCorrShadows2012 | -0.200000 |
GradientBasedCorrSharpness | 0.000000 |
GradientBasedCorrTemperature | 0.000000 |
GradientBasedCorrTint | 0.000000 |
GradientBasedCorrWhat | Correction |
GrainAmount | 0 |
GrayMixerAqua | 0 |
GrayMixerBlue | 0 |
GrayMixerGreen | 0 |
GrayMixerMagenta | 0 |
GrayMixerOrange | 0 |
GrayMixerPurple | 0 |
GrayMixerRed | 0 |
GrayMixerYellow | +40 |
GreenHue | 0 |
GreenSaturation | 0 |
HasCrop | False |
HasSettings | True |
Highlights2012 | +25 |
HyperfocalDistance | 30.06 m |
ImageHeight | 1024 |
ImageNumber | 12155 |
ImageSize | 548x1024 |
ImageWidth | 548 |
IncrementalTemperature | +8 |
IncrementalTint | 0 |
ISO | 100 |
Label | Lila |
Lens | 85.0 mm f/1.4 |
LensID (1) | 174 |
LensID | AF-S Nikkor 85mm f/1.4G |
LensInfo | 85mm f/1.4 |
LensManualDistortionAmount | 0 |
LensModel | 85.0 mm f/1.4 |
LensProfileEnable | 0 |
LensProfileSetup | LensDefaults |
LightSource | Unknown |
LightValue | 14.0 |
LuminanceSmoothing | 0 |
Make | NIKON CORPORATION |
Marked | True |
MaxApertureValue | 1.4 |
Megapixels | 0.561 |
MeteringMode | Multi-segment |
Model | NIKON D800 |
ModifyDate (1) | 2014:02:12 23:58:11+01:00 |
ModifyDate | 2014:02:12 23:58:11 |
ParametricDarks | +5 |
ParametricHighlights | 0 |
ParametricHighlightSplit | 75 |
ParametricLights | +5 |
ParametricMidtoneSplit | 50 |
ParametricShadows | +5 |
ParametricShadowSplit | 25 |
PerspectiveAspect | 0 |
PerspectiveHorizontal | 0 |
PerspectiveRotate | 0.0 |
PerspectiveScale | 100 |
PerspectiveUpright | 0 |
PerspectiveVertical | 0 |
PostCropVignetteAmount | 0 |
ProcessVersion | 6.7 |
ProfileDescription | sRGB IEC61966-2.1 |
Rating | 5 |
RedHue | 0 |
RedSaturation | 0 |
Rights | jovan©radjenovic 2014 |
Saturation | Normal |
ScaleFactor35efl | 1.0 |
SceneCaptureType | Standard |
SceneType | Directly photographed |
SensingMethod | One-chip color area |
SensitivityType | Recommended Exposure Index |
SerialNumber | 6027199 |
Shadows2012 | 0 |
ShadowTint | 0 |
SharpenDetail | 25 |
SharpenEdgeMasking | 0 |
SharpenRadius | +1.0 |
Sharpness (1) | 0 |
Sharpness | Normal |
ShutterSpeed | 1/250 |
ShutterSpeedValue | 1/250 |
Software | Adobe Photoshop Lightroom 5.3 (Windows) |
SplitToningBalance | +70 |
SplitToningHighlightHue | 240 |
SplitToningHighlightSaturation | 14 |
SplitToningShadowHue | 40 |
SplitToningShadowSaturation | 5 |
SubjectDistanceRange | Unknown |
ToneCurveName2012 | Linear |
ToneCurvePV2012 | 0, 0, 255, 255 |
ToneCurvePV2012Blue | 0, 0, 255, 255 |
ToneCurvePV2012Green | 0, 0, 255, 255 |
ToneCurvePV2012Red | 0, 0, 255, 255 |
URL | http://www.regeringen.se/content/1/c4/26/85/146cffc2.pdf |
UsageTerms | jovan©radjenovic 2014 |
Version | 8.3 |
VignetteAmount | 0 |
WebStatement | http://www.regeringen.se/content/1/c4/26/85/146cffc2.pdf |
WhiteBalance (1) | Custom |
WhiteBalance | Auto |
Whites2012 | +25 |
Writer-Editor | Jovan "Photojovan" Radjenovic |